BEGIN:VCALENDAR
VERSION:2.0
PRODID:-//NH Audubon - ECPv6.15.11//NONSGML v1.0//EN
CALSCALE:GREGORIAN
METHOD:PUBLISH
X-WR-CALNAME:NH Audubon
X-ORIGINAL-URL:https://nhaudubon.org
X-WR-CALDESC:Events for NH Audubon
REFRESH-INTERVAL;VALUE=DURATION:PT1H
X-Robots-Tag:noindex
X-PUBLISHED-TTL:PT1H
BEGIN:VTIMEZONE
TZID:America/New_York
BEGIN:DAYLIGHT
TZOFFSETFROM:-0500
TZOFFSETTO:-0400
TZNAME:EDT
DTSTART:20220313T070000
END:DAYLIGHT
BEGIN:STANDARD
TZOFFSETFROM:-0400
TZOFFSETTO:-0500
TZNAME:EST
DTSTART:20221106T060000
END:STANDARD
BEGIN:DAYLIGHT
TZOFFSETFROM:-0500
TZOFFSETTO:-0400
TZNAME:EDT
DTSTART:20230312T070000
END:DAYLIGHT
BEGIN:STANDARD
TZOFFSETFROM:-0400
TZOFFSETTO:-0500
TZNAME:EST
DTSTART:20231105T060000
END:STANDARD
BEGIN:DAYLIGHT
TZOFFSETFROM:-0500
TZOFFSETTO:-0400
TZNAME:EDT
DTSTART:20240310T070000
END:DAYLIGHT
BEGIN:STANDARD
TZOFFSETFROM:-0400
TZOFFSETTO:-0500
TZNAME:EST
DTSTART:20241103T060000
END:STANDARD
END:VTIMEZONE
BEGIN:VEVENT
DTSTART;TZID=America/New_York:20230819T090000
DTEND;TZID=America/New_York:20230819T103000
DTSTAMP:20260421T175303
CREATED:20230719T194829Z
LAST-MODIFIED:20230725T134238Z
UID:10002098-1692435600-1692441000@nhaudubon.org
SUMMARY:Weekly Meet the Locals Program\, Wildflower Identification Walk - August 19
DESCRIPTION:Saturdays: July 22 and every week following from August 5 – September 9\, 2023. \nLocation: Hebron Wildlife Sanctuary\, please meet at Ash Cottage. \nOpen new realms each week as our Lead Naturalist helps participants of all ages focus their senses on different fascinating elements of their surroundings such as: birds\, trees\, ferns\, wildflowers\, and more. Limited pairs of binoculars are available for use. Participants are encouraged to bring their own binoculars and/or field guides for further exploration. \nRSVP recommended. \nThis program will happen rain or shine (except in the case of thunderstorms).
URL:https://nhaudubon.org/event/weekly-meet-the-locals-wildflower-identification-walk-08-19-2023/
LOCATION:Ash Cottage\, 50 North Shore Road\, Hebron\, NH\, 03241\, United States
ATTACH;FMTTYPE=image/jpeg:https://nhaudubon.org/wp-content/uploads/wildflower-sq.jpg
ORGANIZER;CN="Devin Guilfoyle":MAILTO:dguilfoyle@nhaudubon.org
END:VEVENT
BEGIN:VEVENT
DTSTART;TZID=America/New_York:20230819T130000
DTEND;TZID=America/New_York:20230819T150000
DTSTAMP:20260421T175303
CREATED:20230719T202815Z
LAST-MODIFIED:20230725T134328Z
UID:10002105-1692450000-1692457200@nhaudubon.org
SUMMARY:Weekly Naturally Curious Family Program\, Ecosystem Interactions - August 19
DESCRIPTION:Saturdays: July 22 and every week following from August 5 – September 9\, 2023. \nLocation: Paradise Point Nature Center\, please meet on the front porch. \nExplore and learn about local ecosystems and wildlife through weekly family-focused programs with the Lead Naturalist. Meet at the Paradise Point Nature Center front porch to head out exploring and playing nature-themed games on topics such as: animal signs\, reptiles and amphibians\, decomposers\, wetland critters\, and more. Suitable for families with children ages 8 and up. \nRSVP recommended (see below). \nThis program will happen rain or shine (except in the case of thunderstorms).
URL:https://nhaudubon.org/event/weekly-naturally-curious-family-program-08-19-2023/
LOCATION:Paradise Point Nature Center\, 290 Northshore Road\, Hebron\, 03241\, United States
ATTACH;FMTTYPE=image/jpeg:https://nhaudubon.org/wp-content/uploads/newfound-entrance-e1689797740701.jpg
ORGANIZER;CN="Devin Guilfoyle":MAILTO:dguilfoyle@nhaudubon.org
END:VEVENT
END:VCALENDAR