BEGIN:VCALENDAR
VERSION:2.0
PRODID:-//NH Audubon - ECPv6.15.11//NONSGML v1.0//EN
CALSCALE:GREGORIAN
METHOD:PUBLISH
X-WR-CALNAME:NH Audubon
X-ORIGINAL-URL:https://nhaudubon.org
X-WR-CALDESC:Events for NH Audubon
REFRESH-INTERVAL;VALUE=DURATION:PT1H
X-Robots-Tag:noindex
X-PUBLISHED-TTL:PT1H
BEGIN:VTIMEZONE
TZID:America/New_York
BEGIN:DAYLIGHT
TZOFFSETFROM:-0500
TZOFFSETTO:-0400
TZNAME:EDT
DTSTART:20220313T070000
END:DAYLIGHT
BEGIN:STANDARD
TZOFFSETFROM:-0400
TZOFFSETTO:-0500
TZNAME:EST
DTSTART:20221106T060000
END:STANDARD
BEGIN:DAYLIGHT
TZOFFSETFROM:-0500
TZOFFSETTO:-0400
TZNAME:EDT
DTSTART:20230312T070000
END:DAYLIGHT
BEGIN:STANDARD
TZOFFSETFROM:-0400
TZOFFSETTO:-0500
TZNAME:EST
DTSTART:20231105T060000
END:STANDARD
BEGIN:DAYLIGHT
TZOFFSETFROM:-0500
TZOFFSETTO:-0400
TZNAME:EDT
DTSTART:20240310T070000
END:DAYLIGHT
BEGIN:STANDARD
TZOFFSETFROM:-0400
TZOFFSETTO:-0500
TZNAME:EST
DTSTART:20241103T060000
END:STANDARD
END:VTIMEZONE
BEGIN:VEVENT
DTSTART;TZID=America/New_York:20230729T080000
DTEND;TZID=America/New_York:20230729T093000
DTSTAMP:20260421T231733
CREATED:20230616T170709Z
LAST-MODIFIED:20230616T170709Z
UID:10002050-1690617600-1690623000@nhaudubon.org
SUMMARY:Birding Walk at Massabesic Center
DESCRIPTION:Join NH Audubon for a birding walk along the trails at Massabesic Center in Auburn. \nThis is an informal birding walk that begins at the Center and explores the trails with local birder\, Joe Mahoney. All ages and skill levels of birders are welcome. If you are new to birding\, come and learn the basics! If you are an avid birder\, come to learn new techniques\, network with other birders\, or share your expertise with the group. \nBinocular rental included with ticket. Please dress for the weather\, with sturdy shoes. Expect to walk between 1-2 miles over mostly flat\, but uneven trails through grassy and wooded terrain. Trails may be soggy or muddy in the rainy season. \nCost:\n$8 for NH Audubon Members\n$10 for non-members (Join or renew your membership today! Not sure of your membership status? Email our member services department or call (603) 224-9909 x310.) \nSpace is limited\, so registration is required by Friday\, July 28th.  \nTicket purchase will generate a QR code and a printable ticket\, however check-in is done via sign-up list.  No hard-ticket copies will be required. Save the tree! \nPhoto: Red-bellied Woodpecker by Pam Hunt
URL:https://nhaudubon.org/event/birding-walk-at-massabesic-center-43/
LOCATION:Massabesic Center\, 26 Audubon Way\, Auburn\, NH\, United States
CATEGORIES:Bird Walk,Featured,Nature Walk
ATTACH;FMTTYPE=image/gif:https://nhaudubon.org/wp-content/uploads/RBWO-m5-E-Haven-CT-11-Oct-15-sm-267x300-1.gif
ORGANIZER;CN="Slater Roosa":MAILTO:sroosa@nhaudubon.org
END:VEVENT
BEGIN:VEVENT
DTSTART;TZID=America/New_York:20230729T090000
DTEND;TZID=America/New_York:20230729T150000
DTSTAMP:20260421T231733
CREATED:20230501T214840Z
LAST-MODIFIED:20230501T215010Z
UID:10001411-1690621200-1690642800@nhaudubon.org
SUMMARY:Concord NH Butterfly Survey 2023
DESCRIPTION:Join us for our first annual NH Butterfly Survey! \nNew Hampshire Audubon is partnering with New Hampshire Fish and Game (NHFG) to collect long-term data on butterflies in the Concord region and beyond. Sightings will provide valuable data on how species ranges are changing over time. Your data will help support butterfly conservation across the state. \nNHFG and partners will go in the field to learn more about the butterflies that call New Hampshire home. Our series of online and field training sessions wrapped up and it’s time for the butterfly survey. All are welcome for this amazing opportunity to learn and participate in butterfly conservation. \nJoin us as we conduct the first annual Concord NH Butterfly Survey. These surveys are part of a nationwide effort to track butterflies through the North American Butterfly Association. These surveys provide insight into how habitat and weather changes affect butterfly populations. Together we can help track New Hampshire’s butterflies and make a difference in their conservation. \nMeet at McLane Center in Concord. \nQuestions? Please contact Diane De Luca.
URL:https://nhaudubon.org/event/concord-nh-butterfly-survey-2023/
LOCATION:McLane Center\, 84 Silk Farm Road\, Concord\, NH\, 03301\, United States
CATEGORIES:Butterfly Monitoring,Pollinators,Webinar
ATTACH;FMTTYPE=image/jpeg:https://nhaudubon.org/wp-content/uploads/NH-Butterfly-Monitoring-icon-e1676492077784.jpg
ORGANIZER;CN="Diane De Luca":MAILTO:ddeluca@nhaudubon.org
END:VEVENT
END:VCALENDAR