BEGIN:VCALENDAR
VERSION:2.0
PRODID:-//NH Audubon - ECPv6.15.11//NONSGML v1.0//EN
CALSCALE:GREGORIAN
METHOD:PUBLISH
X-WR-CALNAME:NH Audubon
X-ORIGINAL-URL:https://nhaudubon.org
X-WR-CALDESC:Events for NH Audubon
REFRESH-INTERVAL;VALUE=DURATION:PT1H
X-Robots-Tag:noindex
X-PUBLISHED-TTL:PT1H
BEGIN:VTIMEZONE
TZID:America/New_York
BEGIN:DAYLIGHT
TZOFFSETFROM:-0500
TZOFFSETTO:-0400
TZNAME:EDT
DTSTART:20220313T070000
END:DAYLIGHT
BEGIN:STANDARD
TZOFFSETFROM:-0400
TZOFFSETTO:-0500
TZNAME:EST
DTSTART:20221106T060000
END:STANDARD
BEGIN:DAYLIGHT
TZOFFSETFROM:-0500
TZOFFSETTO:-0400
TZNAME:EDT
DTSTART:20230312T070000
END:DAYLIGHT
BEGIN:STANDARD
TZOFFSETFROM:-0400
TZOFFSETTO:-0500
TZNAME:EST
DTSTART:20231105T060000
END:STANDARD
BEGIN:DAYLIGHT
TZOFFSETFROM:-0500
TZOFFSETTO:-0400
TZNAME:EDT
DTSTART:20240310T070000
END:DAYLIGHT
BEGIN:STANDARD
TZOFFSETFROM:-0400
TZOFFSETTO:-0500
TZNAME:EST
DTSTART:20241103T060000
END:STANDARD
END:VTIMEZONE
BEGIN:VEVENT
DTSTART;TZID=America/New_York:20230719T110000
DTEND;TZID=America/New_York:20230719T170000
DTSTAMP:20260421T213234
CREATED:20230321T203419Z
LAST-MODIFIED:20230622T180447Z
UID:10002060-1689764400-1689786000@nhaudubon.org
SUMMARY:A Garden Story Photography Exhibit
DESCRIPTION:Kate Osgood’s photography documents A Garden Story – The pollinator garden at the McLane Center\, taking us through the life cycle of the garden\, from buds to birds and all of the changes\, and visitors\, in between. \nThere will be an artists reception on April 11\, from 4-6pm. \nA volunteer at the McLane pollinator garden\, Kate loves to document its beauty and changes through her photography. A lifelong lover of nature\, she has shown this love through her work as a landscape architect and through her photography. She studied botany at UNH and landscape architecture at UCLA and is licensed in both CA and NH. Having a keen interest in using native plants in the built environment\, volunteering at the pollinator garden is a perfect fit both to get away from the computer and to experience the life cycles of the plants first hand. \n“I have long been an admirer of the pollinator garden program of the NH Audubon Society and hopefully this photography collection will inspire folks to explore this program and create a garden at their own homes.” \nFor more of Kate Osgood’s photography\, please see her Instagram page: https://www.instagram.com/kateosgooddesigns/
URL:https://nhaudubon.org/event/a-garden-story-photography-exhibit/2023-07-19/
LOCATION:McLane Center\, 84 Silk Farm Road\, Concord\, NH\, 03301\, United States
CATEGORIES:Art Exhibit,Demonstration Garden
ATTACH;FMTTYPE=image/jpeg:https://nhaudubon.org/wp-content/uploads/monarch-Kate-Osgood-e1679430786705.jpg
ORGANIZER;CN="Michelle Varga":MAILTO:mvarga@nhaudubon.org
END:VEVENT
BEGIN:VEVENT
DTSTART;TZID=America/New_York:20230719T180000
DTEND;TZID=America/New_York:20230719T193000
DTSTAMP:20260421T213234
CREATED:20230711T163837Z
LAST-MODIFIED:20230711T191708Z
UID:10002077-1689789600-1689795000@nhaudubon.org
SUMMARY:Bird Trivia Night at Northwoods Brewing July 19
DESCRIPTION:Come out to Northwoods Brewing Company for a night of bird trivia. Join Senior Biologist Chris Martin\, Dyanna Smith\, Parker Schuerman\, and more birds of a feather for this fun event. From Amazing Adaptations to Fun With Mnemonics and everything in between\, belly laughs and learning are a guarantee – there may even be a dance off bonus round! Tickets are $10 with proceeds going to NH Audubon. Teams and individuals encouraged\, prizes for the top three teams. (Plus\, Wednesdays are $5/pint nights!) \nPurchase your tickets here. \nNorthwoods Brewing Company website and directions.
URL:https://nhaudubon.org/event/bird-trivia-night-at-northwoods-brewing-july-19/
LOCATION:NH
ATTACH;FMTTYPE=image/jpeg:https://nhaudubon.org/wp-content/uploads/bird-trivia.jpg
ORGANIZER;CN="Dyanna Smith":MAILTO:dsmith@nhaudubon.org
END:VEVENT
END:VCALENDAR