BEGIN:VCALENDAR
VERSION:2.0
PRODID:-//NH Audubon - ECPv6.15.11//NONSGML v1.0//EN
CALSCALE:GREGORIAN
METHOD:PUBLISH
X-ORIGINAL-URL:https://nhaudubon.org
X-WR-CALDESC:Events for NH Audubon
REFRESH-INTERVAL;VALUE=DURATION:PT1H
X-Robots-Tag:noindex
X-PUBLISHED-TTL:PT1H
BEGIN:VTIMEZONE
TZID:America/New_York
BEGIN:DAYLIGHT
TZOFFSETFROM:-0500
TZOFFSETTO:-0400
TZNAME:EDT
DTSTART:20220313T070000
END:DAYLIGHT
BEGIN:STANDARD
TZOFFSETFROM:-0400
TZOFFSETTO:-0500
TZNAME:EST
DTSTART:20221106T060000
END:STANDARD
BEGIN:DAYLIGHT
TZOFFSETFROM:-0500
TZOFFSETTO:-0400
TZNAME:EDT
DTSTART:20230312T070000
END:DAYLIGHT
BEGIN:STANDARD
TZOFFSETFROM:-0400
TZOFFSETTO:-0500
TZNAME:EST
DTSTART:20231105T060000
END:STANDARD
BEGIN:DAYLIGHT
TZOFFSETFROM:-0500
TZOFFSETTO:-0400
TZNAME:EDT
DTSTART:20240310T070000
END:DAYLIGHT
BEGIN:STANDARD
TZOFFSETFROM:-0400
TZOFFSETTO:-0500
TZNAME:EST
DTSTART:20241103T060000
END:STANDARD
END:VTIMEZONE
BEGIN:VEVENT
DTSTART;TZID=America/New_York:20230711T110000
DTEND;TZID=America/New_York:20230711T170000
DTSTAMP:20260421T194500
CREATED:20230321T203419Z
LAST-MODIFIED:20230622T180447Z
UID:10002055-1689073200-1689094800@nhaudubon.org
SUMMARY:A Garden Story Photography Exhibit
DESCRIPTION:Kate Osgood’s photography documents A Garden Story – The pollinator garden at the McLane Center\, taking us through the life cycle of the garden\, from buds to birds and all of the changes\, and visitors\, in between. \nThere will be an artists reception on April 11\, from 4-6pm. \nA volunteer at the McLane pollinator garden\, Kate loves to document its beauty and changes through her photography. A lifelong lover of nature\, she has shown this love through her work as a landscape architect and through her photography. She studied botany at UNH and landscape architecture at UCLA and is licensed in both CA and NH. Having a keen interest in using native plants in the built environment\, volunteering at the pollinator garden is a perfect fit both to get away from the computer and to experience the life cycles of the plants first hand. \n“I have long been an admirer of the pollinator garden program of the NH Audubon Society and hopefully this photography collection will inspire folks to explore this program and create a garden at their own homes.” \nFor more of Kate Osgood’s photography\, please see her Instagram page: https://www.instagram.com/kateosgooddesigns/
URL:https://nhaudubon.org/event/a-garden-story-photography-exhibit/2023-07-11/
LOCATION:McLane Center\, 84 Silk Farm Road\, Concord\, NH\, 03301\, United States
CATEGORIES:Art Exhibit,Demonstration Garden
ATTACH;FMTTYPE=image/jpeg:https://nhaudubon.org/wp-content/uploads/monarch-Kate-Osgood-e1679430786705.jpg
ORGANIZER;CN="Michelle Varga":MAILTO:mvarga@nhaudubon.org
END:VEVENT
BEGIN:VEVENT
DTSTART;TZID=America/New_York:20230711T190000
DTEND;TZID=America/New_York:20230711T201500
DTSTAMP:20260421T194500
CREATED:20230616T165027Z
LAST-MODIFIED:20230616T165617Z
UID:10002044-1689102000-1689106500@nhaudubon.org
SUMMARY:Nature through the Year in Backyard and Beyond
DESCRIPTION:2023 Red Barn Series\, Newfound Audubon\nNo registration necessary – just come and join us! \nSpeaker: Francie Von Mertens\, Author/Naturalist \nBased on her “Nature Almanac & Calendar\,” Von Mertens will share observations of nature up close. We’re learning that immersion in nature is good for us\, which leads to the question: How can we help wildlife and their world in return? The presentation will keep that in mind while exploring cycles through the seasons. \nPlease park across the street at Ash Cottage. Download a map here. Note that this is now a private residence and there is no bathroom access. \nSpecial thanks to our 2023 Red Barn Series sponsors\, John S. Jordan Design PLLC\, the Hebron Conservation Commission; and to our co-host\, the Newfound Lake Region Association.
URL:https://nhaudubon.org/event/nature-through-the-year-in-backyard-and-beyond/
LOCATION:Red Barn\, 41 North Shore Road\, Hebron\, NH\, United States
CATEGORIES:Red Barn Speaker Series
ATTACH;FMTTYPE=image/jpeg:https://nhaudubon.org/wp-content/uploads/Red-Barn-Series-July-11.Franci-Von-Merten-sm.jpg
ORGANIZER;CN="Anita Fernandez":MAILTO:afernandez@nhaudubon.org
END:VEVENT
END:VCALENDAR