BEGIN:VCALENDAR
VERSION:2.0
PRODID:-//NH Audubon - ECPv6.15.11//NONSGML v1.0//EN
CALSCALE:GREGORIAN
METHOD:PUBLISH
X-WR-CALNAME:NH Audubon
X-ORIGINAL-URL:https://nhaudubon.org
X-WR-CALDESC:Events for NH Audubon
REFRESH-INTERVAL;VALUE=DURATION:PT1H
X-Robots-Tag:noindex
X-PUBLISHED-TTL:PT1H
BEGIN:VTIMEZONE
TZID:America/New_York
BEGIN:DAYLIGHT
TZOFFSETFROM:-0500
TZOFFSETTO:-0400
TZNAME:EDT
DTSTART:20220313T070000
END:DAYLIGHT
BEGIN:STANDARD
TZOFFSETFROM:-0400
TZOFFSETTO:-0500
TZNAME:EST
DTSTART:20221106T060000
END:STANDARD
BEGIN:DAYLIGHT
TZOFFSETFROM:-0500
TZOFFSETTO:-0400
TZNAME:EDT
DTSTART:20230312T070000
END:DAYLIGHT
BEGIN:STANDARD
TZOFFSETFROM:-0400
TZOFFSETTO:-0500
TZNAME:EST
DTSTART:20231105T060000
END:STANDARD
BEGIN:DAYLIGHT
TZOFFSETFROM:-0500
TZOFFSETTO:-0400
TZNAME:EDT
DTSTART:20240310T070000
END:DAYLIGHT
BEGIN:STANDARD
TZOFFSETFROM:-0400
TZOFFSETTO:-0500
TZNAME:EST
DTSTART:20241103T060000
END:STANDARD
END:VTIMEZONE
BEGIN:VEVENT
DTSTART;TZID=America/New_York:20230616T073000
DTEND;TZID=America/New_York:20230616T100000
DTSTAMP:20260421T191345
CREATED:20230206T181715Z
LAST-MODIFIED:20230522T143231Z
UID:10000980-1686900600-1686909600@nhaudubon.org
SUMMARY:Identification and Role of Native and Non-native Shrubs as Habitat for Birds
DESCRIPTION:Each program will be limited to 15 participants with no repeat registrants. This event will be held entirely outdoors and will be held as long as it is not raining. Participants should bring their binoculars and clothing appropriate for the weather conditions at the time of the event (see Pickering Ponds beginner bird walk for directions). \nWednesday\, June 14\, 5:30-8 pm & \nFriday\, June 16\, 7:30-10 am \nat Pickering Ponds trails\, Rochester \nThis program\, by Matt Tarr of UNH Cooperative Extension\, will teach you how to identify the most common native and non-native shrubs that comprise many bird habitats in NH. We will identify each shrub species\, discuss how each species functions as bird habitat\, and which shrubs you want to encourage on your land to benefit birds. We will also be looking and listening for birds (of course!) and sharing our tips for how to identify the birds we encounter during the program. \nContact Matt at Matt.Tarr@unh.edu with any questions. \nAs the event nears\, visit the Seacoast Chapter website http://www.seacoastchapter.org/programs for directions and to sign-up. \nNote: These events replace the June Seacoast Science Center Program. \nFor more information on chapter programs (and cancellations)\, please visit the chapter website.
URL:https://nhaudubon.org/event/shrubs-bird-habitats-2/
LOCATION:NH
CATEGORIES:Chapter Program,Field Trip
ATTACH;FMTTYPE=image/png:https://nhaudubon.org/wp-content/uploads/seacoast-chapter-logo.png
ORGANIZER;CN="Seacoast Chapter":MAILTO:danielhubbard@peoplepc.com
END:VEVENT
BEGIN:VEVENT
DTSTART;TZID=America/New_York:20230616T110000
DTEND;TZID=America/New_York:20230616T170000
DTSTAMP:20260421T191345
CREATED:20230321T203419Z
LAST-MODIFIED:20230622T180447Z
UID:10001393-1686913200-1686934800@nhaudubon.org
SUMMARY:A Garden Story Photography Exhibit
DESCRIPTION:Kate Osgood’s photography documents A Garden Story – The pollinator garden at the McLane Center\, taking us through the life cycle of the garden\, from buds to birds and all of the changes\, and visitors\, in between. \nThere will be an artists reception on April 11\, from 4-6pm. \nA volunteer at the McLane pollinator garden\, Kate loves to document its beauty and changes through her photography. A lifelong lover of nature\, she has shown this love through her work as a landscape architect and through her photography. She studied botany at UNH and landscape architecture at UCLA and is licensed in both CA and NH. Having a keen interest in using native plants in the built environment\, volunteering at the pollinator garden is a perfect fit both to get away from the computer and to experience the life cycles of the plants first hand. \n“I have long been an admirer of the pollinator garden program of the NH Audubon Society and hopefully this photography collection will inspire folks to explore this program and create a garden at their own homes.” \nFor more of Kate Osgood’s photography\, please see her Instagram page: https://www.instagram.com/kateosgooddesigns/
URL:https://nhaudubon.org/event/a-garden-story-photography-exhibit/2023-06-16/
LOCATION:McLane Center\, 84 Silk Farm Road\, Concord\, NH\, 03301\, United States
CATEGORIES:Art Exhibit,Demonstration Garden
ATTACH;FMTTYPE=image/jpeg:https://nhaudubon.org/wp-content/uploads/monarch-Kate-Osgood-e1679430786705.jpg
ORGANIZER;CN="Michelle Varga":MAILTO:mvarga@nhaudubon.org
END:VEVENT
END:VCALENDAR