BEGIN:VCALENDAR
VERSION:2.0
PRODID:-//NH Audubon - ECPv6.15.11//NONSGML v1.0//EN
CALSCALE:GREGORIAN
METHOD:PUBLISH
X-WR-CALNAME:NH Audubon
X-ORIGINAL-URL:https://nhaudubon.org
X-WR-CALDESC:Events for NH Audubon
REFRESH-INTERVAL;VALUE=DURATION:PT1H
X-Robots-Tag:noindex
X-PUBLISHED-TTL:PT1H
BEGIN:VTIMEZONE
TZID:America/New_York
BEGIN:DAYLIGHT
TZOFFSETFROM:-0500
TZOFFSETTO:-0400
TZNAME:EDT
DTSTART:20220313T070000
END:DAYLIGHT
BEGIN:STANDARD
TZOFFSETFROM:-0400
TZOFFSETTO:-0500
TZNAME:EST
DTSTART:20221106T060000
END:STANDARD
BEGIN:DAYLIGHT
TZOFFSETFROM:-0500
TZOFFSETTO:-0400
TZNAME:EDT
DTSTART:20230312T070000
END:DAYLIGHT
BEGIN:STANDARD
TZOFFSETFROM:-0400
TZOFFSETTO:-0500
TZNAME:EST
DTSTART:20231105T060000
END:STANDARD
BEGIN:DAYLIGHT
TZOFFSETFROM:-0500
TZOFFSETTO:-0400
TZNAME:EDT
DTSTART:20240310T070000
END:DAYLIGHT
BEGIN:STANDARD
TZOFFSETFROM:-0400
TZOFFSETTO:-0500
TZNAME:EST
DTSTART:20241103T060000
END:STANDARD
END:VTIMEZONE
BEGIN:VEVENT
DTSTART;TZID=America/New_York:20230521T063000
DTEND;TZID=America/New_York:20230521T093000
DTSTAMP:20260421T210328
CREATED:20230206T193155Z
LAST-MODIFIED:20230206T193505Z
UID:10000986-1684650600-1684661400@nhaudubon.org
SUMMARY:Marsh Birds of World End Pond
DESCRIPTION:World End Pond is one of the top birding hotspots in southeast New Hampshire and it is home to many specialties not easily found elsewhere in the state. At almost 100 acres\, one of the best ways to discover its birdlife is by kayak. Join Kyle Wilmarth as he leads a trip paddling through the pond and marsh. Meet at the boat launch at the end of Theresa Avenue in Salem. \nThis field trip will be limited to 7 participants.  \nVisit the Seacoast Chapter website for event details and to sign up as the event nears.
URL:https://nhaudubon.org/event/marsh-birds-of-world-end-pond/
LOCATION:NH
CATEGORIES:Chapter Field Trip
ATTACH;FMTTYPE=image/png:https://nhaudubon.org/wp-content/uploads/seacoast-chapter-logo.png
ORGANIZER;CN="Seacoast Chapter":MAILTO:danielhubbard@peoplepc.com
END:VEVENT
BEGIN:VEVENT
DTSTART;TZID=America/New_York:20230521T070000
DTEND;TZID=America/New_York:20230521T120000
DTSTAMP:20260421T210328
CREATED:20220223T151126Z
LAST-MODIFIED:20230206T192727Z
UID:10000993-1684652400-1684670400@nhaudubon.org
SUMMARY:BBW Strafford County Farm
DESCRIPTION:With habitat for water birds\, raptors and song birds\, this walk will include the Don Black Trail and the hedgerows around the fields of the conserved property. The walk will last as long as participants choose\, but not beyond noon. Contact: Dan Hubbard at danielhubbard@peoplepc.com or 603-978-0218. \nThis field trip will be limited to 20 participants. Visit the Seacoast Chapter website for event details and to sign up. \nMeet at 7am across from the Stafford County Work Program at 266 County Farm Road. Follow County Farm Road and take a left at the stop sign and then an immediate left to continue along behind the jail to the parking lot across from the entrance to the Strafford County Work Program. \nBeginner Bird Walks (BBW)  \nThe NH Audubon Seacoast Chapter will have five Beginner Bird Walks (BBW) this spring\, 2023. Although these walks are geared with the beginner birder in mind\, birders of all levels of expertise are encouraged to participate and share their experiences. Children are gladly welcome with an adult. Participants should be fully vaccinated and are encouraged to bring binoculars\, water\, insect repellent\, and sunscreen. \n 
URL:https://nhaudubon.org/event/bbw-strafford-county-farm/
LOCATION:NH
CATEGORIES:Chapter Field Trip
ATTACH;FMTTYPE=image/png:https://nhaudubon.org/wp-content/uploads/seacoast-chapter-logo.png
ORGANIZER;CN="Seacoast Chapter":MAILTO:danielhubbard@peoplepc.com
END:VEVENT
BEGIN:VEVENT
DTSTART;TZID=America/New_York:20230521T070000
DTEND;TZID=America/New_York:20230521T120000
DTSTAMP:20260421T210328
CREATED:20230502T121049Z
LAST-MODIFIED:20230502T125027Z
UID:10001412-1684652400-1684670400@nhaudubon.org
SUMMARY:Annual Surry Birds and Blooms Walk
DESCRIPTION:Sunday\, May 21\, 2023 from 7:00 am – 12:00 pm \nJoin local birder Dave Hoitt and wildflower enthusiast Wendy Ward on this moderate walk looking for birds and wildflowers in open field\, wetland\, and woodland habitats. Meet at the Surry Town Hall parking lot at 7am. The trip should end by noon. Bring field guides\, binoculars\, drink\, snack and bug/tick repellant. Cost: free. \nFor more info contact weward0@yahoo.com or 603-352-0987 (Dave). \n  \nPhoto: Clay-colored Sparrow\, by Steve Mirick.
URL:https://nhaudubon.org/event/annual-surry-birds-and-blooms-walk/
LOCATION:NH
CATEGORIES:Bird Count,Chapter Field Trip,Field Trip
ATTACH;FMTTYPE=image/jpeg:https://nhaudubon.org/wp-content/uploads/Clay-colored-sparrow-Steve-Mirick.jpg
END:VEVENT
BEGIN:VEVENT
DTSTART;TZID=America/New_York:20230521T110000
DTEND;TZID=America/New_York:20230521T170000
DTSTAMP:20260421T210328
CREATED:20230228T163659Z
LAST-MODIFIED:20230510T184025Z
UID:10001336-1684666800-1684688400@nhaudubon.org
SUMMARY:Love Our Planet Art Exhibit
DESCRIPTION:The Manchester Artists Association presents Love Our Planet – a Spring exhibit to celebrate Earth Day with art that showcases the beauty of the natural world and the wondrous wildlife that share this planet with us. To help support environmental protection and the NH Audubon mission\, thirteen talented artists will be exhibiting over 30 original pieces in various mediums including oils\, watercolors\, acrylics\, pastel\, mixed media\, pen and ink\, pencil\, and photography. \nThe Manchester Artists Association (MAA) was formed in 1966 to provide fellowship\, learning and inspiration to artists who are engaged or interested in the pursuit of fine art. \nLove Our Planet has been extended and will now be on view at the Massabesic Center from Wednesday\, March 1\, 2023 through Thursday\, June 1. All works are available for immediate purchase\, with 30% of the proceeds going to support the mission of NH Audubon.  \nFeatured Artists: \n\nSharon Allen\nJames O’Donnell\nVirginia Demers\nHoward Muscott\nRollande Rousselle\nRandy Snyder\nJohn Webster\nJudy Gelinas\nPaul Ducret\nTherese DesRosiers\nNoella Breault\nJohn Letson\nSusan Snay\n\nPlease note the viewing room may be closed to the public during private events and education presentations. 
URL:https://nhaudubon.org/event/love-our-planet-art-exhibit/2023-05-21/
LOCATION:Massabesic Center\, 26 Audubon Way\, Auburn\, NH\, United States
CATEGORIES:Art Exhibit
ATTACH;FMTTYPE=image/png:https://nhaudubon.org/wp-content/uploads/puffins-Manchester-Art-Associaiton.png
ORGANIZER;CN="Kimmie Whiteman":MAILTO:kwhiteman@nhaudubon.org
END:VEVENT
END:VCALENDAR