BEGIN:VCALENDAR
VERSION:2.0
PRODID:-//NH Audubon - ECPv6.15.11//NONSGML v1.0//EN
CALSCALE:GREGORIAN
METHOD:PUBLISH
X-ORIGINAL-URL:https://nhaudubon.org
X-WR-CALDESC:Events for NH Audubon
REFRESH-INTERVAL;VALUE=DURATION:PT1H
X-Robots-Tag:noindex
X-PUBLISHED-TTL:PT1H
BEGIN:VTIMEZONE
TZID:America/New_York
BEGIN:DAYLIGHT
TZOFFSETFROM:-0500
TZOFFSETTO:-0400
TZNAME:EDT
DTSTART:20220313T070000
END:DAYLIGHT
BEGIN:STANDARD
TZOFFSETFROM:-0400
TZOFFSETTO:-0500
TZNAME:EST
DTSTART:20221106T060000
END:STANDARD
BEGIN:DAYLIGHT
TZOFFSETFROM:-0500
TZOFFSETTO:-0400
TZNAME:EDT
DTSTART:20230312T070000
END:DAYLIGHT
BEGIN:STANDARD
TZOFFSETFROM:-0400
TZOFFSETTO:-0500
TZNAME:EST
DTSTART:20231105T060000
END:STANDARD
BEGIN:DAYLIGHT
TZOFFSETFROM:-0500
TZOFFSETTO:-0400
TZNAME:EDT
DTSTART:20240310T070000
END:DAYLIGHT
BEGIN:STANDARD
TZOFFSETFROM:-0400
TZOFFSETTO:-0500
TZNAME:EST
DTSTART:20241103T060000
END:STANDARD
END:VTIMEZONE
BEGIN:VEVENT
DTSTART;TZID=America/New_York:20230506T070000
DTEND;TZID=America/New_York:20230506T100000
DTSTAMP:20260421T211255
CREATED:20220223T151006Z
LAST-MODIFIED:20230206T192039Z
UID:10000991-1683356400-1683367200@nhaudubon.org
SUMMARY:BBW Deer Hill Wildlife Management Area
DESCRIPTION:Bird the varied habitats of the Deer Hill Wildlife Management Area with trip leader  Scott Heron. With 188 species seen on the property\, in the spring Deer Hill can be full of migrating passerines and breeding water birds. Meet at the entrance gate on Pine Road in Brentwood. Contact: Scott Heron at smheron@gmail.com. \nThis field trip will be limited to 25 participants. Visit the Seacoast Chapter website for event details and to sign up. \n  \nBeginner Bird Walks (BBW)  \nThe NH Audubon Seacoast Chapter will have five Beginner Bird Walks (BBW) this spring\, 2023. Although these walks are geared with the beginner birder in mind\, birders of all levels of expertise are encouraged to participate and share their experiences. Children are gladly welcome with an adult. Participants should be fully vaccinated and are encouraged to bring binoculars\, water\, insect repellent\, and sunscreen. \n 
URL:https://nhaudubon.org/event/bbw-deer-hill-wildlife-management-area/
LOCATION:NH
CATEGORIES:Chapter Field Trip
ATTACH;FMTTYPE=image/png:https://nhaudubon.org/wp-content/uploads/seacoast-chapter-logo.png
ORGANIZER;CN="Seacoast Chapter":MAILTO:danielhubbard@peoplepc.com
END:VEVENT
END:VCALENDAR