BEGIN:VCALENDAR
VERSION:2.0
PRODID:-//NH Audubon - ECPv6.15.11//NONSGML v1.0//EN
CALSCALE:GREGORIAN
METHOD:PUBLISH
X-WR-CALNAME:NH Audubon
X-ORIGINAL-URL:https://nhaudubon.org
X-WR-CALDESC:Events for NH Audubon
REFRESH-INTERVAL;VALUE=DURATION:PT1H
X-Robots-Tag:noindex
X-PUBLISHED-TTL:PT1H
BEGIN:VTIMEZONE
TZID:America/New_York
BEGIN:DAYLIGHT
TZOFFSETFROM:-0500
TZOFFSETTO:-0400
TZNAME:EDT
DTSTART:20220313T070000
END:DAYLIGHT
BEGIN:STANDARD
TZOFFSETFROM:-0400
TZOFFSETTO:-0500
TZNAME:EST
DTSTART:20221106T060000
END:STANDARD
BEGIN:DAYLIGHT
TZOFFSETFROM:-0500
TZOFFSETTO:-0400
TZNAME:EDT
DTSTART:20230312T070000
END:DAYLIGHT
BEGIN:STANDARD
TZOFFSETFROM:-0400
TZOFFSETTO:-0500
TZNAME:EST
DTSTART:20231105T060000
END:STANDARD
BEGIN:DAYLIGHT
TZOFFSETFROM:-0500
TZOFFSETTO:-0400
TZNAME:EDT
DTSTART:20240310T070000
END:DAYLIGHT
BEGIN:STANDARD
TZOFFSETFROM:-0400
TZOFFSETTO:-0500
TZNAME:EST
DTSTART:20241103T060000
END:STANDARD
END:VTIMEZONE
BEGIN:VEVENT
DTSTART;TZID=America/New_York:20230414T110000
DTEND;TZID=America/New_York:20230414T170000
DTSTAMP:20260422T030636
CREATED:20230228T163659Z
LAST-MODIFIED:20230510T184025Z
UID:10001310-1681470000-1681491600@nhaudubon.org
SUMMARY:Love Our Planet Art Exhibit
DESCRIPTION:The Manchester Artists Association presents Love Our Planet – a Spring exhibit to celebrate Earth Day with art that showcases the beauty of the natural world and the wondrous wildlife that share this planet with us. To help support environmental protection and the NH Audubon mission\, thirteen talented artists will be exhibiting over 30 original pieces in various mediums including oils\, watercolors\, acrylics\, pastel\, mixed media\, pen and ink\, pencil\, and photography. \nThe Manchester Artists Association (MAA) was formed in 1966 to provide fellowship\, learning and inspiration to artists who are engaged or interested in the pursuit of fine art. \nLove Our Planet has been extended and will now be on view at the Massabesic Center from Wednesday\, March 1\, 2023 through Thursday\, June 1. All works are available for immediate purchase\, with 30% of the proceeds going to support the mission of NH Audubon.  \nFeatured Artists: \n\nSharon Allen\nJames O’Donnell\nVirginia Demers\nHoward Muscott\nRollande Rousselle\nRandy Snyder\nJohn Webster\nJudy Gelinas\nPaul Ducret\nTherese DesRosiers\nNoella Breault\nJohn Letson\nSusan Snay\n\nPlease note the viewing room may be closed to the public during private events and education presentations. 
URL:https://nhaudubon.org/event/love-our-planet-art-exhibit/2023-04-14/
LOCATION:Massabesic Center\, 26 Audubon Way\, Auburn\, NH\, United States
CATEGORIES:Art Exhibit
ATTACH;FMTTYPE=image/png:https://nhaudubon.org/wp-content/uploads/puffins-Manchester-Art-Associaiton.png
ORGANIZER;CN="Kimmie Whiteman":MAILTO:kwhiteman@nhaudubon.org
END:VEVENT
BEGIN:VEVENT
DTSTART;TZID=America/New_York:20230414T110000
DTEND;TZID=America/New_York:20230414T170000
DTSTAMP:20260422T030636
CREATED:20230321T203419Z
LAST-MODIFIED:20230622T180447Z
UID:10001357-1681470000-1681491600@nhaudubon.org
SUMMARY:A Garden Story Photography Exhibit
DESCRIPTION:Kate Osgood’s photography documents A Garden Story – The pollinator garden at the McLane Center\, taking us through the life cycle of the garden\, from buds to birds and all of the changes\, and visitors\, in between. \nThere will be an artists reception on April 11\, from 4-6pm. \nA volunteer at the McLane pollinator garden\, Kate loves to document its beauty and changes through her photography. A lifelong lover of nature\, she has shown this love through her work as a landscape architect and through her photography. She studied botany at UNH and landscape architecture at UCLA and is licensed in both CA and NH. Having a keen interest in using native plants in the built environment\, volunteering at the pollinator garden is a perfect fit both to get away from the computer and to experience the life cycles of the plants first hand. \n“I have long been an admirer of the pollinator garden program of the NH Audubon Society and hopefully this photography collection will inspire folks to explore this program and create a garden at their own homes.” \nFor more of Kate Osgood’s photography\, please see her Instagram page: https://www.instagram.com/kateosgooddesigns/
URL:https://nhaudubon.org/event/a-garden-story-photography-exhibit/2023-04-14/
LOCATION:McLane Center\, 84 Silk Farm Road\, Concord\, NH\, 03301\, United States
CATEGORIES:Art Exhibit,Demonstration Garden
ATTACH;FMTTYPE=image/jpeg:https://nhaudubon.org/wp-content/uploads/monarch-Kate-Osgood-e1679430786705.jpg
ORGANIZER;CN="Michelle Varga":MAILTO:mvarga@nhaudubon.org
END:VEVENT
BEGIN:VEVENT
DTSTART;TZID=America/New_York:20230414T170000
DTEND;TZID=America/New_York:20230414T190000
DTSTAMP:20260422T030636
CREATED:20230329T195921Z
LAST-MODIFIED:20230406T200451Z
UID:10001405-1681491600-1681498800@nhaudubon.org
SUMMARY:Summer Camp Open House
DESCRIPTION:Summer Camp Open House \nFriday\, April 14th\, 5:00pm – 7:00pm \nWant to know more about NH Audubon’s summer nature camps? Maybe see some of your friends from last summer? Come to Massabesic Center in Auburn for our Summer Camp Open House!\n\nThis is the perfect opportunity to meet your camp directors (Slater Roosa and Shelby Morelli) and some of our amazing camp staff\, meet our resident reptiles\, and learn more about NH Audubon’s Summer Camp programming. \nCampers who are registered or are thinking about registering for either the Friends of the Eagle camp in Concord or Camp Wildside in Auburn are welcome to join\, as well as their families. \n\n\nShelby gives campers in Concord a tour of the raptor mews.\n\nThe team from Media Power Youth will be on hand to talk about our new week of camp: Conservation Quest! This special week at Massabesic Center is all about nature filmmaking for ages 10-14. \nThe Open House will take place at the Massabesic Center (26 Audubon Way\, Auburn\, NH\, 03032). We will be indoors for our meet and greet\, but our trails\, gardens\, and animal exhibits will be open for you to explore at your leisure. Light snacks and beverages will be available. \nSchedule for the Evening:\n5:00pm – Open House begins\n5:30pm – Mini nature walk with Shelby\n6:00pm – Short presentation from NH Audubon and Media Power Youth\n6:30pm – Animal ambassador meet+greet with Slater\n7:00pm – Farewell until Camp! (or your next visit) \n\n\nSlater holds a baby turtle for campers to see up close during a ponding expedition at Massabesic Center.\n\nCamp families who are members receive a discount and we will have a membership table ready for you to join and register for your camp sessions right on the spot. You can even enter the drawing to win a Media Power Youth camp chair. \n\nJoin us for this fun evening and get ready for summer camp!\nPlease RSVP below if you plan to attend.
URL:https://nhaudubon.org/event/summer-camp-open-house/
LOCATION:Massabesic Center\, 26 Audubon Way\, Auburn\, NH\, United States
CATEGORIES:Nature Camp
ATTACH;FMTTYPE=image/jpeg:https://nhaudubon.org/wp-content/uploads/IMG_0887-rotated-e1680121016582.jpg
ORGANIZER;CN="Slater Roosa":MAILTO:sroosa@nhaudubon.org
END:VEVENT
END:VCALENDAR