BEGIN:VCALENDAR
VERSION:2.0
PRODID:-//NH Audubon - ECPv6.15.11//NONSGML v1.0//EN
CALSCALE:GREGORIAN
METHOD:PUBLISH
X-ORIGINAL-URL:https://nhaudubon.org
X-WR-CALDESC:Events for NH Audubon
REFRESH-INTERVAL;VALUE=DURATION:PT1H
X-Robots-Tag:noindex
X-PUBLISHED-TTL:PT1H
BEGIN:VTIMEZONE
TZID:America/New_York
BEGIN:DAYLIGHT
TZOFFSETFROM:-0500
TZOFFSETTO:-0400
TZNAME:EDT
DTSTART:20220313T070000
END:DAYLIGHT
BEGIN:STANDARD
TZOFFSETFROM:-0400
TZOFFSETTO:-0500
TZNAME:EST
DTSTART:20221106T060000
END:STANDARD
BEGIN:DAYLIGHT
TZOFFSETFROM:-0500
TZOFFSETTO:-0400
TZNAME:EDT
DTSTART:20230312T070000
END:DAYLIGHT
BEGIN:STANDARD
TZOFFSETFROM:-0400
TZOFFSETTO:-0500
TZNAME:EST
DTSTART:20231105T060000
END:STANDARD
BEGIN:DAYLIGHT
TZOFFSETFROM:-0500
TZOFFSETTO:-0400
TZNAME:EDT
DTSTART:20240310T070000
END:DAYLIGHT
BEGIN:STANDARD
TZOFFSETFROM:-0400
TZOFFSETTO:-0500
TZNAME:EST
DTSTART:20241103T060000
END:STANDARD
END:VTIMEZONE
BEGIN:VEVENT
DTSTART;TZID=America/New_York:20230216T170000
DTEND;TZID=America/New_York:20230216T183000
DTSTAMP:20260423T071813
CREATED:20221121T204253Z
LAST-MODIFIED:20221121T204648Z
UID:10001228-1676566800-1676572200@nhaudubon.org
SUMMARY:Photography Workshop at Massabesic Center
DESCRIPTION:Date: February 16th\, 5:00pm-6:30pm \nPrice: $12 for members\, $15 for non-members \nJoin local nature photographer\, Tracy Brunner\, at the Massabesic Center for an evening photo hike along Massabesic Lake. The walk will start at the Center and continue on the trails to photograph the beautiful lakeshore landscapes and the local wildlife. During the workshop\, Tracy will discuss tips for getting the most out of your landscape photographs\, will provide suggestions for camera settings and creative compositions\, and answer your photography questions. \nRecommended Equipment: \n· Camera with spare batteries \n· Comfortable walking shoes \n· Wide\, standard\, or zoom lenses (any will will work) \n· Tripod (optional) \n· Polarizer or neutral density filters (optional) \n  \n  \n  \n  \nPhoto credit: Tracy Brunner
URL:https://nhaudubon.org/event/full-moon-photography-workshop-at-massabesic-center-2/
LOCATION:Massabesic Center\, 26 Audubon Way\, Auburn\, NH\, United States
CATEGORIES:Hands-on workshop,Nature Walk
ATTACH;FMTTYPE=image/jpeg:https://nhaudubon.org/wp-content/uploads/Hummingbird-Tracy-Brunner-e1679074297730.jpg
ORGANIZER;CN="Slater Roosa":MAILTO:sroosa@nhaudubon.org
END:VEVENT
END:VCALENDAR