BEGIN:VCALENDAR
VERSION:2.0
PRODID:-//NH Audubon - ECPv6.15.11//NONSGML v1.0//EN
CALSCALE:GREGORIAN
METHOD:PUBLISH
X-ORIGINAL-URL:https://nhaudubon.org
X-WR-CALDESC:Events for NH Audubon
REFRESH-INTERVAL;VALUE=DURATION:PT1H
X-Robots-Tag:noindex
X-PUBLISHED-TTL:PT1H
BEGIN:VTIMEZONE
TZID:America/New_York
BEGIN:DAYLIGHT
TZOFFSETFROM:-0500
TZOFFSETTO:-0400
TZNAME:EDT
DTSTART:20220313T070000
END:DAYLIGHT
BEGIN:STANDARD
TZOFFSETFROM:-0400
TZOFFSETTO:-0500
TZNAME:EST
DTSTART:20221106T060000
END:STANDARD
BEGIN:DAYLIGHT
TZOFFSETFROM:-0500
TZOFFSETTO:-0400
TZNAME:EDT
DTSTART:20230312T070000
END:DAYLIGHT
BEGIN:STANDARD
TZOFFSETFROM:-0400
TZOFFSETTO:-0500
TZNAME:EST
DTSTART:20231105T060000
END:STANDARD
BEGIN:DAYLIGHT
TZOFFSETFROM:-0500
TZOFFSETTO:-0400
TZNAME:EDT
DTSTART:20240310T070000
END:DAYLIGHT
BEGIN:STANDARD
TZOFFSETFROM:-0400
TZOFFSETTO:-0500
TZNAME:EST
DTSTART:20241103T060000
END:STANDARD
END:VTIMEZONE
BEGIN:VEVENT
DTSTART;TZID=America/New_York:20230211T080000
DTEND;TZID=America/New_York:20230212T170000
DTSTAMP:20260423T071810
CREATED:20230103T204958Z
LAST-MODIFIED:20230103T204958Z
UID:10001250-1676102400-1676221200@nhaudubon.org
SUMMARY:Backyard Winter Bird Survey 2023
DESCRIPTION:Join in the annual Backyard Winter Bird Survey this weekend\, where participants report any bird species visiting their yard and/or feeders in New Hampshire. Watch and count the birds in your yard at any time during the weekend. Report your findings online or by mail. \nFor full details\, visit the New Hampshire Bird Records website. \nIf you cannot do the survey but would like to support it\, make a donation here. \n 
URL:https://nhaudubon.org/event/backyard-winter-bird-survey-2023/
LOCATION:Statewide\, NH
CATEGORIES:Bird Count
ATTACH;FMTTYPE=image/jpeg:https://nhaudubon.org/wp-content/uploads/bluebirds-at-feeder-Len-Medlock.jpg
ORGANIZER;CN="Becky Suomala":MAILTO:mnutter@nhaudubon.org
END:VEVENT
BEGIN:VEVENT
DTSTART;TZID=America/New_York:20230211T090000
DTEND;TZID=America/New_York:20230211T103000
DTSTAMP:20260423T071810
CREATED:20221221T175329Z
LAST-MODIFIED:20221221T175329Z
UID:10000970-1676106000-1676111400@nhaudubon.org
SUMMARY:Birding Walk at Massabesic Center
DESCRIPTION:Join NH Audubon for a birding walk along the trails at Massabesic Center in Auburn. \nThis is an informal birding walk that begins at MAC and explores the trails with local birder\, Joe Mahoney. All ages and skill levels of birders are welcome. If you are new to birding\, come and learn the basics! If you are an avid birder\, come to learn new techniques\, network with other birders\, or share your expertise with the group. \nBinocular rental included with ticket. Please dress for the weather. Expect to walk between 1-2 miles. \nCost: $8 Members/$10 Non-members. Registration is required; please purchase your tickets (below)\, although there are no actual hard-copy tickets. \nPhoto- Red-bellied Woodpecker by Pam Hunt
URL:https://nhaudubon.org/event/birding-walk-at-massabesic-center-28/
LOCATION:Massabesic Center\, 26 Audubon Way\, Auburn\, NH\, United States
CATEGORIES:Nature Walk
ATTACH;FMTTYPE=image/gif:https://nhaudubon.org/wp-content/uploads/RBWO-m5-E-Haven-CT-11-Oct-15-sm-267x300-1.gif
ORGANIZER;CN="Slater Roosa":MAILTO:sroosa@nhaudubon.org
END:VEVENT
END:VCALENDAR