BEGIN:VCALENDAR
VERSION:2.0
PRODID:-//NH Audubon - ECPv6.15.11//NONSGML v1.0//EN
CALSCALE:GREGORIAN
METHOD:PUBLISH
X-WR-CALNAME:NH Audubon
X-ORIGINAL-URL:https://nhaudubon.org
X-WR-CALDESC:Events for NH Audubon
REFRESH-INTERVAL;VALUE=DURATION:PT1H
X-Robots-Tag:noindex
X-PUBLISHED-TTL:PT1H
BEGIN:VTIMEZONE
TZID:America/New_York
BEGIN:DAYLIGHT
TZOFFSETFROM:-0500
TZOFFSETTO:-0400
TZNAME:EDT
DTSTART:20220313T070000
END:DAYLIGHT
BEGIN:STANDARD
TZOFFSETFROM:-0400
TZOFFSETTO:-0500
TZNAME:EST
DTSTART:20221106T060000
END:STANDARD
BEGIN:DAYLIGHT
TZOFFSETFROM:-0500
TZOFFSETTO:-0400
TZNAME:EDT
DTSTART:20230312T070000
END:DAYLIGHT
BEGIN:STANDARD
TZOFFSETFROM:-0400
TZOFFSETTO:-0500
TZNAME:EST
DTSTART:20231105T060000
END:STANDARD
BEGIN:DAYLIGHT
TZOFFSETFROM:-0500
TZOFFSETTO:-0400
TZNAME:EDT
DTSTART:20240310T070000
END:DAYLIGHT
BEGIN:STANDARD
TZOFFSETFROM:-0400
TZOFFSETTO:-0500
TZNAME:EST
DTSTART:20241103T060000
END:STANDARD
END:VTIMEZONE
BEGIN:VEVENT
DTSTART;TZID=America/New_York:20230131T183000
DTEND;TZID=America/New_York:20230131T193000
DTSTAMP:20260422T044010
CREATED:20221213T174131Z
LAST-MODIFIED:20221213T180534Z
UID:10001233-1675189800-1675193400@nhaudubon.org
SUMMARY:Resilient Raptors Webinar
DESCRIPTION:Introducing the Bald Eagle \nIn the first webinar of this year’s Resilient Raptors Webinar Series\, join NH Audubon raptor biologist\, Chris Martin and education specialist\, Willa Coroka as they provide a brief history of Bald Eagles in New Hampshire. Learn how the Bald Eagle came to be a species of concern when a formerly common household chemical threatened to decimate this charismatic species. Chris will discuss the steps that were taken to repair their numbers before introducing current threats to their success. Additional topics will include general bird of prey/raptor anatomy and physiology.  \nTo register for the webinar please click the registration link below: \nhttps://us02web.zoom.us/webinar/register/WN_2_92TqSaSJKAuqVJgbYHKQ \nOnce you have registered\, you will receive a confirmation email. Reminders will be sent to your inbox with the Zoom link 5 days before\, one day before\, and an hour before the actual webinar begins. We hope you enjoy this year’s Resilient Raptors Webinar Series.
URL:https://nhaudubon.org/event/resilient-raptors-webinar-5/
LOCATION:Zoom Link\, United States
CATEGORIES:Resilient Raptors Webinar Series,Webinar
ATTACH;FMTTYPE=application/pdf:https://nhaudubon.org/wp-content/uploads/Website-eagle.pdf
ORGANIZER;CN="Willa":MAILTO:wcoroka@nhaudubon.org
END:VEVENT
END:VCALENDAR