BEGIN:VCALENDAR
VERSION:2.0
PRODID:-//NH Audubon - ECPv6.15.11//NONSGML v1.0//EN
CALSCALE:GREGORIAN
METHOD:PUBLISH
X-ORIGINAL-URL:https://nhaudubon.org
X-WR-CALDESC:Events for NH Audubon
REFRESH-INTERVAL;VALUE=DURATION:PT1H
X-Robots-Tag:noindex
X-PUBLISHED-TTL:PT1H
BEGIN:VTIMEZONE
TZID:America/New_York
BEGIN:DAYLIGHT
TZOFFSETFROM:-0500
TZOFFSETTO:-0400
TZNAME:EDT
DTSTART:20220313T070000
END:DAYLIGHT
BEGIN:STANDARD
TZOFFSETFROM:-0400
TZOFFSETTO:-0500
TZNAME:EST
DTSTART:20221106T060000
END:STANDARD
BEGIN:DAYLIGHT
TZOFFSETFROM:-0500
TZOFFSETTO:-0400
TZNAME:EDT
DTSTART:20230312T070000
END:DAYLIGHT
BEGIN:STANDARD
TZOFFSETFROM:-0400
TZOFFSETTO:-0500
TZNAME:EST
DTSTART:20231105T060000
END:STANDARD
BEGIN:DAYLIGHT
TZOFFSETFROM:-0500
TZOFFSETTO:-0400
TZNAME:EDT
DTSTART:20240310T070000
END:DAYLIGHT
BEGIN:STANDARD
TZOFFSETFROM:-0400
TZOFFSETTO:-0500
TZNAME:EST
DTSTART:20241103T060000
END:STANDARD
END:VTIMEZONE
BEGIN:VEVENT
DTSTART;TZID=America/New_York:20230114T090000
DTEND;TZID=America/New_York:20230114T103000
DTSTAMP:20260422T082037
CREATED:20221221T171454Z
LAST-MODIFIED:20221221T171454Z
UID:10000968-1673686800-1673692200@nhaudubon.org
SUMMARY:Birding Walk at Massabesic Center
DESCRIPTION:Join NH Audubon for a birding walk along the trails at Massabesic Center in Auburn. \nThis is an informal birding walk that begins at MAC and explores the trails with local birder\, Joe Mahoney. All ages and skill levels of birders are welcome. If you are new to birding\, come and learn the basics! If you are an avid birder\, come to learn new techniques\, network with other birders\, or share your expertise with the group. \nBinocular rental included with ticket. Please dress for the weather. Expect to walk between 1-2 miles. \nCost: $8 Members/$10 Non-members. Registration is required; please purchase your tickets (below)\, although there are no actual hard-copy tickets. \nPhoto- Red-bellied Woodpecker by Pam Hunt
URL:https://nhaudubon.org/event/birding-walk-at-massabesic-center-25/
LOCATION:Massabesic Center\, 26 Audubon Way\, Auburn\, NH\, United States
CATEGORIES:Nature Walk
ATTACH;FMTTYPE=image/gif:https://nhaudubon.org/wp-content/uploads/RBWO-m5-E-Haven-CT-11-Oct-15-sm-267x300-1.gif
ORGANIZER;CN="Slater Roosa":MAILTO:sroosa@nhaudubon.org
END:VEVENT
BEGIN:VEVENT
DTSTART;TZID=America/New_York:20230114T090000
DTEND;TZID=America/New_York:20230114T120000
DTSTAMP:20260422T082037
CREATED:20220829T152206Z
LAST-MODIFIED:20220829T152206Z
UID:10001124-1673686800-1673697600@nhaudubon.org
SUMMARY:Birds of the Winter Coast
DESCRIPTION:Join veteran birder and former ornithology instructor Rich Aaronian to look for the birds that make the New Hampshire coast their home during the winter. The trip will start at Hampton Beach State Park and proceed up the coast as we look for loons\, scoters\, mergansers\, grebes\, shorebirds\, and perhaps other specialties such as “white-winged gulls”\, Horned Larks\, and Snow Buntings. Dress warmly in layers and bring water and lunch or snack. \nContact: Rich Aaronian. \nRegistration is limited to 20 and participants should be fully vaccinated. As the event nears\, visit the Seacoast Chapter website for more information and to sign-up.
URL:https://nhaudubon.org/event/birds-of-the-winter-coast/
LOCATION:NH
CATEGORIES:Chapter Field Trip,Field Trip,Nature Walk
ATTACH;FMTTYPE=image/png:https://nhaudubon.org/wp-content/uploads/seacoast-chapter-logo.png
ORGANIZER;CN="Seacoast Chapter":MAILTO:danielhubbard@peoplepc.com
END:VEVENT
END:VCALENDAR