BEGIN:VCALENDAR
VERSION:2.0
PRODID:-//NH Audubon - ECPv6.15.11//NONSGML v1.0//EN
CALSCALE:GREGORIAN
METHOD:PUBLISH
X-WR-CALNAME:NH Audubon
X-ORIGINAL-URL:https://nhaudubon.org
X-WR-CALDESC:Events for NH Audubon
REFRESH-INTERVAL;VALUE=DURATION:PT1H
X-Robots-Tag:noindex
X-PUBLISHED-TTL:PT1H
BEGIN:VTIMEZONE
TZID:America/New_York
BEGIN:DAYLIGHT
TZOFFSETFROM:-0500
TZOFFSETTO:-0400
TZNAME:EDT
DTSTART:20220313T070000
END:DAYLIGHT
BEGIN:STANDARD
TZOFFSETFROM:-0400
TZOFFSETTO:-0500
TZNAME:EST
DTSTART:20221106T060000
END:STANDARD
BEGIN:DAYLIGHT
TZOFFSETFROM:-0500
TZOFFSETTO:-0400
TZNAME:EDT
DTSTART:20230312T070000
END:DAYLIGHT
BEGIN:STANDARD
TZOFFSETFROM:-0400
TZOFFSETTO:-0500
TZNAME:EST
DTSTART:20231105T060000
END:STANDARD
BEGIN:DAYLIGHT
TZOFFSETFROM:-0500
TZOFFSETTO:-0400
TZNAME:EDT
DTSTART:20240310T070000
END:DAYLIGHT
BEGIN:STANDARD
TZOFFSETFROM:-0400
TZOFFSETTO:-0500
TZNAME:EST
DTSTART:20241103T060000
END:STANDARD
END:VTIMEZONE
BEGIN:VEVENT
DTSTART;TZID=America/New_York:20230111T110000
DTEND;TZID=America/New_York:20230111T170000
DTSTAMP:20260422T044009
CREATED:20221113T142615Z
LAST-MODIFIED:20221116T170908Z
UID:10001216-1673434800-1673456400@nhaudubon.org
SUMMARY:Watercolor Reflections On Nature Art Exhibit
DESCRIPTION:The McLane Center presents a group exhibit called “Watercolor Reflections On/In Nature.” The exhibit is visible during open hours (Tues-Fri 11am-5pm)\, December 1\, 2022 through January 18\, 2023. \nJoin us for an artist reception on Tuesday\, December 6\, 2022 from 4-6pm. \nParticipating Artists: \n\nBecky Darling\nSusan Huppi\nMary Jo MacGowan\nMary Borowski\nLori Hartling\nEmily Geoghegan\nPat Gruttemeyer\nFran Irvine\nElizabeth Gibbs\n\n  \nPainting by Lori Hartling.
URL:https://nhaudubon.org/event/watercolor-reflections-on-nature-art-exhibit/2023-01-11/
LOCATION:McLane Center\, 84 Silk Farm Road\, Concord\, NH\, 03301\, United States
CATEGORIES:Art Exhibit
ATTACH;FMTTYPE=image/gif:https://nhaudubon.org/wp-content/uploads/Nuthatch-Lori-Hartling.gif
ORGANIZER;CN="Michelle Varga":MAILTO:mvarga@nhaudubon.org
END:VEVENT
BEGIN:VEVENT
DTSTART;TZID=America/New_York:20230111T190000
DTEND;TZID=America/New_York:20230111T203000
DTSTAMP:20260422T044009
CREATED:20220829T154054Z
LAST-MODIFIED:20220916T181725Z
UID:10000904-1673463600-1673469000@nhaudubon.org
SUMMARY:An Introduction to New Hampshire's Fish Species of Conservation Concern
DESCRIPTION:Join the New Hampshire Audubon Seacoast Chapter for their in person January program. \nNew Hampshire is home to a number of fish populations that are at risk of decline\, or in some cases extirpation\, due to human caused threats. Declines in aquatic species often go unnoticed\, because they are less visible to the public. This presentation\, by Matt Carpenter of NH Fish and Game Department\, will provide a closer look at some of these species\, including their life history traits\, current status\, and also a discussion of ongoing conservation efforts intended to restore NH’s native fish populations and the aquatic habitats they depend on. \nThe Seacoast Chapter meets monthly on the second Wednesday except the months of July and August unless there is a special program. Refreshments are served at 7 pm and the meetings begin at 7:30 pm unless otherwise noted (entrance doors locked at 7:45 pm). The public is welcome free of charge. In person meetings are held at the Seacoast Science Center at Odiorne State Park\, Route 1A\, Rye\, NH. Wheelchair accessible. For more information on chapter programs\, please contact: Dan Hubbard\, (603) 332-4093 or danielhubbard@peoplepc.com.  \nFor more information see our web site at http://www.seacoastchapter.org/programs. Cancellations will be announced on http://www.seacoastchapter.org/programs.
URL:https://nhaudubon.org/event/an-introduction-to-new-hampshires-fish-species-of-conservation-concern/
LOCATION:Seacoast Science Center\, Odiorne State Park\, Route 1A\, Rye\, NH\, United States
CATEGORIES:Chapter Program,Featured
ATTACH;FMTTYPE=image/png:https://nhaudubon.org/wp-content/uploads/seacoast-chapter-logo.png
ORGANIZER;CN="Seacoast Chapter":MAILTO:danielhubbard@peoplepc.com
END:VEVENT
END:VCALENDAR