BEGIN:VCALENDAR
VERSION:2.0
PRODID:-//NH Audubon - ECPv6.15.11//NONSGML v1.0//EN
CALSCALE:GREGORIAN
METHOD:PUBLISH
X-WR-CALNAME:NH Audubon
X-ORIGINAL-URL:https://nhaudubon.org
X-WR-CALDESC:Events for NH Audubon
REFRESH-INTERVAL;VALUE=DURATION:PT1H
X-Robots-Tag:noindex
X-PUBLISHED-TTL:PT1H
BEGIN:VTIMEZONE
TZID:America/New_York
BEGIN:DAYLIGHT
TZOFFSETFROM:-0500
TZOFFSETTO:-0400
TZNAME:EDT
DTSTART:20220313T070000
END:DAYLIGHT
BEGIN:STANDARD
TZOFFSETFROM:-0400
TZOFFSETTO:-0500
TZNAME:EST
DTSTART:20221106T060000
END:STANDARD
BEGIN:DAYLIGHT
TZOFFSETFROM:-0500
TZOFFSETTO:-0400
TZNAME:EDT
DTSTART:20230312T070000
END:DAYLIGHT
BEGIN:STANDARD
TZOFFSETFROM:-0400
TZOFFSETTO:-0500
TZNAME:EST
DTSTART:20231105T060000
END:STANDARD
BEGIN:DAYLIGHT
TZOFFSETFROM:-0500
TZOFFSETTO:-0400
TZNAME:EDT
DTSTART:20240310T070000
END:DAYLIGHT
BEGIN:STANDARD
TZOFFSETFROM:-0400
TZOFFSETTO:-0500
TZNAME:EST
DTSTART:20241103T060000
END:STANDARD
END:VTIMEZONE
BEGIN:VEVENT
DTSTART;TZID=America/New_York:20230106T110000
DTEND;TZID=America/New_York:20230106T170000
DTSTAMP:20260422T044011
CREATED:20221113T142615Z
LAST-MODIFIED:20221116T170908Z
UID:10001214-1673002800-1673024400@nhaudubon.org
SUMMARY:Watercolor Reflections On Nature Art Exhibit
DESCRIPTION:The McLane Center presents a group exhibit called “Watercolor Reflections On/In Nature.” The exhibit is visible during open hours (Tues-Fri 11am-5pm)\, December 1\, 2022 through January 18\, 2023. \nJoin us for an artist reception on Tuesday\, December 6\, 2022 from 4-6pm. \nParticipating Artists: \n\nBecky Darling\nSusan Huppi\nMary Jo MacGowan\nMary Borowski\nLori Hartling\nEmily Geoghegan\nPat Gruttemeyer\nFran Irvine\nElizabeth Gibbs\n\n  \nPainting by Lori Hartling.
URL:https://nhaudubon.org/event/watercolor-reflections-on-nature-art-exhibit/2023-01-06/
LOCATION:McLane Center\, 84 Silk Farm Road\, Concord\, NH\, 03301\, United States
CATEGORIES:Art Exhibit
ATTACH;FMTTYPE=image/gif:https://nhaudubon.org/wp-content/uploads/Nuthatch-Lori-Hartling.gif
ORGANIZER;CN="Michelle Varga":MAILTO:mvarga@nhaudubon.org
END:VEVENT
BEGIN:VEVENT
DTSTART;TZID=America/New_York:20230106T170000
DTEND;TZID=America/New_York:20230106T183000
DTSTAMP:20260422T044011
CREATED:20221121T202803Z
LAST-MODIFIED:20221121T203747Z
UID:10001227-1673024400-1673029800@nhaudubon.org
SUMMARY:Full Moon Photography Workshop at Massabesic Center
DESCRIPTION:Date: January 6th\, 5:00pm-6:30pm \nPrice: $12 for members\, $15 for non-members \nJoin local nature photographer\, Tracy Brunner\, at the Massabesic Center for an evening photo hike along Massabesic Lake. The walk will start at the Center and continue on the trails to photograph the beautiful lakeshore landscapes and the local wildlife. During the workshop\, Tracy will discuss tips for getting the most out of your landscape photographs\, will provide suggestions for camera settings and creative compositions\, and answer your photography questions. This workshop will be during the full moon and will focus on photographing the moon and landscapes in low-light. \nRecommended Equipment: \n· Camera with spare batteries \n· Comfortable walking shoes \n· Wide\, standard\, or zoom lenses (any will will work) \n \n· Tripod (optional) \n· Polarizer or neutral density filters (optional) \n  \n  \n  \n  \nPhoto credit: Tracy Brunner
URL:https://nhaudubon.org/event/full-moon-photography-workshop-at-massabesic-center/
LOCATION:Massabesic Center\, 26 Audubon Way\, Auburn\, NH\, United States
CATEGORIES:Hands-on workshop,Nature Walk
ATTACH;FMTTYPE=image/jpeg:https://nhaudubon.org/wp-content/uploads/IMG_4216.jpg
ORGANIZER;CN="Slater Roosa":MAILTO:sroosa@nhaudubon.org
END:VEVENT
END:VCALENDAR