BEGIN:VCALENDAR
VERSION:2.0
PRODID:-//NH Audubon - ECPv6.15.11//NONSGML v1.0//EN
CALSCALE:GREGORIAN
METHOD:PUBLISH
X-WR-CALNAME:NH Audubon
X-ORIGINAL-URL:https://nhaudubon.org
X-WR-CALDESC:Events for NH Audubon
REFRESH-INTERVAL;VALUE=DURATION:PT1H
X-Robots-Tag:noindex
X-PUBLISHED-TTL:PT1H
BEGIN:VTIMEZONE
TZID:America/New_York
BEGIN:DAYLIGHT
TZOFFSETFROM:-0500
TZOFFSETTO:-0400
TZNAME:EDT
DTSTART:20210314T070000
END:DAYLIGHT
BEGIN:STANDARD
TZOFFSETFROM:-0400
TZOFFSETTO:-0500
TZNAME:EST
DTSTART:20211107T060000
END:STANDARD
BEGIN:DAYLIGHT
TZOFFSETFROM:-0500
TZOFFSETTO:-0400
TZNAME:EDT
DTSTART:20220313T070000
END:DAYLIGHT
BEGIN:STANDARD
TZOFFSETFROM:-0400
TZOFFSETTO:-0500
TZNAME:EST
DTSTART:20221106T060000
END:STANDARD
BEGIN:DAYLIGHT
TZOFFSETFROM:-0500
TZOFFSETTO:-0400
TZNAME:EDT
DTSTART:20230312T070000
END:DAYLIGHT
BEGIN:STANDARD
TZOFFSETFROM:-0400
TZOFFSETTO:-0500
TZNAME:EST
DTSTART:20231105T060000
END:STANDARD
END:VTIMEZONE
BEGIN:VEVENT
DTSTART;TZID=America/New_York:20221214T110000
DTEND;TZID=America/New_York:20221214T170000
DTSTAMP:20260422T130914
CREATED:20221113T142615Z
LAST-MODIFIED:20221116T170908Z
UID:10001200-1671015600-1671037200@nhaudubon.org
SUMMARY:Watercolor Reflections On Nature Art Exhibit
DESCRIPTION:The McLane Center presents a group exhibit called “Watercolor Reflections On/In Nature.” The exhibit is visible during open hours (Tues-Fri 11am-5pm)\, December 1\, 2022 through January 18\, 2023. \nJoin us for an artist reception on Tuesday\, December 6\, 2022 from 4-6pm. \nParticipating Artists: \n\nBecky Darling\nSusan Huppi\nMary Jo MacGowan\nMary Borowski\nLori Hartling\nEmily Geoghegan\nPat Gruttemeyer\nFran Irvine\nElizabeth Gibbs\n\n  \nPainting by Lori Hartling.
URL:https://nhaudubon.org/event/watercolor-reflections-on-nature-art-exhibit/2022-12-14/
LOCATION:McLane Center\, 84 Silk Farm Road\, Concord\, NH\, 03301\, United States
CATEGORIES:Art Exhibit
ATTACH;FMTTYPE=image/gif:https://nhaudubon.org/wp-content/uploads/Nuthatch-Lori-Hartling.gif
ORGANIZER;CN="Michelle Varga":MAILTO:mvarga@nhaudubon.org
END:VEVENT
BEGIN:VEVENT
DTSTART;TZID=America/New_York:20221214T190000
DTEND;TZID=America/New_York:20221214T203000
DTSTAMP:20260422T130914
CREATED:20220829T153922Z
LAST-MODIFIED:20221209T145445Z
UID:10000902-1671044400-1671049800@nhaudubon.org
SUMMARY:Wings over New Hampshire\, What We Are Learning from the Motus Wildlife Tracking System
DESCRIPTION:Join the New Hampshire Audubon Seacoast Chapter for their ZOOM December program. \nGrants from the US Fish and Wildlife Service and private donations have supported installation of 10 Motus receiving stations in NH. These stations have detected birds tagged by researchers from Hudson Bay to South America. This presentation\, by Carol Foss of NH Audubon\, will provide an overview of NH’s “electronic ears\,” the stories of tagged birds that have crossed our skies during their migrations and the travels of Rusty Blackbirds from the Northern Forest breeding population. \nThe Seacoast Chapter meets monthly on the second Wednesday except the months of July and August unless there is a special program. Refreshments are served at 7 pm and the meetings begin at 7:30 pm unless otherwise noted (entrance doors locked at 7:45 pm). The public is welcome free of charge. In person meetings are held at the Seacoast Science Center at Odiorne State Park\, Route 1A\, Rye\, NH. Wheelchair accessible. For more information on chapter programs\, please contact: Dan Hubbard\, (603) 332-4093 or danielhubbard@peoplepc.com.  \nFor more information see our web site at http://www.seacoastchapter.org/programs. Cancellations will be announced on http://www.seacoastchapter.org/programs. \nThe Zoom program Meeting begins at 7:30pm\, but feel free to sign on early after 7pm to socialize. You may need to download Zoom  (https://zoom.us/download) to attend the program. \nPlease register in advance for this meeting. You can register right up through the start time: \nhttps://unh.zoom.us/meeting/register/tJAsdOGgrTItEtyc1llJtB6n9zL0eYCfkfm1 \nAfter registering\, you will receive a confirmation email containing information about joining the meeting.
URL:https://nhaudubon.org/event/wings-over-new-hampshire-what-we-are-learning-from-the-motus-wildlife-tracking-system/
LOCATION:Seacoast Science Center\, Odiorne State Park\, Route 1A\, Rye\, NH\, United States
CATEGORIES:Chapter Program,Featured
ATTACH;FMTTYPE=image/png:https://nhaudubon.org/wp-content/uploads/seacoast-chapter-logo.png
ORGANIZER;CN="Seacoast Chapter":MAILTO:danielhubbard@peoplepc.com
END:VEVENT
END:VCALENDAR