BEGIN:VCALENDAR
VERSION:2.0
PRODID:-//NH Audubon - ECPv6.15.11//NONSGML v1.0//EN
CALSCALE:GREGORIAN
METHOD:PUBLISH
X-ORIGINAL-URL:https://nhaudubon.org
X-WR-CALDESC:Events for NH Audubon
REFRESH-INTERVAL;VALUE=DURATION:PT1H
X-Robots-Tag:noindex
X-PUBLISHED-TTL:PT1H
BEGIN:VTIMEZONE
TZID:America/New_York
BEGIN:DAYLIGHT
TZOFFSETFROM:-0500
TZOFFSETTO:-0400
TZNAME:EDT
DTSTART:20210314T070000
END:DAYLIGHT
BEGIN:STANDARD
TZOFFSETFROM:-0400
TZOFFSETTO:-0500
TZNAME:EST
DTSTART:20211107T060000
END:STANDARD
BEGIN:DAYLIGHT
TZOFFSETFROM:-0500
TZOFFSETTO:-0400
TZNAME:EDT
DTSTART:20220313T070000
END:DAYLIGHT
BEGIN:STANDARD
TZOFFSETFROM:-0400
TZOFFSETTO:-0500
TZNAME:EST
DTSTART:20221106T060000
END:STANDARD
BEGIN:DAYLIGHT
TZOFFSETFROM:-0500
TZOFFSETTO:-0400
TZNAME:EDT
DTSTART:20230312T070000
END:DAYLIGHT
BEGIN:STANDARD
TZOFFSETFROM:-0400
TZOFFSETTO:-0500
TZNAME:EST
DTSTART:20231105T060000
END:STANDARD
END:VTIMEZONE
BEGIN:VEVENT
DTSTART;TZID=America/New_York:20221213T110000
DTEND;TZID=America/New_York:20221213T170000
DTSTAMP:20260422T130817
CREATED:20221113T142615Z
LAST-MODIFIED:20221116T170908Z
UID:10001199-1670929200-1670950800@nhaudubon.org
SUMMARY:Watercolor Reflections On Nature Art Exhibit
DESCRIPTION:The McLane Center presents a group exhibit called “Watercolor Reflections On/In Nature.” The exhibit is visible during open hours (Tues-Fri 11am-5pm)\, December 1\, 2022 through January 18\, 2023. \nJoin us for an artist reception on Tuesday\, December 6\, 2022 from 4-6pm. \nParticipating Artists: \n\nBecky Darling\nSusan Huppi\nMary Jo MacGowan\nMary Borowski\nLori Hartling\nEmily Geoghegan\nPat Gruttemeyer\nFran Irvine\nElizabeth Gibbs\n\n  \nPainting by Lori Hartling.
URL:https://nhaudubon.org/event/watercolor-reflections-on-nature-art-exhibit/2022-12-13/
LOCATION:McLane Center\, 84 Silk Farm Road\, Concord\, NH\, 03301\, United States
CATEGORIES:Art Exhibit
ATTACH;FMTTYPE=image/gif:https://nhaudubon.org/wp-content/uploads/Nuthatch-Lori-Hartling.gif
ORGANIZER;CN="Michelle Varga":MAILTO:mvarga@nhaudubon.org
END:VEVENT
BEGIN:VEVENT
DTSTART;TZID=America/New_York:20221213T170000
DTEND;TZID=America/New_York:20221213T183000
DTSTAMP:20260422T130817
CREATED:20221118T190805Z
LAST-MODIFIED:20221128T193118Z
UID:10001225-1670950800-1670956200@nhaudubon.org
SUMMARY:Night Sky Photography Workshop at Massabesic Center
DESCRIPTION:Date: December 13th\, 5:00pm-6:30pm \nPrice: $12 for members\, $15 for non-members \nJoin local nature photographer\, Tracy Brunner\, at the Massabesic Center for a night sky photo shoot near Massabesic Lake. The walk will start at the Center and continue to nearby trails to photograph the beautiful night sky. During the workshop\, Tracy will discuss tips for getting the most out of your night sky photographs\, will provide suggestions for camera settings and creative compositions\, and answer your photography questions. Cameras with manual mode and/or changeable settings are recommended.\n\nRecommended Equipment:\n\n\nCamera with spare batteries\nHeadlamp or flashlight\nComfortable walking shoes\nWide or standard lenses (either will work); recommended lens with f4\, f2.8\, or f1.8 aperture capabilities\nTripod\nRemote shutter release (optional)\n\n\n  \nPhoto credit: Tracy Brunner
URL:https://nhaudubon.org/event/night-sky-photography-workshop-at-massabesic-center-2/
LOCATION:Massabesic Center\, 26 Audubon Way\, Auburn\, NH\, United States
CATEGORIES:Hands-on workshop,Nature Walk
ATTACH;FMTTYPE=image/jpeg:https://nhaudubon.org/wp-content/uploads/IMG_4433-e1669663858315.jpg
ORGANIZER;CN="Slater Roosa":MAILTO:sroosa@nhaudubon.org
END:VEVENT
END:VCALENDAR