BEGIN:VCALENDAR
VERSION:2.0
PRODID:-//NH Audubon - ECPv6.15.11//NONSGML v1.0//EN
CALSCALE:GREGORIAN
METHOD:PUBLISH
X-WR-CALNAME:NH Audubon
X-ORIGINAL-URL:https://nhaudubon.org
X-WR-CALDESC:Events for NH Audubon
REFRESH-INTERVAL;VALUE=DURATION:PT1H
X-Robots-Tag:noindex
X-PUBLISHED-TTL:PT1H
BEGIN:VTIMEZONE
TZID:America/New_York
BEGIN:DAYLIGHT
TZOFFSETFROM:-0500
TZOFFSETTO:-0400
TZNAME:EDT
DTSTART:20210314T070000
END:DAYLIGHT
BEGIN:STANDARD
TZOFFSETFROM:-0400
TZOFFSETTO:-0500
TZNAME:EST
DTSTART:20211107T060000
END:STANDARD
BEGIN:DAYLIGHT
TZOFFSETFROM:-0500
TZOFFSETTO:-0400
TZNAME:EDT
DTSTART:20220313T070000
END:DAYLIGHT
BEGIN:STANDARD
TZOFFSETFROM:-0400
TZOFFSETTO:-0500
TZNAME:EST
DTSTART:20221106T060000
END:STANDARD
BEGIN:DAYLIGHT
TZOFFSETFROM:-0500
TZOFFSETTO:-0400
TZNAME:EDT
DTSTART:20230312T070000
END:DAYLIGHT
BEGIN:STANDARD
TZOFFSETFROM:-0400
TZOFFSETTO:-0500
TZNAME:EST
DTSTART:20231105T060000
END:STANDARD
END:VTIMEZONE
BEGIN:VEVENT
DTSTART;VALUE=DATE:20221025
DTEND;VALUE=DATE:20221101
DTSTAMP:20260422T163913
CREATED:20221011T143513Z
LAST-MODIFIED:20221011T143513Z
UID:10001186-1666656000-1667260799@nhaudubon.org
SUMMARY:Massabesic Center Closed for Maintenance
DESCRIPTION:The Massabesic Center will be closed to the public from October 25-31 for repairs. The trails and grounds remain open during daylight hours every day.
URL:https://nhaudubon.org/event/massabesic-center-closed-for-maintenance/
LOCATION:Massabesic Center\, 26 Audubon Way\, Auburn\, NH\, United States
ATTACH;FMTTYPE=image/jpeg:https://nhaudubon.org/wp-content/uploads/mac-fall-Walter-Keane-1-scaled.jpg
ORGANIZER;CN="Kimmie Whiteman":MAILTO:kwhiteman@nhaudubon.org
END:VEVENT
BEGIN:VEVENT
DTSTART;TZID=America/New_York:20221027T120000
DTEND;TZID=America/New_York:20221027T170000
DTSTAMP:20260422T163913
CREATED:20221006T130356Z
LAST-MODIFIED:20221006T130958Z
UID:10001148-1666872000-1666890000@nhaudubon.org
SUMMARY:Nature's Beauty Art Exhibit
DESCRIPTION:September 30 – November 29\, 2022 at Massabesic Center in Auburn\n \nThe Manchester Artists Association presents “Nature’s Beauty”\, a celebration of art and nature. Thirteen talented artists will be exhibiting works in oil\, watercolor\, acrylic\, pastel\, colored pencil and photography. The Manchester Artists Association is a group of dedicated artists whose motto is “Artists Helping Artists”. The organization was formed in 1966 to provide fellowship\, learning and inspiration to artists who are engaged or interested in the pursuit of fine art.   \n“Nature’s Beauty” is visible at NH Audubon’s Massabesic Center during open hours\, September 30 to November 29\, from 12pm-5pm Tues – Fri\, and 10am-5pm\, Sat and Sun. Please note the viewing room may be closed to the public during private events and education presentations (note: specific closures Oct. 1 and Oct. 25-31). \n \nA public reception\, to experience the works with the artists\, will be held on October 9\, 12pm to 3pm.   \nAll works are available for immediate purchase\, including additional prints and cards displayed in the store\, with 30% of the proceeds going to support the mission of NH Audubon.  \nFeatured artists:  \n\nSharon Allen  \nNoella Breault  \nVirginia Demers \nTherese DesRosiers  \nPaul Ducret  \nJudy Gelinas  \nLaurie Lafleur  \nAline Lotter \nMadeleine Minard  \nHoward Muscott  \nJames O’Donnell  \nRollande Rousselle \nSusan Snay \n\nImages\, pictured left to right: “In the Distance” by Rollande Rousselle\, “Gliding Swan” by Virginia Demers\, and “Forest Stream” by James O’Donnell. 
URL:https://nhaudubon.org/event/natures-beauty-art-exhibit/2022-10-27/
LOCATION:Massabesic Center\, 26 Audubon Way\, Auburn\, NH\, United States
CATEGORIES:Art Exhibit
ATTACH;FMTTYPE=image/jpeg:https://nhaudubon.org/wp-content/uploads/natures-beauty-exhibit-trio-of-images.jpg
ORGANIZER;CN="Kimmie Whiteman":MAILTO:kwhiteman@nhaudubon.org
END:VEVENT
BEGIN:VEVENT
DTSTART;TZID=America/New_York:20221027T190000
DTEND;TZID=America/New_York:20221027T200000
DTSTAMP:20260422T163913
CREATED:20220418T175925Z
LAST-MODIFIED:20221018T150654Z
UID:10001020-1666897200-1666900800@nhaudubon.org
SUMMARY:A Guide to Restoring the Little Things that Run the World
DESCRIPTION:A Guide to Restoring the Little Things that Run the World \nThursday\, October  27: 7-8:15pm \nCost: Free \nRegistration Link \nDoug Tallamy\, T. A. Baker Professor of Agriculture in the Department of Entomology and Wildlife Ecology at the University of Delaware. He is the author of numerous publications and books on understanding the ways insects interact with plants and how such interactions determine the diversity of animal communities. His books include Bringing Nature Home\, Nature’s Best Hope and The Nature of Oaks. Doug’s Homegrown National Park initiative is transforming how we think and act on maintaining biodiversity in our world. \nJoin Doug Tallamy as he shares how we can all make a difference. A recent UN report predicts that as many as 1 million species will disappear from planet earth because of human activities. Many of these are insects and nearly all species at risk rely on insects. Insects have already declined 45% since 1974. The most alarming part of this statistic is that we don’t seem to care\, despite the fact that a world without insects is a world without humans! So how do we create beautiful landscapes brimming with life; landscapes that support the pollinators\, herbivores\, detritivores\, predators and parasitoids that run the ecosystems we depend on? Tallamy will remind us of the many essential roles insects play\, and describe the simple changes we must make in our landscapes and our attitudes to keep insects on the ground\, in the air and yes\, on our plants. \nNew Hampshire Audubon Pollinator Speaker Series: Celebrating and Engaging in Pollinator Conservation \n  \nJoin New Hampshire Audubon for our 2022 Pollinator Webinar series as we celebrate Pollinator Conservation. \nThis series seeks to inspire involvement and engagement in pollinator conservation through close focus programs that will allow participants to gain a deeper understanding and knowledge of pollinators and the plants they depend on. Programs are free to the public\, streamed via Zoom\, YouTube\, and Facebook Live. Presentations are supported by a grant from the Benjamin and Gertrude Couch Trusts.
URL:https://nhaudubon.org/event/a-guide-to-restoring-the-little-things-that-run-the-world/
LOCATION:Zoom Link\, United States
CATEGORIES:Webinar,Zoom Talk
ATTACH;FMTTYPE=image/jpeg:https://nhaudubon.org/wp-content/uploads/Purple-coneflower-with-bumblebee-DDL-web.jpg
ORGANIZER;CN="Diane De Luca":MAILTO:ddeluca@nhaudubon.org
END:VEVENT
END:VCALENDAR