BEGIN:VCALENDAR
VERSION:2.0
PRODID:-//NH Audubon - ECPv6.15.11//NONSGML v1.0//EN
CALSCALE:GREGORIAN
METHOD:PUBLISH
X-ORIGINAL-URL:https://nhaudubon.org
X-WR-CALDESC:Events for NH Audubon
REFRESH-INTERVAL;VALUE=DURATION:PT1H
X-Robots-Tag:noindex
X-PUBLISHED-TTL:PT1H
BEGIN:VTIMEZONE
TZID:America/New_York
BEGIN:DAYLIGHT
TZOFFSETFROM:-0500
TZOFFSETTO:-0400
TZNAME:EDT
DTSTART:20210314T070000
END:DAYLIGHT
BEGIN:STANDARD
TZOFFSETFROM:-0400
TZOFFSETTO:-0500
TZNAME:EST
DTSTART:20211107T060000
END:STANDARD
BEGIN:DAYLIGHT
TZOFFSETFROM:-0500
TZOFFSETTO:-0400
TZNAME:EDT
DTSTART:20220313T070000
END:DAYLIGHT
BEGIN:STANDARD
TZOFFSETFROM:-0400
TZOFFSETTO:-0500
TZNAME:EST
DTSTART:20221106T060000
END:STANDARD
BEGIN:DAYLIGHT
TZOFFSETFROM:-0500
TZOFFSETTO:-0400
TZNAME:EDT
DTSTART:20230312T070000
END:DAYLIGHT
BEGIN:STANDARD
TZOFFSETFROM:-0400
TZOFFSETTO:-0500
TZNAME:EST
DTSTART:20231105T060000
END:STANDARD
END:VTIMEZONE
BEGIN:VEVENT
DTSTART;TZID=America/New_York:20221015T090000
DTEND;TZID=America/New_York:20221015T100000
DTSTAMP:20260422T164004
CREATED:20220920T195937Z
LAST-MODIFIED:20221006T191641Z
UID:10001131-1665824400-1665828000@nhaudubon.org
SUMMARY:All Persons Trail Grand Opening October 15
DESCRIPTION:Connect with nature on the new All Persons Trail at McLane Center in Concord. \nWe are proud to celebrate the opening of our newest accessible trail. Join us for the ribbon cutting and then experience the nature of Silk Farm Wildlife Sanctuary on a guided birding tour along the All Persons Trail. \nJoin us for the Grand Opening Celebration and Birding For All Tour of the trail starting at 9am on October 15. \n**time changed from 1pm to 9am: enough time to explore the trail\, break for lunch\, then head over to Able NH’s “Disability Justice Parade” in Manchester.** \nThis event is free and open to everyone. Please RSVP below.
URL:https://nhaudubon.org/event/all-persons-trail-grand-opening-october-15/
LOCATION:McLane Center\, 84 Silk Farm Road\, Concord\, NH\, 03301\, United States
CATEGORIES:Nature Walk,Wildlife Sanctuary Event
ATTACH;FMTTYPE=image/jpeg:https://nhaudubon.org/wp-content/uploads/All-Persons-Trail-Oct-15-Opening-300-1.jpg
ORGANIZER;CN="Marc Nutter":MAILTO:mnutter@nhaudubon.org
END:VEVENT
BEGIN:VEVENT
DTSTART;TZID=America/New_York:20221015T100000
DTEND;TZID=America/New_York:20221015T110000
DTSTAMP:20260422T164004
CREATED:20220531T161438Z
LAST-MODIFIED:20220919T155407Z
UID:10000882-1665828000-1665831600@nhaudubon.org
SUMMARY:Buds & Blooms: Autumn Awareness
DESCRIPTION:In this final installment of the Buds & Blooms Program\, we switch to lecture format as we emphasize the various methods we can implement in our yards and gardens to ensure our native pollinators experience a successful winter rest.  \nTopics covered will include fun facts about overwintering species\, mason bee box care (you can’t just set it and forget it)\, autumn planting\, and best practices for fall garden care.  \nLet’s learn how we can offer a helping hand to our native pollinators before heading out to the Pollinator Garden & Meadow for Q&A and observation.  \nThis program is free of cost\, but RSVP’s are required to reserve your spot. \nPhoto Credit: Pixabay
URL:https://nhaudubon.org/event/buds-blooms-autumn-awareness/
LOCATION:McLane Center\, 84 Silk Farm Road\, Concord\, NH\, 03301\, United States
CATEGORIES:Buds & Blooms Pollinator Programs,Nature Walk,Pollinators
ATTACH;FMTTYPE=image/jpeg:https://nhaudubon.org/wp-content/uploads/park-3396714_960_720.jpg
ORGANIZER;CN="Willa":MAILTO:wcoroka@nhaudubon.org
END:VEVENT
BEGIN:VEVENT
DTSTART;TZID=America/New_York:20221015T100000
DTEND;TZID=America/New_York:20221015T170000
DTSTAMP:20260422T164004
CREATED:20230522T151956Z
LAST-MODIFIED:20230522T151956Z
UID:10001949-1665828000-1665853200@nhaudubon.org
SUMMARY:Nature's Beauty Art Exhibit
DESCRIPTION:September 30 – November 29\, 2022 at Massabesic Center in Auburn\n \nThe Manchester Artists Association presents “Nature’s Beauty”\, a celebration of art and nature. Thirteen talented artists will be exhibiting works in oil\, watercolor\, acrylic\, pastel\, colored pencil and photography. The Manchester Artists Association is a group of dedicated artists whose motto is “Artists Helping Artists”. The organization was formed in 1966 to provide fellowship\, learning and inspiration to artists who are engaged or interested in the pursuit of fine art.   \n“Nature’s Beauty” is visible at NH Audubon’s Massabesic Center during open hours\, September 30 to November 29\, from 12pm-5pm Tues – Fri\, and 10am-5pm\, Sat and Sun. Please note the viewing room may be closed to the public during private events and education presentations (note: specific closures Oct. 1 and Oct. 25-31). \n \nA public reception\, to experience the works with the artists\, will be held on October 9\, 12pm to 3pm.   \nAll works are available for immediate purchase\, including additional prints and cards displayed in the store\, with 30% of the proceeds going to support the mission of NH Audubon.  \nFeatured artists:  \n\nSharon Allen  \nNoella Breault  \nVirginia Demers \nTherese DesRosiers  \nPaul Ducret  \nJudy Gelinas  \nLaurie Lafleur  \nAline Lotter \nMadeleine Minard  \nHoward Muscott  \nJames O’Donnell  \nRollande Rousselle \nSusan Snay \n\nImages\, pictured left to right: “In the Distance” by Rollande Rousselle\, “Gliding Swan” by Virginia Demers\, and “Forest Stream” by James O’Donnell. 
URL:https://nhaudubon.org/event/natures-beauty-art-exhibit/2022-10-15/
LOCATION:Massabesic Center\, 26 Audubon Way\, Auburn\, NH\, United States
CATEGORIES:Art Exhibit
ATTACH;FMTTYPE=image/jpeg:https://nhaudubon.org/wp-content/uploads/natures-beauty-exhibit-trio-of-images.jpg
ORGANIZER;CN="Kimmie Whiteman":MAILTO:kwhiteman@nhaudubon.org
END:VEVENT
END:VCALENDAR