BEGIN:VCALENDAR
VERSION:2.0
PRODID:-//NH Audubon - ECPv6.15.11//NONSGML v1.0//EN
CALSCALE:GREGORIAN
METHOD:PUBLISH
X-WR-CALNAME:NH Audubon
X-ORIGINAL-URL:https://nhaudubon.org
X-WR-CALDESC:Events for NH Audubon
REFRESH-INTERVAL;VALUE=DURATION:PT1H
X-Robots-Tag:noindex
X-PUBLISHED-TTL:PT1H
BEGIN:VTIMEZONE
TZID:America/New_York
BEGIN:DAYLIGHT
TZOFFSETFROM:-0500
TZOFFSETTO:-0400
TZNAME:EDT
DTSTART:20210314T070000
END:DAYLIGHT
BEGIN:STANDARD
TZOFFSETFROM:-0400
TZOFFSETTO:-0500
TZNAME:EST
DTSTART:20211107T060000
END:STANDARD
BEGIN:DAYLIGHT
TZOFFSETFROM:-0500
TZOFFSETTO:-0400
TZNAME:EDT
DTSTART:20220313T070000
END:DAYLIGHT
BEGIN:STANDARD
TZOFFSETFROM:-0400
TZOFFSETTO:-0500
TZNAME:EST
DTSTART:20221106T060000
END:STANDARD
BEGIN:DAYLIGHT
TZOFFSETFROM:-0500
TZOFFSETTO:-0400
TZNAME:EDT
DTSTART:20230312T070000
END:DAYLIGHT
BEGIN:STANDARD
TZOFFSETFROM:-0400
TZOFFSETTO:-0500
TZNAME:EST
DTSTART:20231105T060000
END:STANDARD
END:VTIMEZONE
BEGIN:VEVENT
DTSTART;TZID=America/New_York:20220928T110000
DTEND;TZID=America/New_York:20220928T170000
DTSTAMP:20260422T163911
CREATED:20220830T173620Z
LAST-MODIFIED:20220830T173638Z
UID:10000919-1664362800-1664384400@nhaudubon.org
SUMMARY:Timeless Nature Art Exhibit
DESCRIPTION:The McLane Center presents the artwork of Merrimack River Painters in an exhibit called “Timeless Nature.” The exhibit is visible during open hours (Tues-Fri 11am-5pm)\, September 9 through October 14\, 2022. \nTimeless Nature \n“We are a group of experienced artists from New Hampshire and Maine\, who share a love of nature. We have been showing our art individually and as a group for more than 15 years. We celebrate the joy of creating with our audience. \nWe are not a timid bunch\, but women who are risk takers in our art and our approach to showing it. We have been together as a group for over 15 years\, Merrimack River Painters (MRP) meet monthly and over the years we have evolved from watercolor to other mediums such as collage\, oils\, acrylics\, pastels\, cold wax\, etc. \nWe try to come together to share our experiences with each other. During  COVID we met even more frequently via ZOOM. We support and nurture our creative spirits together.” \nMembers are: \n\nMarilyn Eimon\nClaudette Gammon\nTerry Heinzmann\n Betsy Janeway\nDustan Knight\nSusan Levenson\nAnn Lynch\nMary Ruedig\nAnn Saunderson\nKathy Tangney\nJan Wittmer\n\nPainting by Claudette Gammon.
URL:https://nhaudubon.org/event/all-things-owl-in-new-england-habitats-photography-exhibit/2022-09-28/
LOCATION:McLane Center\, 84 Silk Farm Road\, Concord\, NH\, 03301\, United States
CATEGORIES:Art Exhibit
ATTACH;FMTTYPE=image/jpeg:https://nhaudubon.org/wp-content/uploads/Timeless-Nature-Exhibit-cows-painting-by-Claudette-Gammon-sm.jpg
ORGANIZER;CN="Michelle Varga":MAILTO:mvarga@nhaudubon.org
END:VEVENT
BEGIN:VEVENT
DTSTART;TZID=America/New_York:20220928T170000
DTEND;TZID=America/New_York:20220928T183000
DTSTAMP:20260422T163911
CREATED:20220906T185819Z
LAST-MODIFIED:20220906T185819Z
UID:10000944-1664384400-1664389800@nhaudubon.org
SUMMARY:Photography Workshop at Massabesic Center
DESCRIPTION:Date: September 28th\, 5:00pm-6:30pm \nPrice: $12 for members\, $15 for non-members \nJoin local nature photographer\, Tracy Brunner\, at the Massabesic Center for a late afternoon photo hike along Massabesic Lake. The walk will start at the Center and continue on the trails to photograph the beautiful lakeshore landscapes and the local wildlife. During the workshop\, Tracy will discuss tips for getting the most out of your landscape photographs\, will provide suggestions for camera settings and creative compositions\, and answer your photography questions. \nRecommended Equipment: \n· Camera with spare batteries \n· Comfortable walking shoes \n \n· Wide\, standard\, or zoom lenses (any will will work) \n· Tripod (optional) \n· Polarizer or neutral density filters (optional) \n  \n  \n  \n  \nPhoto credit: Tracy Brunner
URL:https://nhaudubon.org/event/photography-workshop-at-massabesic-center-5/
LOCATION:Massabesic Center\, 26 Audubon Way\, Auburn\, NH\, United States
CATEGORIES:Hands-on workshop,Nature Walk
ATTACH;FMTTYPE=image/jpeg:https://nhaudubon.org/wp-content/uploads/Hummingbird-Tracy-Brunner-e1679074297730.jpg
ORGANIZER;CN="Slater Roosa":MAILTO:sroosa@nhaudubon.org
END:VEVENT
END:VCALENDAR