BEGIN:VCALENDAR
VERSION:2.0
PRODID:-//NH Audubon - ECPv6.15.11//NONSGML v1.0//EN
CALSCALE:GREGORIAN
METHOD:PUBLISH
X-WR-CALNAME:NH Audubon
X-ORIGINAL-URL:https://nhaudubon.org
X-WR-CALDESC:Events for NH Audubon
REFRESH-INTERVAL;VALUE=DURATION:PT1H
X-Robots-Tag:noindex
X-PUBLISHED-TTL:PT1H
BEGIN:VTIMEZONE
TZID:America/New_York
BEGIN:DAYLIGHT
TZOFFSETFROM:-0500
TZOFFSETTO:-0400
TZNAME:EDT
DTSTART:20210314T070000
END:DAYLIGHT
BEGIN:STANDARD
TZOFFSETFROM:-0400
TZOFFSETTO:-0500
TZNAME:EST
DTSTART:20211107T060000
END:STANDARD
BEGIN:DAYLIGHT
TZOFFSETFROM:-0500
TZOFFSETTO:-0400
TZNAME:EDT
DTSTART:20220313T070000
END:DAYLIGHT
BEGIN:STANDARD
TZOFFSETFROM:-0400
TZOFFSETTO:-0500
TZNAME:EST
DTSTART:20221106T060000
END:STANDARD
BEGIN:DAYLIGHT
TZOFFSETFROM:-0500
TZOFFSETTO:-0400
TZNAME:EDT
DTSTART:20230312T070000
END:DAYLIGHT
BEGIN:STANDARD
TZOFFSETFROM:-0400
TZOFFSETTO:-0500
TZNAME:EST
DTSTART:20231105T060000
END:STANDARD
END:VTIMEZONE
BEGIN:VEVENT
DTSTART;TZID=America/New_York:20220918T080000
DTEND;TZID=America/New_York:20220918T120000
DTSTAMP:20260423T112202
CREATED:20220829T141559Z
LAST-MODIFIED:20220829T141559Z
UID:10001117-1663488000-1663502400@nhaudubon.org
SUMMARY:BBW Pickering Ponds-Autumn
DESCRIPTION:An encore of the very popular Pickering Ponds walk on September 7. One of the top 10 birding spots in New Hampshire\, this walk will traverse Rochester city park trails along the Cocheco River and around the former wastewater treatment settling ponds. Meet at the Pickering Ponds parking area at 8am. The entrance is about a mile south of the Rochester Wastewater Treatment Plant on Pickering Road (opposite mailbox #374). Contact: Dan Hubbard at danielhubbard@peoplepc.com or 603-978-0218. \nThis field trip will be limited to 20 participants. Visit the Seacoast Chapter website for event details and to sign up. \n  \nBeginner Bird Walks (BBW)  \nThe NH Audubon Seacoast Chapter will have six Beginner Bird Walks (BBW) this fall\, 2022. Although these walks are geared with the beginner birder in mind\, birders of all levels of expertise are encouraged to participate and share their experiences. Children are gladly welcome with an adult. Participants should be fully vaccinated and are encouraged to bring binoculars\, water\, insect repellent\, and sunscreen. \n 
URL:https://nhaudubon.org/event/bbw-pickering-ponds-autumn2/
LOCATION:NH
CATEGORIES:Chapter Field Trip
ATTACH;FMTTYPE=image/png:https://nhaudubon.org/wp-content/uploads/seacoast-chapter-logo.png
ORGANIZER;CN="Seacoast Chapter":MAILTO:danielhubbard@peoplepc.com
END:VEVENT
END:VCALENDAR