BEGIN:VCALENDAR
VERSION:2.0
PRODID:-//NH Audubon - ECPv6.15.11//NONSGML v1.0//EN
CALSCALE:GREGORIAN
METHOD:PUBLISH
X-WR-CALNAME:NH Audubon
X-ORIGINAL-URL:https://nhaudubon.org
X-WR-CALDESC:Events for NH Audubon
REFRESH-INTERVAL;VALUE=DURATION:PT1H
X-Robots-Tag:noindex
X-PUBLISHED-TTL:PT1H
BEGIN:VTIMEZONE
TZID:America/New_York
BEGIN:DAYLIGHT
TZOFFSETFROM:-0500
TZOFFSETTO:-0400
TZNAME:EDT
DTSTART:20210314T070000
END:DAYLIGHT
BEGIN:STANDARD
TZOFFSETFROM:-0400
TZOFFSETTO:-0500
TZNAME:EST
DTSTART:20211107T060000
END:STANDARD
BEGIN:DAYLIGHT
TZOFFSETFROM:-0500
TZOFFSETTO:-0400
TZNAME:EDT
DTSTART:20220313T070000
END:DAYLIGHT
BEGIN:STANDARD
TZOFFSETFROM:-0400
TZOFFSETTO:-0500
TZNAME:EST
DTSTART:20221106T060000
END:STANDARD
BEGIN:DAYLIGHT
TZOFFSETFROM:-0500
TZOFFSETTO:-0400
TZNAME:EDT
DTSTART:20230312T070000
END:DAYLIGHT
BEGIN:STANDARD
TZOFFSETFROM:-0400
TZOFFSETTO:-0500
TZNAME:EST
DTSTART:20231105T060000
END:STANDARD
END:VTIMEZONE
BEGIN:VEVENT
DTSTART;TZID=America/New_York:20220914T110000
DTEND;TZID=America/New_York:20220914T170000
DTSTAMP:20260423T112202
CREATED:20220830T173620Z
LAST-MODIFIED:20220830T173638Z
UID:10000911-1663153200-1663174800@nhaudubon.org
SUMMARY:Timeless Nature Art Exhibit
DESCRIPTION:The McLane Center presents the artwork of Merrimack River Painters in an exhibit called “Timeless Nature.” The exhibit is visible during open hours (Tues-Fri 11am-5pm)\, September 9 through October 14\, 2022. \nTimeless Nature \n“We are a group of experienced artists from New Hampshire and Maine\, who share a love of nature. We have been showing our art individually and as a group for more than 15 years. We celebrate the joy of creating with our audience. \nWe are not a timid bunch\, but women who are risk takers in our art and our approach to showing it. We have been together as a group for over 15 years\, Merrimack River Painters (MRP) meet monthly and over the years we have evolved from watercolor to other mediums such as collage\, oils\, acrylics\, pastels\, cold wax\, etc. \nWe try to come together to share our experiences with each other. During  COVID we met even more frequently via ZOOM. We support and nurture our creative spirits together.” \nMembers are: \n\nMarilyn Eimon\nClaudette Gammon\nTerry Heinzmann\n Betsy Janeway\nDustan Knight\nSusan Levenson\nAnn Lynch\nMary Ruedig\nAnn Saunderson\nKathy Tangney\nJan Wittmer\n\nPainting by Claudette Gammon.
URL:https://nhaudubon.org/event/all-things-owl-in-new-england-habitats-photography-exhibit/2022-09-14/
LOCATION:McLane Center\, 84 Silk Farm Road\, Concord\, NH\, 03301\, United States
CATEGORIES:Art Exhibit
ATTACH;FMTTYPE=image/jpeg:https://nhaudubon.org/wp-content/uploads/Timeless-Nature-Exhibit-cows-painting-by-Claudette-Gammon-sm.jpg
ORGANIZER;CN="Michelle Varga":MAILTO:mvarga@nhaudubon.org
END:VEVENT
BEGIN:VEVENT
DTSTART;TZID=America/New_York:20220914T190000
DTEND;TZID=America/New_York:20220914T203000
DTSTAMP:20260423T112202
CREATED:20220829T153149Z
LAST-MODIFIED:20220830T181739Z
UID:10001125-1663182000-1663187400@nhaudubon.org
SUMMARY:Marine Debris in the Gulf of Maine
DESCRIPTION:Join the New Hampshire Audubon Seacoast Chapter for their in person September program: Marine Debris in the Gulf of Maine. \nThe US and Canadian Partners have launched a binational effort to address marine debris in the Gulf of Maine. The Gulf of Maine Association has been awarded $367\, 839 from the National Oceanic and Atmospheric Administration’s (NOAA) Marine Debris Program to partner with NOAA\, Gulf of Maine Council\, Blue Ocean Society for the Marine Environment\, Center for Coastal Studies\, Huntsman Marine Science Centre\, Maine Coastal Program-Maine Department of Marine Resources\, Surfrider Foundation\, Urban Harbors Institute and the five jurisdictions bordering the Gulf of Maine to create an international collaborative approach for addressing plastic and other marine debris in the Gulf of Maine watershed. Presenter Jen Kennedy\, Executive Director of the Blue Ocean Society\, will help us learn about marine debris in the Gulf\, local research and education efforts\, and how we can help. \nThe Seacoast Chapter meets monthly on the second Wednesday except the months of July and August unless there is a special program. Refreshments are served at 7 pm and the meetings begin at 7:30 pm unless otherwise noted (entrance doors locked at 7:45 pm). The public is welcome free of charge. In person meetings are held at the Seacoast Science Center at Odiorne State Park\, Route 1A\, Rye\, NH. Wheelchair accessible. For more information on chapter programs\, please contact: Dan Hubbard\, (603) 332-4093 or danielhubbard@peoplepc.com.  \nFor more information see our web site at http://www.seacoastchapter.org/programs. Cancellations will be announced on http://www.seacoastchapter.org/programs.
URL:https://nhaudubon.org/event/marine-debris-in-the-gulf-of-maine/
LOCATION:Seacoast Science Center\, Odiorne State Park\, Route 1A\, Rye\, NH\, United States
CATEGORIES:Chapter Program,Featured
ATTACH;FMTTYPE=image/png:https://nhaudubon.org/wp-content/uploads/seacoast-chapter-logo.png
ORGANIZER;CN="Seacoast Chapter":MAILTO:danielhubbard@peoplepc.com
END:VEVENT
END:VCALENDAR