BEGIN:VCALENDAR
VERSION:2.0
PRODID:-//NH Audubon - ECPv6.15.11//NONSGML v1.0//EN
CALSCALE:GREGORIAN
METHOD:PUBLISH
X-ORIGINAL-URL:https://nhaudubon.org
X-WR-CALDESC:Events for NH Audubon
REFRESH-INTERVAL;VALUE=DURATION:PT1H
X-Robots-Tag:noindex
X-PUBLISHED-TTL:PT1H
BEGIN:VTIMEZONE
TZID:America/New_York
BEGIN:DAYLIGHT
TZOFFSETFROM:-0500
TZOFFSETTO:-0400
TZNAME:EDT
DTSTART:20210314T070000
END:DAYLIGHT
BEGIN:STANDARD
TZOFFSETFROM:-0400
TZOFFSETTO:-0500
TZNAME:EST
DTSTART:20211107T060000
END:STANDARD
BEGIN:DAYLIGHT
TZOFFSETFROM:-0500
TZOFFSETTO:-0400
TZNAME:EDT
DTSTART:20220313T070000
END:DAYLIGHT
BEGIN:STANDARD
TZOFFSETFROM:-0400
TZOFFSETTO:-0500
TZNAME:EST
DTSTART:20221106T060000
END:STANDARD
BEGIN:DAYLIGHT
TZOFFSETFROM:-0500
TZOFFSETTO:-0400
TZNAME:EDT
DTSTART:20230312T070000
END:DAYLIGHT
BEGIN:STANDARD
TZOFFSETFROM:-0400
TZOFFSETTO:-0500
TZNAME:EST
DTSTART:20231105T060000
END:STANDARD
END:VTIMEZONE
BEGIN:VEVENT
DTSTART;TZID=America/New_York:20220827T060000
DTEND;TZID=America/New_York:20220827T210000
DTSTAMP:20260424T113906
CREATED:20220823T184223Z
LAST-MODIFIED:20220823T184223Z
UID:10001116-1661580000-1661634000@nhaudubon.org
SUMMARY:Kayak Hampton and Seabrook Marshes
DESCRIPTION:Join Scott Heron as he leads a Seacoast Chapter trip paddling through Hampton and Seabrook’s estuary searching for a variety of bird life across tidal streams\, mudflats\, saltwater marshes and beach dunes. We’ll be looking for species of herons\, gulls\, terns\, shorebirds\, raptors\, swallows\, and other avian and marine life as we ride the falling tide. Meet at Harborside Park along Route 1A in Seabrook at 6am. Sunrise is at 5:57am and low tide is at 6:32am. Be mindful of best practices for boating safety. A kayak is preferred and a canoe can be used as well\, but may be more difficult to navigate. At times\, we’ll be travelling through very shallow water and mild currents. The trip is planned to take three hours. \nThis field trip will be limited to 15 participants. Visit the Seacoast Chapter site for more information and to sign-up. \nContact: Scott Heron
URL:https://nhaudubon.org/event/kayak-hampton-and-seabrook-marshes/
LOCATION:NH
CATEGORIES:Chapter Field Trip
ATTACH;FMTTYPE=image/png:https://nhaudubon.org/wp-content/uploads/seacoast-chapter-logo.png
ORGANIZER;CN="Seacoast Chapter":MAILTO:danielhubbard@peoplepc.com
END:VEVENT
END:VCALENDAR