BEGIN:VCALENDAR
VERSION:2.0
PRODID:-//NH Audubon - ECPv6.15.11//NONSGML v1.0//EN
CALSCALE:GREGORIAN
METHOD:PUBLISH
X-ORIGINAL-URL:https://nhaudubon.org
X-WR-CALDESC:Events for NH Audubon
REFRESH-INTERVAL;VALUE=DURATION:PT1H
X-Robots-Tag:noindex
X-PUBLISHED-TTL:PT1H
BEGIN:VTIMEZONE
TZID:America/New_York
BEGIN:DAYLIGHT
TZOFFSETFROM:-0500
TZOFFSETTO:-0400
TZNAME:EDT
DTSTART:20210314T070000
END:DAYLIGHT
BEGIN:STANDARD
TZOFFSETFROM:-0400
TZOFFSETTO:-0500
TZNAME:EST
DTSTART:20211107T060000
END:STANDARD
BEGIN:DAYLIGHT
TZOFFSETFROM:-0500
TZOFFSETTO:-0400
TZNAME:EDT
DTSTART:20220313T070000
END:DAYLIGHT
BEGIN:STANDARD
TZOFFSETFROM:-0400
TZOFFSETTO:-0500
TZNAME:EST
DTSTART:20221106T060000
END:STANDARD
BEGIN:DAYLIGHT
TZOFFSETFROM:-0500
TZOFFSETTO:-0400
TZNAME:EDT
DTSTART:20230312T070000
END:DAYLIGHT
BEGIN:STANDARD
TZOFFSETFROM:-0400
TZOFFSETTO:-0500
TZNAME:EST
DTSTART:20231105T060000
END:STANDARD
END:VTIMEZONE
BEGIN:VEVENT
DTSTART;TZID=America/New_York:20220820T100000
DTEND;TZID=America/New_York:20220820T110000
DTSTAMP:20260424T114908
CREATED:20220531T160257Z
LAST-MODIFIED:20220531T162529Z
UID:10000879-1660989600-1660993200@nhaudubon.org
SUMMARY:Buds & Blooms: Bee-Friending Our Native Pollinators
DESCRIPTION:Discover the unique and specialized native insects that play a critical role in both ecosystems and agriculture. They may be small\, but they are mighty\, and they come in more patterns than stripes alone! Let’s peruse the garden in search of the diverse array of invertebrates frequenting our native flowers and see how many we can “spot” while observing their behavior. An insect craft will conclude our program once we’ve ensured we’ve all become apprentice entomologists!   \nIntended for kids and families\, the Buds & Blooms Series is a compilation of five in-person public programs intended to introduce participants to the magic and wonder of our native plants and pollinators. Occurring monthly through October\, each program highlights a topic pertaining to pollinators and includes an interactive activity as well as a take away. Parental supervision is required and content/material is best suited for children ages 4-12. \nThis program is free of cost\, but RSVP’s are required to reserve your spot. \nPhoto Credit: Pixabay
URL:https://nhaudubon.org/event/buds-blooms-bee-friending-our-native-pollinators/
LOCATION:McLane Center\, 84 Silk Farm Road\, Concord\, NH\, 03301\, United States
CATEGORIES:Buds & Blooms Pollinator Programs,Nature Walk,Pollinators
ATTACH;FMTTYPE=image/jpeg:https://nhaudubon.org/wp-content/uploads/park-3396714_960_720.jpg
ORGANIZER;CN="Willa":MAILTO:wcoroka@nhaudubon.org
END:VEVENT
END:VCALENDAR