BEGIN:VCALENDAR
VERSION:2.0
PRODID:-//NH Audubon - ECPv6.15.11//NONSGML v1.0//EN
CALSCALE:GREGORIAN
METHOD:PUBLISH
X-ORIGINAL-URL:https://nhaudubon.org
X-WR-CALDESC:Events for NH Audubon
REFRESH-INTERVAL;VALUE=DURATION:PT1H
X-Robots-Tag:noindex
X-PUBLISHED-TTL:PT1H
BEGIN:VTIMEZONE
TZID:America/New_York
BEGIN:DAYLIGHT
TZOFFSETFROM:-0500
TZOFFSETTO:-0400
TZNAME:EDT
DTSTART:20210314T070000
END:DAYLIGHT
BEGIN:STANDARD
TZOFFSETFROM:-0400
TZOFFSETTO:-0500
TZNAME:EST
DTSTART:20211107T060000
END:STANDARD
BEGIN:DAYLIGHT
TZOFFSETFROM:-0500
TZOFFSETTO:-0400
TZNAME:EDT
DTSTART:20220313T070000
END:DAYLIGHT
BEGIN:STANDARD
TZOFFSETFROM:-0400
TZOFFSETTO:-0500
TZNAME:EST
DTSTART:20221106T060000
END:STANDARD
BEGIN:DAYLIGHT
TZOFFSETFROM:-0500
TZOFFSETTO:-0400
TZNAME:EDT
DTSTART:20230312T070000
END:DAYLIGHT
BEGIN:STANDARD
TZOFFSETFROM:-0400
TZOFFSETTO:-0500
TZNAME:EST
DTSTART:20231105T060000
END:STANDARD
END:VTIMEZONE
BEGIN:VEVENT
DTSTART;TZID=America/New_York:20220629T110000
DTEND;TZID=America/New_York:20220629T160000
DTSTAMP:20260423T091003
CREATED:20230522T151943Z
LAST-MODIFIED:20230522T151943Z
UID:10001911-1656500400-1656518400@nhaudubon.org
SUMMARY:Art Exhibit: From the Ground Up
DESCRIPTION:McLane Center is pleased to announce a new art exhibit on display by artist Ingeborg Seaboyer. The display will be up for public view from June 3-29 in Concord during regular center hours Tuesdays-Fridays from 11am-4pm. \nFrom the Ground Up – A Forester’s View \nIngeborg Seaboyer is a lifelong resident of Derry\, New Hampshire. Her art education has stretched from Pinkerton Academy to the University of New Hampshire to the Manchester Institute of Arts & Sciences (now the New Hampshire Institute of Art) where she began to explore pen and ink drawing in 1993. A forester with the State of New Hampshire Division of Forests and Lands\, her drawing has turned into something of a second career. Her works draw on her lifetime in fields and forests of New England; truly viewing those rural landscapes from the ground up. \nIngeborg has illustrated three books: Selecting Trees for Urban Landscape Ecosystems\, and Good Forestry in the Granite State 1st and 2nd Editions. She provided most of the illustrations for Project Learning Tree’s Focus on New Hampshire Forests. Additionally\, she has completed commissions for the New Hampshire Timberland Owners Association\, the New Hampshire Tree Farm Committee\, the Granite State Division of the Society of American Foresters and UNH Cooperative Extension. She often combines watercolor and colored pencil with her pen and ink techniques\, as well as working solely in watercolor. She is a founding member of the Derry Area Artists Collaborative and her work can be viewed at www.derryareaartists.com.
URL:https://nhaudubon.org/event/art-exhibit-from-the-ground-up/2022-06-29/
LOCATION:McLane Center\, 84 Silk Farm Road\, Concord\, NH\, 03301\, United States
CATEGORIES:Art Exhibit
ORGANIZER;CN="Michelle Varga":MAILTO:mvarga@nhaudubon.org
END:VEVENT
BEGIN:VEVENT
DTSTART;TZID=America/New_York:20220629T170000
DTEND;TZID=America/New_York:20220629T183000
DTSTAMP:20260423T091003
CREATED:20220608T193709Z
LAST-MODIFIED:20220608T193709Z
UID:10000884-1656522000-1656527400@nhaudubon.org
SUMMARY:Photography Workshop at Massabesic Center
DESCRIPTION:Date: June 29th\, 5:00pm-6:30pm \nPrice: $12 for members\, $15 for non-members \nJoin local nature photographer\, Tracy Brunner\, at the Massabesic Center for a late afternoon photo hike along Massabesic Lake. The walk will start at the Center and continue on the trails to photograph the beautiful lakeshore landscapes and the local wildlife. During the workshop\, Tracy will discuss tips for getting the most out of your landscape photographs\, will provide suggestions for camera settings and creative compositions\, and answer your photography questions. \nRecommended Equipment: \n· Camera with spare batteries \n· Comfortable walking shoes \n \n· Wide\, standard\, or zoom lenses (any will will work) \n· Tripod (optional) \n· Polarizer or neutral density filters (optional) \n  \n  \n  \n  \nPhoto credit: Tracy Brunner
URL:https://nhaudubon.org/event/photography-workshop-at-massabesic-center-2/
LOCATION:Massabesic Center\, 26 Audubon Way\, Auburn\, NH\, United States
CATEGORIES:Hands-on workshop,Nature Walk
ATTACH;FMTTYPE=image/jpeg:https://nhaudubon.org/wp-content/uploads/Hummingbird-Tracy-Brunner-e1679074297730.jpg
ORGANIZER;CN="Slater Roosa":MAILTO:sroosa@nhaudubon.org
END:VEVENT
END:VCALENDAR