BEGIN:VCALENDAR
VERSION:2.0
PRODID:-//NH Audubon - ECPv6.15.11//NONSGML v1.0//EN
CALSCALE:GREGORIAN
METHOD:PUBLISH
X-WR-CALNAME:NH Audubon
X-ORIGINAL-URL:https://nhaudubon.org
X-WR-CALDESC:Events for NH Audubon
REFRESH-INTERVAL;VALUE=DURATION:PT1H
X-Robots-Tag:noindex
X-PUBLISHED-TTL:PT1H
BEGIN:VTIMEZONE
TZID:America/New_York
BEGIN:DAYLIGHT
TZOFFSETFROM:-0500
TZOFFSETTO:-0400
TZNAME:EDT
DTSTART:20210314T070000
END:DAYLIGHT
BEGIN:STANDARD
TZOFFSETFROM:-0400
TZOFFSETTO:-0500
TZNAME:EST
DTSTART:20211107T060000
END:STANDARD
BEGIN:DAYLIGHT
TZOFFSETFROM:-0500
TZOFFSETTO:-0400
TZNAME:EDT
DTSTART:20220313T070000
END:DAYLIGHT
BEGIN:STANDARD
TZOFFSETFROM:-0400
TZOFFSETTO:-0500
TZNAME:EST
DTSTART:20221106T060000
END:STANDARD
BEGIN:DAYLIGHT
TZOFFSETFROM:-0500
TZOFFSETTO:-0400
TZNAME:EDT
DTSTART:20230312T070000
END:DAYLIGHT
BEGIN:STANDARD
TZOFFSETFROM:-0400
TZOFFSETTO:-0500
TZNAME:EST
DTSTART:20231105T060000
END:STANDARD
END:VTIMEZONE
BEGIN:VEVENT
DTSTART;TZID=America/New_York:20220625T093000
DTEND;TZID=America/New_York:20220625T143000
DTSTAMP:20260423T091008
CREATED:20220525T204505Z
LAST-MODIFIED:20220623T171141Z
UID:10001061-1656149400-1656167400@nhaudubon.org
SUMMARY:BioBlitz at the McLane Center Pollinator Habitat
DESCRIPTION:Saturday\, June 25th from 9:30am-2:30pm \nJoin us for a BioBlitz in the New Hampshire Audubon McLane Center pollinator habitat! We are looking to engage others to help us learn more about all that is living in our pollinator habitat. A BioBlitz is a community science effort where volunteers help find and record data on as many different species (plants\, animals\, insects\, fungi) within a designated location and time period. We are excited to have a number of local experts who will join us to lead participants as we explore the biodiversity on this site. \nSchedule \n9:30am: Introduction to the BioBlitz \n10:00-11:30am: Expert led field trips (choose one) \n\nEmma Erler\, Horticulturist for Squam Lakes Natural Science Center: Pollinator Plants\nHeidi Holman\, Wildlife Habitat Biologist for NH Fish and Game: Butterflies\nMike Thomas\, retired entomologist for USDA: Insect Pollinators\nPollinator Garden volunteers: Pollinator Garden\nIndividual exploration\n\n11:30-12:30: Break \n12:30-2:00 Expert led field trips \n\nSame as above\n\n2:30: Wrap-up \nShare out our findings \n*also\, the Nature Store will be open! \nRegistration is required for this free event (group numbers will be limited with each expert). Please use this link to register and sign up for your field trip of choice for the morning and afternoon sessions. \nIf you are able\, please join Conservation Program Director Marc Nutter for a short presentation covering the history and value of the iNaturalist community science platform on Thursday June\, 16 at 7pm. He will lead us through the process of creating an account and submitting observations using your mobile device. He will also go over how to be involved in our BioBlitz and what to expect. \nIf you have already made an iNaturalist account to join us on 6/25\, please join this project to submit your observations for our BioBlitz total. \nSome useful links to review before the presentation: \n\nCreating an iNaturalist Account\nGeneral iNaturalist Help Page\nHow to Make an Observation (Video)\nHow to Take Identifiable Photos (Video)
URL:https://nhaudubon.org/event/bioblitz-at-the-mclane-center-pollinator-habitat/
LOCATION:McLane Center\, 84 Silk Farm Road\, Concord\, NH\, 03301\, United States
CATEGORIES:Hands-on workshop,Pollinators,Volunteering,Wildlife Sanctuary Event
ATTACH;FMTTYPE=image/jpeg:https://nhaudubon.org/wp-content/uploads/Purple-coneflower-with-bumblebee-DDL-web.jpg
ORGANIZER;CN="Diane De Luca":MAILTO:ddeluca@nhaudubon.org
END:VEVENT
END:VCALENDAR