BEGIN:VCALENDAR
VERSION:2.0
PRODID:-//NH Audubon - ECPv6.15.11//NONSGML v1.0//EN
CALSCALE:GREGORIAN
METHOD:PUBLISH
X-ORIGINAL-URL:https://nhaudubon.org
X-WR-CALDESC:Events for NH Audubon
REFRESH-INTERVAL;VALUE=DURATION:PT1H
X-Robots-Tag:noindex
X-PUBLISHED-TTL:PT1H
BEGIN:VTIMEZONE
TZID:America/New_York
BEGIN:DAYLIGHT
TZOFFSETFROM:-0500
TZOFFSETTO:-0400
TZNAME:EDT
DTSTART:20210314T070000
END:DAYLIGHT
BEGIN:STANDARD
TZOFFSETFROM:-0400
TZOFFSETTO:-0500
TZNAME:EST
DTSTART:20211107T060000
END:STANDARD
BEGIN:DAYLIGHT
TZOFFSETFROM:-0500
TZOFFSETTO:-0400
TZNAME:EDT
DTSTART:20220313T070000
END:DAYLIGHT
BEGIN:STANDARD
TZOFFSETFROM:-0400
TZOFFSETTO:-0500
TZNAME:EST
DTSTART:20221106T060000
END:STANDARD
BEGIN:DAYLIGHT
TZOFFSETFROM:-0500
TZOFFSETTO:-0400
TZNAME:EDT
DTSTART:20230312T070000
END:DAYLIGHT
BEGIN:STANDARD
TZOFFSETFROM:-0400
TZOFFSETTO:-0500
TZNAME:EST
DTSTART:20231105T060000
END:STANDARD
END:VTIMEZONE
BEGIN:VEVENT
DTSTART;TZID=America/New_York:20220616T190000
DTEND;TZID=America/New_York:20220616T203000
DTSTAMP:20260423T091002
CREATED:20220418T174955Z
LAST-MODIFIED:20220521T153944Z
UID:10001019-1655406000-1655411400@nhaudubon.org
SUMMARY:iNaturalist Training for the June BioBlitz
DESCRIPTION:Learn how to use iNaturalist in preparation for our first Pollinator BioBlitz at the NH Audubon McLane Center! \nThursday\, June 16: 7-8:15pm \nCost: Free \nRegistration Link \nA BioBlitz is a community science effort where volunteers help find and record data on as many different species within a designated location and time period. New Hampshire Audubon is looking to engage others to help us learn more about all that is living in our pollinator habitat. \nJoin Conservation Program Director Marc Nutter for a short presentation covering the history and value of the iNaturalist community science platform. He will lead us through the process of creating an account and submitting observations using your mobile device and how to be involved in our BioBlitz at our state headquarters on June 25 and beyond. \nSome useful links to review before the presentation: \n1. Creating an iNaturalist Account \n2. General iNaturalist Help Page  \n3. How to Make an Observation (Video)  \n4. How to Take Identifiable Photos (Video) \nNew Hampshire Audubon Pollinator Speaker Series: Celebrating and Engaging in Pollinator Conservation \nJoin New Hampshire Audubon for our 2022 Pollinator Webinar series as we celebrate Pollinator Conservation. \nThis series seeks to inspire involvement and engagement in pollinator conservation through close focus programs that will allow participants to gain a deeper understanding and knowledge of pollinators and the plants they depend on. Programs are free to the public\, streamed via Zoom\, YouTube\, and Facebook Live. Presentations are supported by a grant from the Benjamin and Gertrude Couch Trusts. \nThe Pollinator Series will kick off on Earth Day\, Friday April 22 and culminate with a Pollinator BioBlitz at the McLane Center in Concord\, NH on June 25.
URL:https://nhaudubon.org/event/pollinator-bioblitz-at-the-nh-audubon-mclane-center-pollinator-habitat/
LOCATION:Zoom Link\, United States
CATEGORIES:Pollinators,Webinar,Zoom Talk
ATTACH;FMTTYPE=image/jpeg:https://nhaudubon.org/wp-content/uploads/Purple-coneflower-with-bumblebee-DDL-web.jpg
ORGANIZER;CN="Diane De Luca":MAILTO:ddeluca@nhaudubon.org
END:VEVENT
END:VCALENDAR