BEGIN:VCALENDAR
VERSION:2.0
PRODID:-//NH Audubon - ECPv6.15.11//NONSGML v1.0//EN
CALSCALE:GREGORIAN
METHOD:PUBLISH
X-ORIGINAL-URL:https://nhaudubon.org
X-WR-CALDESC:Events for NH Audubon
REFRESH-INTERVAL;VALUE=DURATION:PT1H
X-Robots-Tag:noindex
X-PUBLISHED-TTL:PT1H
BEGIN:VTIMEZONE
TZID:America/New_York
BEGIN:DAYLIGHT
TZOFFSETFROM:-0500
TZOFFSETTO:-0400
TZNAME:EDT
DTSTART:20210314T070000
END:DAYLIGHT
BEGIN:STANDARD
TZOFFSETFROM:-0400
TZOFFSETTO:-0500
TZNAME:EST
DTSTART:20211107T060000
END:STANDARD
BEGIN:DAYLIGHT
TZOFFSETFROM:-0500
TZOFFSETTO:-0400
TZNAME:EDT
DTSTART:20220313T070000
END:DAYLIGHT
BEGIN:STANDARD
TZOFFSETFROM:-0400
TZOFFSETTO:-0500
TZNAME:EST
DTSTART:20221106T060000
END:STANDARD
BEGIN:DAYLIGHT
TZOFFSETFROM:-0500
TZOFFSETTO:-0400
TZNAME:EDT
DTSTART:20230312T070000
END:DAYLIGHT
BEGIN:STANDARD
TZOFFSETFROM:-0400
TZOFFSETTO:-0500
TZNAME:EST
DTSTART:20231105T060000
END:STANDARD
END:VTIMEZONE
BEGIN:VEVENT
DTSTART;TZID=America/New_York:20220614T190000
DTEND;TZID=America/New_York:20220614T210000
DTSTAMP:20260423T091002
CREATED:20220504T190600Z
LAST-MODIFIED:20220504T190600Z
UID:10001054-1655233200-1655240400@nhaudubon.org
SUMMARY:NH Bat Counts Training
DESCRIPTION:Date: June 14\, 7:00pm-9:00pm\nRegistration link: https://naturegroupie.org/experiences/nh-bat-counts-training \nGot bats? Help us count them! Attics\, barns\, and church steeples often serve as summer homes for female bats and their young. In the face of white-nose syndrome\, which is causing significant declines in bat populations throughout the Northeast\, monitoring these “maternity colonies” is more important than ever. NH Fish and Game and UNH Cooperative Extension are looking for landowners\, homeowners\, and other volunteers to help keep track of New Hampshire’s bats by conducting “emergence counts” at bat roosts throughout the state. \nJoin wildlife biologists Sandi Houghton of NH Fish & Game and Haley Andreozzi of UNH Cooperative Extension for a presentation and demonstration at NH Audubon’s Massabesic Center to learn more about the bat species found in New Hampshire\, the threats leading to population declines\, and how you can help conserve bats. The training will start with an indoor presentation on bats in New Hampshire\, followed by a bat counting demonstration outdoors at dusk. Attendees will be trained to participate in the NH Bat Counts project\, which involves citizen science volunteers in helping to monitor summer bat colonies in New Hampshire. This training is free\, but space is limited and registration is required. Masks are recommended\, but not required inside the Massabesic Audubon Center. This policy is subject to change based on CDC guidelines and county transmission rates. \nSponsoring Organizations: NH Fish & Game\, UNH Cooperative Extension\, NH Audubon \n\nWhat to bring: \nThe second half of the training will be held outside. Be prepared for bugs (especially mosquitoes) – bring bug spray or wear clothing to protect yourself. Bring a flashlight or headlamp to increase visibility walking back to your car.
URL:https://nhaudubon.org/event/nh-bat-counts-training/
LOCATION:Massabesic Center\, 26 Audubon Way\, Auburn\, NH\, United States
CATEGORIES:Hands-on workshop
ATTACH;FMTTYPE=image/jpeg:https://nhaudubon.org/wp-content/uploads/Bat-count-pic.jpg
ORGANIZER;CN="Kimmie Whiteman":MAILTO:kwhiteman@nhaudubon.org
END:VEVENT
END:VCALENDAR