BEGIN:VCALENDAR
VERSION:2.0
PRODID:-//NH Audubon - ECPv6.15.11//NONSGML v1.0//EN
CALSCALE:GREGORIAN
METHOD:PUBLISH
X-ORIGINAL-URL:https://nhaudubon.org
X-WR-CALDESC:Events for NH Audubon
REFRESH-INTERVAL;VALUE=DURATION:PT1H
X-Robots-Tag:noindex
X-PUBLISHED-TTL:PT1H
BEGIN:VTIMEZONE
TZID:America/New_York
BEGIN:DAYLIGHT
TZOFFSETFROM:-0500
TZOFFSETTO:-0400
TZNAME:EDT
DTSTART:20210314T070000
END:DAYLIGHT
BEGIN:STANDARD
TZOFFSETFROM:-0400
TZOFFSETTO:-0500
TZNAME:EST
DTSTART:20211107T060000
END:STANDARD
BEGIN:DAYLIGHT
TZOFFSETFROM:-0500
TZOFFSETTO:-0400
TZNAME:EDT
DTSTART:20220313T070000
END:DAYLIGHT
BEGIN:STANDARD
TZOFFSETFROM:-0400
TZOFFSETTO:-0500
TZNAME:EST
DTSTART:20221106T060000
END:STANDARD
BEGIN:DAYLIGHT
TZOFFSETFROM:-0500
TZOFFSETTO:-0400
TZNAME:EDT
DTSTART:20230312T070000
END:DAYLIGHT
BEGIN:STANDARD
TZOFFSETFROM:-0400
TZOFFSETTO:-0500
TZNAME:EST
DTSTART:20231105T060000
END:STANDARD
END:VTIMEZONE
BEGIN:VEVENT
DTSTART;TZID=America/New_York:20220612T120000
DTEND;TZID=America/New_York:20220612T160000
DTSTAMP:20260423T091001
CREATED:20220516T135608Z
LAST-MODIFIED:20220521T154016Z
UID:10001056-1655035200-1655049600@nhaudubon.org
SUMMARY:Native Plant Sale
DESCRIPTION:Join us for the McLane Center Native Plant Sale. Bagley Pond Perennials will be at the center with a wide selection of native plants and shrubs for purchase. Bagley Pond is a native perennial farm that follows organic practices. Their goal is to provide home gardeners with pollinator safe\, native plants and shrubs to support our native pollinators and wildlife. \nBagley Pond also sells garden kits that include plants adapted to specific planting conditions. Featured this year is a NH Pollinator Certification Kit. \nNH Audubon Staff and Pollinator Garden Volunteers will be available to answer your questions about gardening\, pollinators\, native wildlife\, and native plants. \nTour our McLane Center Pollinator gardens while you are browsing for plants! \nPhoto: native plant sale from past years (Marc Nutter).
URL:https://nhaudubon.org/event/native-plant-sale-2/
LOCATION:McLane Center\, 84 Silk Farm Road\, Concord\, NH\, 03301\, United States
CATEGORIES:Pollinators
ATTACH;FMTTYPE=image/jpeg:https://nhaudubon.org/wp-content/uploads/native-plant-sale-2019-Marc-Nutter-banner1.jpg
ORGANIZER;CN="Diane De Luca":MAILTO:ddeluca@nhaudubon.org
END:VEVENT
END:VCALENDAR