BEGIN:VCALENDAR
VERSION:2.0
PRODID:-//NH Audubon - ECPv6.15.11//NONSGML v1.0//EN
CALSCALE:GREGORIAN
METHOD:PUBLISH
X-WR-CALNAME:NH Audubon
X-ORIGINAL-URL:https://nhaudubon.org
X-WR-CALDESC:Events for NH Audubon
REFRESH-INTERVAL;VALUE=DURATION:PT1H
X-Robots-Tag:noindex
X-PUBLISHED-TTL:PT1H
BEGIN:VTIMEZONE
TZID:America/New_York
BEGIN:DAYLIGHT
TZOFFSETFROM:-0500
TZOFFSETTO:-0400
TZNAME:EDT
DTSTART:20210314T070000
END:DAYLIGHT
BEGIN:STANDARD
TZOFFSETFROM:-0400
TZOFFSETTO:-0500
TZNAME:EST
DTSTART:20211107T060000
END:STANDARD
BEGIN:DAYLIGHT
TZOFFSETFROM:-0500
TZOFFSETTO:-0400
TZNAME:EDT
DTSTART:20220313T070000
END:DAYLIGHT
BEGIN:STANDARD
TZOFFSETFROM:-0400
TZOFFSETTO:-0500
TZNAME:EST
DTSTART:20221106T060000
END:STANDARD
BEGIN:DAYLIGHT
TZOFFSETFROM:-0500
TZOFFSETTO:-0400
TZNAME:EDT
DTSTART:20230312T070000
END:DAYLIGHT
BEGIN:STANDARD
TZOFFSETFROM:-0400
TZOFFSETTO:-0500
TZNAME:EST
DTSTART:20231105T060000
END:STANDARD
END:VTIMEZONE
BEGIN:VEVENT
DTSTART;TZID=America/New_York:20220527T080000
DTEND;TZID=America/New_York:20220527T090000
DTSTAMP:20260423T125852
CREATED:20220523T134648Z
LAST-MODIFIED:20220523T161502Z
UID:10001059-1653638400-1653642000@nhaudubon.org
SUMMARY:Birding Walk at Massabesic Center
DESCRIPTION:Join NH Audubon for a birding walk along the trails at Massabesic Center (MAC) in Auburn. \nThis is an hour-long\, informal birding walk that begins at MAC and explores the trails with Slater\, Massabesic Center’s Education Coordinator. All ages and skill levels of birders are welcome. If you are new to birding\, come and learn the basics! If you are an avid birder\, come to learn new techniques\, network with other birders\, or share your expertise with the group. \nCost: $8 Members/$10 Non-members. Registration is required; please purchase your tickets (below)\, although there are no actual hard-copy tickets. \nPhoto- Red-bellied Woodpecker by Pam Hunt
URL:https://nhaudubon.org/event/birding-walk-at-massabesic-center-14/
LOCATION:Massabesic Center\, 26 Audubon Way\, Auburn\, NH\, United States
CATEGORIES:Nature Walk
ATTACH;FMTTYPE=image/gif:https://nhaudubon.org/wp-content/uploads/RBWO-m5-E-Haven-CT-11-Oct-15-sm-267x300-1.gif
ORGANIZER;CN="Slater Roosa":MAILTO:sroosa@nhaudubon.org
END:VEVENT
BEGIN:VEVENT
DTSTART;TZID=America/New_York:20220527T080000
DTEND;TZID=America/New_York:20220527T100000
DTSTAMP:20260423T125852
CREATED:20220429T180352Z
LAST-MODIFIED:20220429T180352Z
UID:10001049-1653638400-1653645600@nhaudubon.org
SUMMARY:Concord Area Beginner Bird Walks - May 27
DESCRIPTION:Beginner Bird Walks: Concord Area \n8am Samuel Myron Chase Wildlife Sanctuary\, Hopkinton. Park at Jewett Road South entrance for Brown/Robinson Trail. \nParking Area: https://goo.gl/maps/XsZ9MPUCdG4gMgUN8 \nJoin NH Audubon for a birding walk along trails in the Concord area. \nThis is a 1-2 hour-long\, informal birding walk that explores trails in the Concord area with Mark Suomala\, experienced birder and weekly Rare Bird Alert compiler. All ages and skill levels of birders are welcome. If you are new to birding\, come and learn the basics! If you are an avid birder\, come to learn new techniques\, network with other birders\, or share your expertise with the group. \nCost: $8 Members/$10 Non-members. Registration is required; please purchase your tickets (below)\, although there are no actual hard-copy tickets. \nWear sturdy shoes\, and bring binoculars\, sunscreen (or rain gear)\, and bug repellent. Please leave pets at home. Several pairs of binoculars will be available for you to use on the walk at no extra cost. \nCapacity: 20 people \n  \nPhoto: White-throated Sparrow (Mark Suomala).
URL:https://nhaudubon.org/event/concord-area-beginner-bird-walks-may-27/
LOCATION:Samuel Myron Chase Wildlife Sanctuary\, Jewett Road\, Hopkinton\, NH\, 03229\, United States
CATEGORIES:Field Trip,Nature Walk
ATTACH;FMTTYPE=image/jpeg:https://nhaudubon.org/wp-content/uploads/White-throated-Sparrow_Mark-Suomala-e1651255659327.jpg
ORGANIZER;CN="Marc Nutter":MAILTO:mnutter@nhaudubon.org
GEO:43°09'41.1"N;71°38'12.8"W
X-APPLE-STRUCTURED-LOCATION;VALUE=URI;X-ADDRESS=Samuel Myron Chase Wildlife Sanctuary Jewett Road Hopkinton NH 03229 United States;X-APPLE-RADIUS=500;X-TITLE=Jewett Road:geo:71°38'12.8"W,43°09'41.1"N
END:VEVENT
BEGIN:VEVENT
DTSTART;TZID=America/New_York:20220527T110000
DTEND;TZID=America/New_York:20220527T160000
DTSTAMP:20260423T125852
CREATED:20220427T221533Z
LAST-MODIFIED:20220427T222957Z
UID:10001041-1653649200-1653667200@nhaudubon.org
SUMMARY:Nature Interpreted Art Exhibition
DESCRIPTION:Calling upon each artist’s distinct “Spirit of the Maker”\, the Nature Interpreted exhibition at New Hampshire Audubon’s Massabesic Center showcases the unique methods and techniques of three League of NH Craftsmen juried members. Participants include photographer Alicia Bergeron\, intaglio printmaker J. Ann Eldridge and serigraphic printmaker William Mitchell. The exhibition opens with a reception on April 30th from 2-4pm and continues at Massabesic Center through May 29th. \n\nMassabesic Center is open for the public to view this installation Tuesday – Friday 11am-4pm.\nSpecial hours for the opening reception are Saturday April 30th from 2-4pm.\nAdditional open hours will be Saturday\, May 7\, 9am-11am and Sunday\, May 29\, 9am-2pm
URL:https://nhaudubon.org/event/nature-interpreted-art-exhibition/2022-05-27/
LOCATION:Massabesic Center\, 26 Audubon Way\, Auburn\, NH\, United States
CATEGORIES:Art Exhibit
ATTACH;FMTTYPE=image/jpeg:https://nhaudubon.org/wp-content/uploads/Nature-Interpreted-image.jpg
END:VEVENT
END:VCALENDAR