BEGIN:VCALENDAR
VERSION:2.0
PRODID:-//NH Audubon - ECPv6.15.11//NONSGML v1.0//EN
CALSCALE:GREGORIAN
METHOD:PUBLISH
X-WR-CALNAME:NH Audubon
X-ORIGINAL-URL:https://nhaudubon.org
X-WR-CALDESC:Events for NH Audubon
REFRESH-INTERVAL;VALUE=DURATION:PT1H
X-Robots-Tag:noindex
X-PUBLISHED-TTL:PT1H
BEGIN:VTIMEZONE
TZID:America/New_York
BEGIN:DAYLIGHT
TZOFFSETFROM:-0500
TZOFFSETTO:-0400
TZNAME:EDT
DTSTART:20210314T070000
END:DAYLIGHT
BEGIN:STANDARD
TZOFFSETFROM:-0400
TZOFFSETTO:-0500
TZNAME:EST
DTSTART:20211107T060000
END:STANDARD
BEGIN:DAYLIGHT
TZOFFSETFROM:-0500
TZOFFSETTO:-0400
TZNAME:EDT
DTSTART:20220313T070000
END:DAYLIGHT
BEGIN:STANDARD
TZOFFSETFROM:-0400
TZOFFSETTO:-0500
TZNAME:EST
DTSTART:20221106T060000
END:STANDARD
BEGIN:DAYLIGHT
TZOFFSETFROM:-0500
TZOFFSETTO:-0400
TZNAME:EDT
DTSTART:20230312T070000
END:DAYLIGHT
BEGIN:STANDARD
TZOFFSETFROM:-0400
TZOFFSETTO:-0500
TZNAME:EST
DTSTART:20231105T060000
END:STANDARD
END:VTIMEZONE
BEGIN:VEVENT
DTSTART;VALUE=DATE:20220514
DTEND;VALUE=DATE:20220515
DTSTAMP:20260423T125846
CREATED:20220427T194924Z
LAST-MODIFIED:20220511T114737Z
UID:10001023-1652486400-1652572799@nhaudubon.org
SUMMARY:Big Day in May 2022
DESCRIPTION:Register to participate in Big Day on May 14\, 2022. \nUse this link to report on your findings at any time on Saturday and Sunday. \nFind out more\, here. \n 
URL:https://nhaudubon.org/event/big-day-in-may-2022/
LOCATION:Statewide\, NH
CATEGORIES:Bird Count
ATTACH;FMTTYPE=image/jpeg:https://nhaudubon.org/wp-content/uploads/Black-and-White-Warbler-Mark-Suomala.jpg
ORGANIZER;CN="Dyanna Smith":MAILTO:dsmith@nhaudubon.org
END:VEVENT
BEGIN:VEVENT
DTSTART;TZID=America/New_York:20220514T080000
DTEND;TZID=America/New_York:20220514T100000
DTSTAMP:20260423T125846
CREATED:20220429T175422Z
LAST-MODIFIED:20220502T153949Z
UID:10001047-1652515200-1652522400@nhaudubon.org
SUMMARY:Big Day - Concord Area Beginner Bird Walks - May 14
DESCRIPTION:Beginner Bird Walks: Concord Area \n8am McLane Center\, Concord. Turkey Pond trails – BIG DAY IN MAY! \nJoin NH Audubon for a birding walk along trails in the Concord area. \nThis is a 1-2 hour-long\, informal birding walk that explores trails in the Concord area with Mark Suomala\, experienced birder and weekly Rare Bird Alert compiler. All ages and skill levels of birders are welcome. If you are new to birding\, come and learn the basics! If you are an avid birder\, come to learn new techniques\, network with other birders\, or share your expertise with the group. \nCost: free. Registration is required; please RSVP (below)\, although there are no actual hard-copy tickets. \nWear sturdy shoes\, and bring binoculars\, sunscreen (or rain gear)\, and bug repellent. Please leave pets at home. Several pairs of binoculars will be available for you to use on the walk. \nCapacity: 20 people \n  \nPhoto: White-throated Sparrow (Mark Suomala).
URL:https://nhaudubon.org/event/big-day-concord-area-beginner-bird-walks-may-14/
LOCATION:McLane Center\, 84 Silk Farm Road\, Concord\, NH\, 03301\, United States
CATEGORIES:Field Trip,Nature Walk
ATTACH;FMTTYPE=image/jpeg:https://nhaudubon.org/wp-content/uploads/White-throated-Sparrow_Mark-Suomala-e1651255659327.jpg
ORGANIZER;CN="Marc Nutter":MAILTO:mnutter@nhaudubon.org
END:VEVENT
BEGIN:VEVENT
DTSTART;TZID=America/New_York:20220514T080000
DTEND;TZID=America/New_York:20220514T100000
DTSTAMP:20260423T125846
CREATED:20220502T142853Z
LAST-MODIFIED:20220502T142853Z
UID:10001050-1652515200-1652522400@nhaudubon.org
SUMMARY:Jack Gleason Memorial Nature Walk at Ponemah Bog
DESCRIPTION:Join us for the Jack Gleason memorial Nature Walk at Ponemah Bog Wildlife Sanctuary in Amherst. Explore the bog with Gail Coffey and Phil Brown on May 14\, starting at 8am. This is a rain or shine event\, with a cancel for heavy rain. Limited to 20 attendees; register by May 9\, 2022. \nCost: Free\, registration required. \nPhoto: Ponemah Bog (Phil Brown).
URL:https://nhaudubon.org/event/jack-gleason-memorial-nature-walk-at-ponemah-bog/
LOCATION:Ponemah Bog Wildlife Sanctuary\, Rhodora Drive\, Amherst\, NH\, United States
CATEGORIES:Field Trip,Nature Walk,Wildlife Sanctuary Event
ATTACH;FMTTYPE=image/jpeg:https://nhaudubon.org/wp-content/uploads/Ponemah-Bog-banner-PBrown.jpg
ORGANIZER;CN="George Rollend":MAILTO:grollend@comcast.net
END:VEVENT
BEGIN:VEVENT
DTSTART;TZID=America/New_York:20220514T080000
DTEND;TZID=America/New_York:20220514T100000
DTSTAMP:20260423T125846
CREATED:20220502T153908Z
LAST-MODIFIED:20220510T145422Z
UID:10001051-1652515200-1652522400@nhaudubon.org
SUMMARY:Big Day - Massabesic Beginner Bird Walk - May 14
DESCRIPTION:8am Massabesic Center\, Auburn. Join Doug Bechtel\, President of NH Audubon\, for a birding walk along the trails and meadows for BIG DAY IN MAY! \nThis is a 1-2 hour-long\, informal birding walk. All ages and skill levels of birders are welcome. If you are new to birding\, come and learn the basics! If you are an avid birder\, come to learn new techniques\, network with other birders\, or share your expertise with the group. \nCost: free. Registration is required; please RSVP (below)\, although there are no actual hard-copy tickets. \nWear sturdy shoes\, and bring binoculars\, sunscreen (or rain gear)\, and bug repellent. Please leave pets at home. Several pairs of binoculars will be available for you to use on the walk. \nCapacity: 20 people \n  \nPhoto: White-throated Sparrow (Mark Suomala).
URL:https://nhaudubon.org/event/big-day-massabesic-beginner-bird-walk-may-14/
LOCATION:Massabesic Center\, 26 Audubon Way\, Auburn\, NH\, United States
CATEGORIES:Field Trip,Nature Walk,Wildlife Sanctuary Event
ATTACH;FMTTYPE=image/jpeg:https://nhaudubon.org/wp-content/uploads/White-throated-Sparrow_Mark-Suomala-e1651255659327.jpg
ORGANIZER;CN="Marc Nutter":MAILTO:mnutter@nhaudubon.org
END:VEVENT
END:VCALENDAR