BEGIN:VCALENDAR
VERSION:2.0
PRODID:-//NH Audubon - ECPv6.15.11//NONSGML v1.0//EN
CALSCALE:GREGORIAN
METHOD:PUBLISH
X-WR-CALNAME:NH Audubon
X-ORIGINAL-URL:https://nhaudubon.org
X-WR-CALDESC:Events for NH Audubon
REFRESH-INTERVAL;VALUE=DURATION:PT1H
X-Robots-Tag:noindex
X-PUBLISHED-TTL:PT1H
BEGIN:VTIMEZONE
TZID:America/New_York
BEGIN:DAYLIGHT
TZOFFSETFROM:-0500
TZOFFSETTO:-0400
TZNAME:EDT
DTSTART:20210314T070000
END:DAYLIGHT
BEGIN:STANDARD
TZOFFSETFROM:-0400
TZOFFSETTO:-0500
TZNAME:EST
DTSTART:20211107T060000
END:STANDARD
BEGIN:DAYLIGHT
TZOFFSETFROM:-0500
TZOFFSETTO:-0400
TZNAME:EDT
DTSTART:20220313T070000
END:DAYLIGHT
BEGIN:STANDARD
TZOFFSETFROM:-0400
TZOFFSETTO:-0500
TZNAME:EST
DTSTART:20221106T060000
END:STANDARD
BEGIN:DAYLIGHT
TZOFFSETFROM:-0500
TZOFFSETTO:-0400
TZNAME:EDT
DTSTART:20230312T070000
END:DAYLIGHT
BEGIN:STANDARD
TZOFFSETFROM:-0400
TZOFFSETTO:-0500
TZNAME:EST
DTSTART:20231105T060000
END:STANDARD
END:VTIMEZONE
BEGIN:VEVENT
DTSTART;TZID=America/New_York:20220511T110000
DTEND;TZID=America/New_York:20220511T160000
DTSTAMP:20260423T125853
CREATED:20220427T221533Z
LAST-MODIFIED:20220427T222957Z
UID:10001031-1652266800-1652284800@nhaudubon.org
SUMMARY:Nature Interpreted Art Exhibition
DESCRIPTION:Calling upon each artist’s distinct “Spirit of the Maker”\, the Nature Interpreted exhibition at New Hampshire Audubon’s Massabesic Center showcases the unique methods and techniques of three League of NH Craftsmen juried members. Participants include photographer Alicia Bergeron\, intaglio printmaker J. Ann Eldridge and serigraphic printmaker William Mitchell. The exhibition opens with a reception on April 30th from 2-4pm and continues at Massabesic Center through May 29th. \n\nMassabesic Center is open for the public to view this installation Tuesday – Friday 11am-4pm.\nSpecial hours for the opening reception are Saturday April 30th from 2-4pm.\nAdditional open hours will be Saturday\, May 7\, 9am-11am and Sunday\, May 29\, 9am-2pm
URL:https://nhaudubon.org/event/nature-interpreted-art-exhibition/2022-05-11/
LOCATION:Massabesic Center\, 26 Audubon Way\, Auburn\, NH\, United States
CATEGORIES:Art Exhibit
ATTACH;FMTTYPE=image/jpeg:https://nhaudubon.org/wp-content/uploads/Nature-Interpreted-image.jpg
END:VEVENT
BEGIN:VEVENT
DTSTART;TZID=America/New_York:20220511T193000
DTEND;TZID=America/New_York:20220511T203000
DTSTAMP:20260423T125853
CREATED:20220223T145316Z
LAST-MODIFIED:20220223T145316Z
UID:10000976-1652297400-1652301000@nhaudubon.org
SUMMARY:Birding 201
DESCRIPTION:Seacoast Chapter Program \nWednesday\, May 11\n \nYou know the basics\, so let’s focus on taking things to the next level. This  interactive program by David Blezard will teach different tricks and tips\, as we spend some time getting to know some of the more challenging groups of birds to identify within the northeastern US: sparrows\, flycatchers\, warblers\, vireos\, and more. Brush up your skills just in time for the spring migration. \nBio: David Blezard started birding in New Hampshire when he first took UNH’s Ornithology course 30 years ago. He then went on to be a teaching assistant for that course\, became involved with the Seacoast Chapter of NH Audubon\, and has given many talks about birds and birding since. David is the current President and Treasurer of the Seacoast Chapter. \nVisit the Seacoast Chapter website for further details and to register for the free zoom talk.
URL:https://nhaudubon.org/event/birding-201/
LOCATION:Seacoast Science Center\, Odiorne State Park\, Route 1A\, Rye\, NH\, United States
CATEGORIES:Chapter Program
ATTACH;FMTTYPE=image/png:https://nhaudubon.org/wp-content/uploads/seacoast-chapter-logo.png
ORGANIZER;CN="Seacoast Chapter":MAILTO:danielhubbard@peoplepc.com
END:VEVENT
END:VCALENDAR