BEGIN:VCALENDAR
VERSION:2.0
PRODID:-//NH Audubon - ECPv6.15.11//NONSGML v1.0//EN
CALSCALE:GREGORIAN
METHOD:PUBLISH
X-WR-CALNAME:NH Audubon
X-ORIGINAL-URL:https://nhaudubon.org
X-WR-CALDESC:Events for NH Audubon
REFRESH-INTERVAL;VALUE=DURATION:PT1H
X-Robots-Tag:noindex
X-PUBLISHED-TTL:PT1H
BEGIN:VTIMEZONE
TZID:America/New_York
BEGIN:DAYLIGHT
TZOFFSETFROM:-0500
TZOFFSETTO:-0400
TZNAME:EDT
DTSTART:20210314T070000
END:DAYLIGHT
BEGIN:STANDARD
TZOFFSETFROM:-0400
TZOFFSETTO:-0500
TZNAME:EST
DTSTART:20211107T060000
END:STANDARD
BEGIN:DAYLIGHT
TZOFFSETFROM:-0500
TZOFFSETTO:-0400
TZNAME:EDT
DTSTART:20220313T070000
END:DAYLIGHT
BEGIN:STANDARD
TZOFFSETFROM:-0400
TZOFFSETTO:-0500
TZNAME:EST
DTSTART:20221106T060000
END:STANDARD
BEGIN:DAYLIGHT
TZOFFSETFROM:-0500
TZOFFSETTO:-0400
TZNAME:EDT
DTSTART:20230312T070000
END:DAYLIGHT
BEGIN:STANDARD
TZOFFSETFROM:-0400
TZOFFSETTO:-0500
TZNAME:EST
DTSTART:20231105T060000
END:STANDARD
END:VTIMEZONE
BEGIN:VEVENT
DTSTART;TZID=America/New_York:20220425T080000
DTEND;TZID=America/New_York:20220429T170000
DTSTAMP:20260423T145154
CREATED:20211202T171334Z
LAST-MODIFIED:20220404T202041Z
UID:10000791-1650873600-1651251600@nhaudubon.org
SUMMARY:Spring Vacation Day Camp
DESCRIPTION:Spring camp is April 25-29! Find out more on our Nature Day Camp webpage.
URL:https://nhaudubon.org/event/spring-vacation-day-camp/
LOCATION:NH
CATEGORIES:Nature Camp
END:VEVENT
BEGIN:VEVENT
DTSTART;TZID=America/New_York:20220427T190000
DTEND;TZID=America/New_York:20220427T203000
DTSTAMP:20260423T145154
CREATED:20220404T162755Z
LAST-MODIFIED:20220404T200551Z
UID:10000851-1651086000-1651091400@nhaudubon.org
SUMMARY:Hummingbirds are Energy Ninjas\, Day and Night
DESCRIPTION:Pollinator Series: Wednesday\, April 27: 7pm – 8:15pm \nRegistration Link \nJoin Anusha Shankar\, a Rose Postdoctoral Fellow at the Cornell Lab of Ornithology\, and a National Geographic Explorer and Young Leader who has been studying hummingbirds and their amazing adaptations. \nHummingbirds live fast. They have among the highest metabolic rates of all vertebrates\, and must eat constantly to stay alive. Their existence is closely tied to the availability of their food resources – nectar plants and insects. What do hummingbirds do when they can’t see their food plants at night or eat? Do they starve\, or perhaps… go into a hibernation-like state? Find out some of the surprising nightlife of hummingbirds! \nBio: Anusha Shankar studies hummingbirds as a Rose Postdoctoral Fellow at the Cornell Lab of Ornithology. She is fascinated by hummingbirds’ ability to use a hibernation-like state called torpor to save energy at night. She is investigating how they can get cold (50°F) and rewarm safely every night\, without damaging organs like their hearts and brains. During her PhD\, Anusha captured hummingbird nightlife with infrared video\, and before that tracked king cobras and studied giant birds—hornbills—in India. Anusha is also a National Geographic Explorer and Young Leader and loves mentoring students\, dancing salsa\, bachata\, and swing\, and reading fiction. \nNew Hampshire Audubon Pollinator Speaker Series: Celebrating and Engaging in Pollinator Conservation \nJoin New Hampshire Audubon for our 2022 Pollinator Webinar series as we celebrate Pollinator Conservation. This series seeks to inspire involvement and engagement in pollinator conservation through close focus programs that will allow participants to gain a deeper understanding and knowledge of pollinators and the plants they depend on. Programs are free to the public\, streamed via Zoom\, YouTube\, and Facebook Live. Presentations are supported by a grant from the Benjamin and Gertrude Couch Trusts. \nThe Pollinator Series will kick off on Earth Day\, Friday April 22 and culminate with a Pollinator BioBlitz at the McLane Center in Concord\, NH on June 25. \nPhoto: Bumblebee pollinating flowers in the McLane gardens (Diane De Luca).
URL:https://nhaudubon.org/event/hummingbirds-are-energy-ninjas-day-and-night/
LOCATION:NH
CATEGORIES:Pollinators,Webinar,Zoom Talk
ATTACH;FMTTYPE=image/jpeg:https://nhaudubon.org/wp-content/uploads/post-03.jpg
ORGANIZER;CN="Diane De Luca":MAILTO:ddeluca@nhaudubon.org
END:VEVENT
END:VCALENDAR