BEGIN:VCALENDAR
VERSION:2.0
PRODID:-//NH Audubon - ECPv6.15.11//NONSGML v1.0//EN
CALSCALE:GREGORIAN
METHOD:PUBLISH
X-ORIGINAL-URL:https://nhaudubon.org
X-WR-CALDESC:Events for NH Audubon
REFRESH-INTERVAL;VALUE=DURATION:PT1H
X-Robots-Tag:noindex
X-PUBLISHED-TTL:PT1H
BEGIN:VTIMEZONE
TZID:America/New_York
BEGIN:DAYLIGHT
TZOFFSETFROM:-0500
TZOFFSETTO:-0400
TZNAME:EDT
DTSTART:20210314T070000
END:DAYLIGHT
BEGIN:STANDARD
TZOFFSETFROM:-0400
TZOFFSETTO:-0500
TZNAME:EST
DTSTART:20211107T060000
END:STANDARD
BEGIN:DAYLIGHT
TZOFFSETFROM:-0500
TZOFFSETTO:-0400
TZNAME:EDT
DTSTART:20220313T070000
END:DAYLIGHT
BEGIN:STANDARD
TZOFFSETFROM:-0400
TZOFFSETTO:-0500
TZNAME:EST
DTSTART:20221106T060000
END:STANDARD
BEGIN:DAYLIGHT
TZOFFSETFROM:-0500
TZOFFSETTO:-0400
TZNAME:EDT
DTSTART:20230312T070000
END:DAYLIGHT
BEGIN:STANDARD
TZOFFSETFROM:-0400
TZOFFSETTO:-0500
TZNAME:EST
DTSTART:20231105T060000
END:STANDARD
END:VTIMEZONE
BEGIN:VEVENT
DTSTART;TZID=America/New_York:20220423T100000
DTEND;TZID=America/New_York:20220423T160000
DTSTAMP:20260423T145238
CREATED:20220303T153615Z
LAST-MODIFIED:20220420T134139Z
UID:10000997-1650708000-1650729600@nhaudubon.org
SUMMARY:Earth Day Celebration April 23\, 2022
DESCRIPTION:On April 23\, 2022 NH Audubon Massabesic Center is having their Earth Day celebration! We will celebrate planet Earth with a variety of family-friendly activities\, while also learning how to conserve wildlife and natural resources. Activities include guided nature walks\, bluebird nest-box building\, animal ambassador presentations\, master gardener demonstrations\, children’s story time\, and crafts. \nNew this year: we will have an American Sign Language interpreter on hand! \nWhere: NH Audubon Massabesic Center in Auburn \nWhen: April 23 at 10am-4pm \nPrice: $10 for a family of 4 (members)\, $15 for a family of 4 (non-members). Each family of 4 gets a birdhouse kit as well. \nRegistration times will be staggered by every hour starting at 10am. Each hour is capped at 20 families. Pre-registration is highly recommended\, but we can accept walk-up registration if that time slot is not filled to capacity. \nChoose Your Timeslot Below to Register:\n \n10am Registration \n11am Registration \n12pm Registration \n1pm Registration \n2pm Registration \n3pm Registration \nPlus\, everyone gets to take home a tree sapling to plant! \n  \nVisit the Earth Day webpage for full event details. \n 
URL:https://nhaudubon.org/event/earth-day-celebration-april-23-2022/
LOCATION:Massabesic Center\, 26 Audubon Way\, Auburn\, NH\, United States
CATEGORIES:Featured,Nature Walk,Pollinators
ATTACH;FMTTYPE=image/jpeg:https://nhaudubon.org/wp-content/uploads/Earth-Day-nature-walk-DyannaSmith-banner.jpg
ORGANIZER;CN="Slater Roosa":MAILTO:sroosa@nhaudubon.org
END:VEVENT
END:VCALENDAR