BEGIN:VCALENDAR
VERSION:2.0
PRODID:-//NH Audubon - ECPv6.15.11//NONSGML v1.0//EN
CALSCALE:GREGORIAN
METHOD:PUBLISH
X-WR-CALNAME:NH Audubon
X-ORIGINAL-URL:https://nhaudubon.org
X-WR-CALDESC:Events for NH Audubon
REFRESH-INTERVAL;VALUE=DURATION:PT1H
X-Robots-Tag:noindex
X-PUBLISHED-TTL:PT1H
BEGIN:VTIMEZONE
TZID:America/New_York
BEGIN:DAYLIGHT
TZOFFSETFROM:-0500
TZOFFSETTO:-0400
TZNAME:EDT
DTSTART:20210314T070000
END:DAYLIGHT
BEGIN:STANDARD
TZOFFSETFROM:-0400
TZOFFSETTO:-0500
TZNAME:EST
DTSTART:20211107T060000
END:STANDARD
BEGIN:DAYLIGHT
TZOFFSETFROM:-0500
TZOFFSETTO:-0400
TZNAME:EDT
DTSTART:20220313T070000
END:DAYLIGHT
BEGIN:STANDARD
TZOFFSETFROM:-0400
TZOFFSETTO:-0500
TZNAME:EST
DTSTART:20221106T060000
END:STANDARD
BEGIN:DAYLIGHT
TZOFFSETFROM:-0500
TZOFFSETTO:-0400
TZNAME:EDT
DTSTART:20230312T070000
END:DAYLIGHT
BEGIN:STANDARD
TZOFFSETFROM:-0400
TZOFFSETTO:-0500
TZNAME:EST
DTSTART:20231105T060000
END:STANDARD
END:VTIMEZONE
BEGIN:VEVENT
DTSTART;TZID=America/New_York:20220422T080000
DTEND;TZID=America/New_York:20220422T090000
DTSTAMP:20260423T145154
CREATED:20220411T152953Z
LAST-MODIFIED:20220411T152953Z
UID:10000853-1650614400-1650618000@nhaudubon.org
SUMMARY:Birding Walk at Massabesic Center
DESCRIPTION:Join NH Audubon for a birding walk along the trails at Massabesic Center (MAC) in Auburn. \nThis is an hour-long\, informal birding walk that begins at MAC and explores the trails with Slater\, Massabesic Center’s Education Coordinator. All ages and skill levels of birders are welcome. If you are new to birding\, come and learn the basics! If you are an avid birder\, come to learn new techniques\, network with other birders\, or share your expertise with the group. \nCost: $8 Members/$10 Non-members. Registration is required; please purchase your tickets (below)\, although there are no actual hard-copy tickets. \nPhoto- Red-bellied Woodpecker by Pam Hunt
URL:https://nhaudubon.org/event/birding-walk-at-massabesic-center-13/
LOCATION:Massabesic Center\, 26 Audubon Way\, Auburn\, NH\, United States
CATEGORIES:Nature Walk
ATTACH;FMTTYPE=image/gif:https://nhaudubon.org/wp-content/uploads/RBWO-m5-E-Haven-CT-11-Oct-15-sm-267x300-1.gif
ORGANIZER;CN="Slater Roosa":MAILTO:sroosa@nhaudubon.org
END:VEVENT
BEGIN:VEVENT
DTSTART;TZID=America/New_York:20220422T190000
DTEND;TZID=America/New_York:20220422T203000
DTSTAMP:20260423T145154
CREATED:20220404T162100Z
LAST-MODIFIED:20220404T200520Z
UID:10000849-1650654000-1650659400@nhaudubon.org
SUMMARY:Gardening for Pollinators and Wildlife
DESCRIPTION:Make Earth Day Every Day in your Yard: Gardening for Pollinators and Wildlife \nFriday\, April 22: 7-8:15pm \nCost: Free \nRegistration Link \nJoin Speaker Vicki J. Brown for a celebration on Earth Day! Vicki is a marketer\, naturalist\, NH Natural Resources Steward\, co-founder of Pollinator Pathways NH\, and Speaking for Wildlife volunteer. \nHer presentation will share how your yard and community can provide critical habitat for birds\, bees\, and other wildlife. With a few simple changes to your landscaping practices\, you can: \n\nIncrease wildlife variety\, including birds\, in your yard\nDecrease time spent on mowing and other yard chores\nReduce or eliminate watering\n\n  \nNew Hampshire Audubon Pollinator Speaker Series: Celebrating and Engaging in Pollinator Conservation \nJoin New Hampshire Audubon for our 2022 Pollinator Webinar series as we celebrate Pollinator Conservation. This series seeks to inspire involvement and engagement in pollinator conservation through close focus programs that will allow participants to gain a deeper understanding and knowledge of pollinators and the plants they depend on. Programs are free to the public\, streamed via Zoom\, YouTube\, and Facebook Live. Presentations are supported by a grant from the Benjamin and Gertrude Couch Trusts. \nThe Pollinator Series will kick off on Earth Day\, Friday April 22 and culminate with a Pollinator BioBlitz at the McLane Center in Concord\, NH on June 25. \nPhoto: Bumblebee pollinating flowers in the McLane gardens (Diane De Luca).
URL:https://nhaudubon.org/event/gardening-for-pollinators-and-wildlife/
LOCATION:NH
CATEGORIES:Pollinators,Webinar,Zoom Talk
ATTACH;FMTTYPE=image/jpeg:https://nhaudubon.org/wp-content/uploads/post-03.jpg
ORGANIZER;CN="Diane De Luca":MAILTO:ddeluca@nhaudubon.org
END:VEVENT
END:VCALENDAR