BEGIN:VCALENDAR
VERSION:2.0
PRODID:-//NH Audubon - ECPv6.15.11//NONSGML v1.0//EN
CALSCALE:GREGORIAN
METHOD:PUBLISH
X-WR-CALNAME:NH Audubon
X-ORIGINAL-URL:https://nhaudubon.org
X-WR-CALDESC:Events for NH Audubon
REFRESH-INTERVAL;VALUE=DURATION:PT1H
X-Robots-Tag:noindex
X-PUBLISHED-TTL:PT1H
BEGIN:VTIMEZONE
TZID:America/New_York
BEGIN:DAYLIGHT
TZOFFSETFROM:-0500
TZOFFSETTO:-0400
TZNAME:EDT
DTSTART:20210314T070000
END:DAYLIGHT
BEGIN:STANDARD
TZOFFSETFROM:-0400
TZOFFSETTO:-0500
TZNAME:EST
DTSTART:20211107T060000
END:STANDARD
BEGIN:DAYLIGHT
TZOFFSETFROM:-0500
TZOFFSETTO:-0400
TZNAME:EDT
DTSTART:20220313T070000
END:DAYLIGHT
BEGIN:STANDARD
TZOFFSETFROM:-0400
TZOFFSETTO:-0500
TZNAME:EST
DTSTART:20221106T060000
END:STANDARD
BEGIN:DAYLIGHT
TZOFFSETFROM:-0500
TZOFFSETTO:-0400
TZNAME:EDT
DTSTART:20230312T070000
END:DAYLIGHT
BEGIN:STANDARD
TZOFFSETFROM:-0400
TZOFFSETTO:-0500
TZNAME:EST
DTSTART:20231105T060000
END:STANDARD
END:VTIMEZONE
BEGIN:VEVENT
DTSTART;TZID=America/New_York:20220419T190000
DTEND;TZID=America/New_York:20220419T200000
DTSTAMP:20260423T145155
CREATED:20220222T170735Z
LAST-MODIFIED:20220228T152033Z
UID:10000966-1650394800-1650398400@nhaudubon.org
SUMMARY:Resilient Raptors Webinar
DESCRIPTION:Courtship\, Mating\, & Egg Anatomy \nUsing footage from the field\, this program dives into the often comical arena of avian courtship displays after first covering dimorphic traits between commonly observed male and female bird species. Next\, we will dissect an egg to explore anatomy\, physiology\, and lastly\, chick development. Attendees are invited to follow along at home with their own raw chicken egg and dark-colored plate! \nMaterials to accompany this webinar can be found at the Concord Public Library\, the Manchester City Library\, and the NH Audubon’s Massabesic Center. \nFollow along as we monitor the Manchester Peregrine Falcon pair at the following link: https://www.youtube.com/watch?v=gsV9g-VmTpw \nTo register for the webinar please click the registration link below: \nhttps://us02web.zoom.us/webinar/register/WN_KtvW2IhhQ0C0AynDStLMtg \nOnce you have registered\, you will receive a confirmation email as well as an email with the Zoom link a day before and an hour before the actual webinar begins.
URL:https://nhaudubon.org/event/resilient-raptors-webinar-2/
LOCATION:NH
CATEGORIES:Resilient Raptors Webinar Series,Webinar,Zoom Talk
ATTACH;FMTTYPE=image/png:https://nhaudubon.org/wp-content/uploads/RR-Marketing.png
END:VEVENT
END:VCALENDAR