BEGIN:VCALENDAR
VERSION:2.0
PRODID:-//NH Audubon - ECPv6.15.11//NONSGML v1.0//EN
CALSCALE:GREGORIAN
METHOD:PUBLISH
X-ORIGINAL-URL:https://nhaudubon.org
X-WR-CALDESC:Events for NH Audubon
REFRESH-INTERVAL;VALUE=DURATION:PT1H
X-Robots-Tag:noindex
X-PUBLISHED-TTL:PT1H
BEGIN:VTIMEZONE
TZID:America/New_York
BEGIN:DAYLIGHT
TZOFFSETFROM:-0500
TZOFFSETTO:-0400
TZNAME:EDT
DTSTART:20210314T070000
END:DAYLIGHT
BEGIN:STANDARD
TZOFFSETFROM:-0400
TZOFFSETTO:-0500
TZNAME:EST
DTSTART:20211107T060000
END:STANDARD
BEGIN:DAYLIGHT
TZOFFSETFROM:-0500
TZOFFSETTO:-0400
TZNAME:EDT
DTSTART:20220313T070000
END:DAYLIGHT
BEGIN:STANDARD
TZOFFSETFROM:-0400
TZOFFSETTO:-0500
TZNAME:EST
DTSTART:20221106T060000
END:STANDARD
BEGIN:DAYLIGHT
TZOFFSETFROM:-0500
TZOFFSETTO:-0400
TZNAME:EDT
DTSTART:20230312T070000
END:DAYLIGHT
BEGIN:STANDARD
TZOFFSETFROM:-0400
TZOFFSETTO:-0500
TZNAME:EST
DTSTART:20231105T060000
END:STANDARD
END:VTIMEZONE
BEGIN:VEVENT
DTSTART;TZID=America/New_York:20220413T193000
DTEND;TZID=America/New_York:20220413T203000
DTSTAMP:20260423T145237
CREATED:20220223T145216Z
LAST-MODIFIED:20220223T145216Z
UID:10000975-1649878200-1649881800@nhaudubon.org
SUMMARY:Walden Warming: Climate Change Comes to Thoreau's Concord
DESCRIPTION:Seacoast Chapter Program \nWednesday\, April 13\n \nHenry David Thoreau was a climate change scientist! For the past 18 years\, presenter Professor Richard Primack and his team have been using Thoreau’s records from the 1850s and other Massachusetts data sources to document the earlier flowering and leafing out times of plants\, the earlier flight times of butterflies and the more variable response of migratory birds. Plants in Concord are also changing in abundance due to a warming climate. This work is now being extended to the neglected autumn season. What would Thoreau tell us to do about global warming if he were alive today? \nBio: Richard Primack is a Professor at Boston University with a specialization in plant ecology and conservation. He has written four widely used conservation biology textbooks; local co-authors helped to produce 38 translations with local examples. He was Editor-in-Chief of the journal Biological Conservation and served as President of the Association for Tropical Biology and Conservation. His research has been featured in the New York Times\, the Boston Globe\, and Nation Geographic\, and he is often interviewed on National Public Radio. Primack shares his research in the popular book Walden Warming: Climate Change Comes to Thoreau’s Woods. \nVisit the Seacoast Chapter website for further details and to register for the free zoom talk.
URL:https://nhaudubon.org/event/walden-warming-climate-change-comes-to-thoreaus-concord/
LOCATION:Seacoast Science Center\, Odiorne State Park\, Route 1A\, Rye\, NH\, United States
CATEGORIES:Chapter Program
ATTACH;FMTTYPE=image/png:https://nhaudubon.org/wp-content/uploads/seacoast-chapter-logo.png
ORGANIZER;CN="Seacoast Chapter":MAILTO:danielhubbard@peoplepc.com
END:VEVENT
END:VCALENDAR