BEGIN:VCALENDAR
VERSION:2.0
PRODID:-//NH Audubon - ECPv6.15.11//NONSGML v1.0//EN
CALSCALE:GREGORIAN
METHOD:PUBLISH
X-ORIGINAL-URL:https://nhaudubon.org
X-WR-CALDESC:Events for NH Audubon
REFRESH-INTERVAL;VALUE=DURATION:PT1H
X-Robots-Tag:noindex
X-PUBLISHED-TTL:PT1H
BEGIN:VTIMEZONE
TZID:America/New_York
BEGIN:DAYLIGHT
TZOFFSETFROM:-0500
TZOFFSETTO:-0400
TZNAME:EDT
DTSTART:20210314T070000
END:DAYLIGHT
BEGIN:STANDARD
TZOFFSETFROM:-0400
TZOFFSETTO:-0500
TZNAME:EST
DTSTART:20211107T060000
END:STANDARD
BEGIN:DAYLIGHT
TZOFFSETFROM:-0500
TZOFFSETTO:-0400
TZNAME:EDT
DTSTART:20220313T070000
END:DAYLIGHT
BEGIN:STANDARD
TZOFFSETFROM:-0400
TZOFFSETTO:-0500
TZNAME:EST
DTSTART:20221106T060000
END:STANDARD
BEGIN:DAYLIGHT
TZOFFSETFROM:-0500
TZOFFSETTO:-0400
TZNAME:EDT
DTSTART:20230312T070000
END:DAYLIGHT
BEGIN:STANDARD
TZOFFSETFROM:-0400
TZOFFSETTO:-0500
TZNAME:EST
DTSTART:20231105T060000
END:STANDARD
END:VTIMEZONE
BEGIN:VEVENT
DTSTART;TZID=America/New_York:20220408T080000
DTEND;TZID=America/New_York:20220408T090000
DTSTAMP:20260423T145147
CREATED:20220316T193236Z
LAST-MODIFIED:20220316T193237Z
UID:10001006-1649404800-1649408400@nhaudubon.org
SUMMARY:Birding Walk at Massabesic Center
DESCRIPTION:Join NH Audubon for a birding walk along the trails at Massabesic Center (MAC) in Auburn. \nThis is an hour-long\, informal birding walk that begins at MAC and explores the trails with Slater\, Massabesic Center’s Education Coordinator. All ages and skill levels of birders are welcome. If you are new to birding\, come and learn the basics! If you are an avid birder\, come to learn new techniques\, network with other birders\, or share your expertise with the group. \nCost: $8 Members/$10 Non-members. Registration is required; please purchase your tickets (below)\, although there are no actual hard-copy tickets. \nPhoto- Red-bellied Woodpecker by Pam Hunt
URL:https://nhaudubon.org/event/birding-walk-at-massabesic-center-11/
LOCATION:Massabesic Center\, 26 Audubon Way\, Auburn\, NH\, United States
ATTACH;FMTTYPE=image/gif:https://nhaudubon.org/wp-content/uploads/RBWO-m5-E-Haven-CT-11-Oct-15-sm-267x300-1.gif
ORGANIZER;CN="Slater Roosa":MAILTO:sroosa@nhaudubon.org
END:VEVENT
BEGIN:VEVENT
DTSTART;TZID=America/New_York:20220408T130000
DTEND;TZID=America/New_York:20220408T160000
DTSTAMP:20260423T145147
CREATED:20220324T190418Z
LAST-MODIFIED:20220324T190418Z
UID:10001009-1649422800-1649433600@nhaudubon.org
SUMMARY:How to Lead an Invasive Plant Workday
DESCRIPTION:Calling all volunteers! Join members of the Nature Groupie team for a unique training on how to lead an invasive plant workday. Based on our highly popular Workday 101: Training Guide\, participants will learn tips and tricks for planning\, promoting\, and running an invasive plant event! \nThis workshop is specifically for New Hampshire Audubon volunteers and staff who are interested in getting involved in invasive plant management at NH Audubon’s Massabesic Center and becoming a NH Audubon Invasive Champion! This is the first event in the NH Audubon Invasive Champion Training series. Registration is required. Rain Date: 4/15. \nThis event may take place inside and outside\, please come prepared for either. Bring water\, a snack and note-taking materials. \nTo register visit: https://naturegroupie.org/experiences/how-lead-invasive-plant-workday
URL:https://nhaudubon.org/event/how-to-lead-an-invasive-plant-workday/
LOCATION:Massabesic Center\, 26 Audubon Way\, Auburn\, NH\, United States
CATEGORIES:Hands-on workshop
ATTACH;FMTTYPE=image/jpeg:https://nhaudubon.org/wp-content/uploads/groupie-workshop.jpg
ORGANIZER;CN="Kimmie Whiteman":MAILTO:kwhiteman@nhaudubon.org
END:VEVENT
END:VCALENDAR