BEGIN:VCALENDAR
VERSION:2.0
PRODID:-//NH Audubon - ECPv6.15.11//NONSGML v1.0//EN
CALSCALE:GREGORIAN
METHOD:PUBLISH
X-WR-CALNAME:NH Audubon
X-ORIGINAL-URL:https://nhaudubon.org
X-WR-CALDESC:Events for NH Audubon
REFRESH-INTERVAL;VALUE=DURATION:PT1H
X-Robots-Tag:noindex
X-PUBLISHED-TTL:PT1H
BEGIN:VTIMEZONE
TZID:America/New_York
BEGIN:DAYLIGHT
TZOFFSETFROM:-0500
TZOFFSETTO:-0400
TZNAME:EDT
DTSTART:20210314T070000
END:DAYLIGHT
BEGIN:STANDARD
TZOFFSETFROM:-0400
TZOFFSETTO:-0500
TZNAME:EST
DTSTART:20211107T060000
END:STANDARD
BEGIN:DAYLIGHT
TZOFFSETFROM:-0500
TZOFFSETTO:-0400
TZNAME:EDT
DTSTART:20220313T070000
END:DAYLIGHT
BEGIN:STANDARD
TZOFFSETFROM:-0400
TZOFFSETTO:-0500
TZNAME:EST
DTSTART:20221106T060000
END:STANDARD
BEGIN:DAYLIGHT
TZOFFSETFROM:-0500
TZOFFSETTO:-0400
TZNAME:EDT
DTSTART:20230312T070000
END:DAYLIGHT
BEGIN:STANDARD
TZOFFSETFROM:-0400
TZOFFSETTO:-0500
TZNAME:EST
DTSTART:20231105T060000
END:STANDARD
END:VTIMEZONE
BEGIN:VEVENT
DTSTART;TZID=America/New_York:20220319T100000
DTEND;TZID=America/New_York:20220319T130000
DTSTAMP:20260423T163431
CREATED:20220124T192547Z
LAST-MODIFIED:20220225T191007Z
UID:10000950-1647684000-1647694800@nhaudubon.org
SUMMARY:Bluebird Monitor Training
DESCRIPTION:Get involved in a citizen science project to monitor field-nesting birds at NH Audubon’s Massabesic Center!  This workshop focuses on Eastern Bluebirds\, and will teach you identification\, natural history\, conservation status and how to collect data as a Bluebird Trail Monitor.  \nWe will begin in the classroom at 10am with a break for lunch (please bring your own lunch and water). After lunch\, we’ll head outside to learn the trail\, clean up the nest boxes\, and practice field identification of early season birds. \nNH Audubon Massabesic Center is home to almost 100 monitored nest boxes. Volunteer monitors are expected to contribute one to two hours each week from April to August to record data in their designated sections. Sign up today to support this important conservation fieldwork! Contact Massabesic Center Director\, Kimmie Whiteman\, with questions. \nMasks required for all indoor portions of this workshop. \nIn the event of severe winter weather\, this workshop will take place on April 2nd. Notifications will be made via email the day before. \nPhoto: Eastern Bluebird\, by Pam Hunt.
URL:https://nhaudubon.org/event/bluebird-monitor-training/
LOCATION:Massabesic Center\, 26 Audubon Way\, Auburn\, NH\, United States
CATEGORIES:Hands-on workshop
ATTACH;FMTTYPE=image/jpeg:https://nhaudubon.org/wp-content/uploads/EABL-m5-Wells-ME-22-Feb-14-PH-web.jpg
ORGANIZER;CN="Kimmie Whiteman":MAILTO:kwhiteman@nhaudubon.org
END:VEVENT
END:VCALENDAR