BEGIN:VCALENDAR
VERSION:2.0
PRODID:-//NH Audubon - ECPv6.15.11//NONSGML v1.0//EN
CALSCALE:GREGORIAN
METHOD:PUBLISH
X-WR-CALNAME:NH Audubon
X-ORIGINAL-URL:https://nhaudubon.org
X-WR-CALDESC:Events for NH Audubon
REFRESH-INTERVAL;VALUE=DURATION:PT1H
X-Robots-Tag:noindex
X-PUBLISHED-TTL:PT1H
BEGIN:VTIMEZONE
TZID:America/New_York
BEGIN:DAYLIGHT
TZOFFSETFROM:-0500
TZOFFSETTO:-0400
TZNAME:EDT
DTSTART:20210314T070000
END:DAYLIGHT
BEGIN:STANDARD
TZOFFSETFROM:-0400
TZOFFSETTO:-0500
TZNAME:EST
DTSTART:20211107T060000
END:STANDARD
BEGIN:DAYLIGHT
TZOFFSETFROM:-0500
TZOFFSETTO:-0400
TZNAME:EDT
DTSTART:20220313T070000
END:DAYLIGHT
BEGIN:STANDARD
TZOFFSETFROM:-0400
TZOFFSETTO:-0500
TZNAME:EST
DTSTART:20221106T060000
END:STANDARD
BEGIN:DAYLIGHT
TZOFFSETFROM:-0500
TZOFFSETTO:-0400
TZNAME:EDT
DTSTART:20230312T070000
END:DAYLIGHT
BEGIN:STANDARD
TZOFFSETFROM:-0400
TZOFFSETTO:-0500
TZNAME:EST
DTSTART:20231105T060000
END:STANDARD
END:VTIMEZONE
BEGIN:VEVENT
DTSTART;TZID=America/New_York:20220301T100000
DTEND;TZID=America/New_York:20220301T110000
DTSTAMP:20260423T163431
CREATED:20220222T152706Z
LAST-MODIFIED:20220222T191824Z
UID:10000960-1646128800-1646132400@nhaudubon.org
SUMMARY:Family Birding Walk at Massabesic Center
DESCRIPTION:Looking for something fun to do with your family this winter break? Look no further! This is an introduction to birding for families. If you are new to birding\, come learn the basics! Whether you are a bird fanatic or brand new to birding you can learn about binoculars\, birding techniques\, and meet new friends. The main goal of the walk is to learn to appreciate our avian neighbors with hopes to increase stewardship and conservation of our local birds. There are both child and adult binoculars available to borrow. \nTakes place at NH Audubon Massabesic Center. \nOne ticket covers up to four family members. Additional family members require the purchase of an additional ticket. \nAll ages welcome!
URL:https://nhaudubon.org/event/family-birding-walk-at-massabesic-center/
LOCATION:Massabesic Center\, 26 Audubon Way\, Auburn\, NH\, United States
CATEGORIES:Nature Walk
ATTACH;FMTTYPE=image/webp:https://nhaudubon.org/wp-content/uploads/Northern-Cardinal-by-Len-Medlock.webp
ORGANIZER;CN="Slater Roosa":MAILTO:sroosa@nhaudubon.org
END:VEVENT
BEGIN:VEVENT
DTSTART;TZID=America/New_York:20220301T190000
DTEND;TZID=America/New_York:20220301T200000
DTSTAMP:20260423T163431
CREATED:20220216T194508Z
LAST-MODIFIED:20220217T163601Z
UID:10000825-1646161200-1646164800@nhaudubon.org
SUMMARY:Resilient Raptors Webinar Series
DESCRIPTION:In the first presentation of this 5-part webinar series\, join senior biologist\, Chris Martin as he provides a brief history of the Peregrine Falcon in New Hampshire. Learn how a formerly common household chemical threatened to decimate this charismatic species as well as the steps that were taken to ensure their continued existence. \nEducation specialist\, Willa Coroka will wrap up the evening by discussing bird of prey anatomy and offering basic birding tips and tricks. \nMaterials to accompany this webinar can be found at the Concord Public Library\, the Manchester City Library\, and the NH Audubon’s Massabesic Center. \nFollow along as we monitor the Manchester Peregrine Falcon pair at the following link: https://www.youtube.com/watch?v=gsV9g-VmTpw \nTo register for the webinar please click the registration link below: \nhttps://us02web.zoom.us/webinar/register/WN_pdlYp2HaTNGOU6_GVtRoZA \nOnce you have registered\, you will receive a confirmation email as well as an email with the Zoom link a day before and an hour before the actual webinar begins.
URL:https://nhaudubon.org/event/resilient-raptors-webinar-series-the-unparalleled-peregrine-falcon/
LOCATION:NH
CATEGORIES:Resilient Raptors Webinar Series,Webinar,Zoom Talk
ATTACH;FMTTYPE=image/png:https://nhaudubon.org/wp-content/uploads/RR-Marketing.png
END:VEVENT
END:VCALENDAR