BEGIN:VCALENDAR
VERSION:2.0
PRODID:-//NH Audubon - ECPv6.15.11//NONSGML v1.0//EN
CALSCALE:GREGORIAN
METHOD:PUBLISH
X-WR-CALNAME:NH Audubon
X-ORIGINAL-URL:https://nhaudubon.org
X-WR-CALDESC:Events for NH Audubon
REFRESH-INTERVAL;VALUE=DURATION:PT1H
X-Robots-Tag:noindex
X-PUBLISHED-TTL:PT1H
BEGIN:VTIMEZONE
TZID:America/New_York
BEGIN:DAYLIGHT
TZOFFSETFROM:-0500
TZOFFSETTO:-0400
TZNAME:EDT
DTSTART:20210314T070000
END:DAYLIGHT
BEGIN:STANDARD
TZOFFSETFROM:-0400
TZOFFSETTO:-0500
TZNAME:EST
DTSTART:20211107T060000
END:STANDARD
BEGIN:DAYLIGHT
TZOFFSETFROM:-0500
TZOFFSETTO:-0400
TZNAME:EDT
DTSTART:20220313T070000
END:DAYLIGHT
BEGIN:STANDARD
TZOFFSETFROM:-0400
TZOFFSETTO:-0500
TZNAME:EST
DTSTART:20221106T060000
END:STANDARD
BEGIN:DAYLIGHT
TZOFFSETFROM:-0500
TZOFFSETTO:-0400
TZNAME:EDT
DTSTART:20230312T070000
END:DAYLIGHT
BEGIN:STANDARD
TZOFFSETFROM:-0400
TZOFFSETTO:-0500
TZNAME:EST
DTSTART:20231105T060000
END:STANDARD
END:VTIMEZONE
BEGIN:VEVENT
DTSTART;TZID=America/New_York:20220208T100000
DTEND;TZID=America/New_York:20220208T104500
DTSTAMP:20260423T182122
CREATED:20211213T162556Z
LAST-MODIFIED:20220208T143026Z
UID:10000799-1644314400-1644317100@nhaudubon.org
SUMMARY:(Canceled)Brockway Nature Outing for Preschool Ages
DESCRIPTION:February 8th: CANCELED DUE TO WEATHER AND ICY CONDITIONS  \nJoin New Hampshire Audubon at Brockway Nature Preserve in Hopkinton for nature exploration with your 3-5 year old. The programs will be held the 2nd and 4th Tuesday of every month. Each Tuesday will be an exciting theme relating to the seasons and wildlife (see below). It will begin at 10am and run for about 45 minutes. \nThis is an outdoor location with no bathroom facilities. Please dress children for the weather and be ready to walk on the trail\, sit on logs and the ground\, and dig in the dirt! \nPrograms will be cancelled if poor weather is predicted during the program time\, participants will be notified by email.  \nDirections: To find the meeting circle\, park at the Brockway Nature Preserve parking area along Farrington Corners Road in Hopkinton\, then follow the entrance trail across the bridge to the circle. For detailed directions\, visit hop-kintonconservaland.org/Brockway-preserve. \nCost: Free to Hopkinton Residents*; Non-resident NH Audubon members: $5/family; Non-resident non-members: $10/family \nRegistration is required. For questions\, please email Shelby Morelli. \nMaximum: 10 children \n*Thanks to an endowment from Dorothy Brockway Osborn this program is free for Hopkinton Residents. \nThemes:  \nNovember 23: Oh Deer! \nDecember 14: Evergreens and Cones \nDecember 28: Sleepy Critters \nJanuary 11: Wildlife Homes \nJanuary 25: Who made that Track? \nFebruary 8: Flighted Friends \nFebruary 22: Animal Babies \nMarch 8: Hide and Seek \nMarch 22: Welcome Spring! \nApril 12: Who lives in a Shell? \nApril 26: Busy Beavers \nMay 10: Who lives in the Pond? \nMay 24: Insect Investigation
URL:https://nhaudubon.org/event/brockway-nature-outing-for-preschool-ages-feb8-2022/
LOCATION:Brockway Nature Preserve\, Farrington Corner Road\, Hopkinton\, NH\, United States
CATEGORIES:Nature Walk,Preschool Aged Activity
ATTACH;FMTTYPE=image/jpeg:https://nhaudubon.org/wp-content/uploads/Being-a-bird-at-brockway.jpg
ORGANIZER;CN="Shelby Morelli":MAILTO:smorelli@nhaudubon.org
GEO:43.171121;-71.622851
X-APPLE-STRUCTURED-LOCATION;VALUE=URI;X-ADDRESS=Brockway Nature Preserve Farrington Corner Road Hopkinton NH United States;X-APPLE-RADIUS=500;X-TITLE=Farrington Corner Road:geo:-71.622851,43.171121
END:VEVENT
BEGIN:VEVENT
DTSTART;TZID=America/New_York:20220208T190000
DTEND;TZID=America/New_York:20220208T203000
DTSTAMP:20260423T182122
CREATED:20210318T193209Z
LAST-MODIFIED:20211123T131144Z
UID:10000712-1644346800-1644352200@nhaudubon.org
SUMMARY:Earth-Care/People-Care: the Power of Natural Spaces for Personal and Public Health
DESCRIPTION:It is becoming abundantly clear that the human/nature relationship is critical for the well-being of all living things on earth. Access to\, and care of parks\, conservation lands\, gardens and greenways and wilderness areas is critical for living things to thrive. Humans experience multiple connections with nature which are needed for both personal and population health and well-being. These and other ideas will be presented and discussed in the context of personal and collective choices for meeting the climate crisis. \nRegister for this free webinar through Zoom. \n \nThis webinar is part of the year-long Exploring Connections to and Stewardship of the Natural World talks. This series is supported by a grant through the NH Humanities Council and aims to provide a public and personal space for the examination of environmental ethics\, fostering a deeper understanding of\, appreciation for\, and care of\, our natural world. Programs are free to the public\, and streamed via Zoom\, YouTube\, and Facebook Live.  \nFor more information and to see the entire slate of talks\, visit our series webpage. \nSpeaker Bio: \nDr. Barbara J. McCahan is a Professor at Plymouth State University and serves as the program coordinator for the Public Health degree program. She received a B.A.\, M.A. and Ph.D. in Biological Sciences from the UC San Diego and Santa Barbara followed by Post-doctoral training Immunopathology at the National Jewish Hospital in Denver\, Colorado\, and a research/teaching position at the University of Hawaii. She made a life pivot in 1983 and joined the health fitness industry as a certified Health Fitness Instructor. She also received advanced training as a Physical Activity in Public Health practitioner. She has taught a wide variety of courses across 30+ years at PSU in nutrition\, physical activity and health\, exercise science and public health\, and serves on several local agency boards and a member of the Pemi Climate Crisis Coalition. She is a Permaculture practitioner\, avid walker\, open-water swimmer and forest bather! \n 
URL:https://nhaudubon.org/event/earth-care-people-care-the-power-of-natural-spaces-for-personal-and-public-health/
LOCATION:NH
CATEGORIES:Webinar,Zoom Talk
ATTACH;FMTTYPE=image/jpeg:https://nhaudubon.org/wp-content/uploads/Exploring-Connections-Series-Title-Image-web-e1616086205157.jpg
ORGANIZER;CN="Diane De Luca":MAILTO:ddeluca@nhaudubon.org
END:VEVENT
END:VCALENDAR