BEGIN:VCALENDAR
VERSION:2.0
PRODID:-//NH Audubon - ECPv6.15.11//NONSGML v1.0//EN
CALSCALE:GREGORIAN
METHOD:PUBLISH
X-WR-CALNAME:NH Audubon
X-ORIGINAL-URL:https://nhaudubon.org
X-WR-CALDESC:Events for NH Audubon
REFRESH-INTERVAL;VALUE=DURATION:PT1H
X-Robots-Tag:noindex
X-PUBLISHED-TTL:PT1H
BEGIN:VTIMEZONE
TZID:America/New_York
BEGIN:DAYLIGHT
TZOFFSETFROM:-0500
TZOFFSETTO:-0400
TZNAME:EDT
DTSTART:20210314T070000
END:DAYLIGHT
BEGIN:STANDARD
TZOFFSETFROM:-0400
TZOFFSETTO:-0500
TZNAME:EST
DTSTART:20211107T060000
END:STANDARD
BEGIN:DAYLIGHT
TZOFFSETFROM:-0500
TZOFFSETTO:-0400
TZNAME:EDT
DTSTART:20220313T070000
END:DAYLIGHT
BEGIN:STANDARD
TZOFFSETFROM:-0400
TZOFFSETTO:-0500
TZNAME:EST
DTSTART:20221106T060000
END:STANDARD
BEGIN:DAYLIGHT
TZOFFSETFROM:-0500
TZOFFSETTO:-0400
TZNAME:EDT
DTSTART:20230312T070000
END:DAYLIGHT
BEGIN:STANDARD
TZOFFSETFROM:-0400
TZOFFSETTO:-0500
TZNAME:EST
DTSTART:20231105T060000
END:STANDARD
END:VTIMEZONE
BEGIN:VEVENT
DTSTART;TZID=America/New_York:20220127T090000
DTEND;TZID=America/New_York:20220127T100000
DTSTAMP:20260423T201130
CREATED:20220125T161642Z
LAST-MODIFIED:20220125T161642Z
UID:10000811-1643274000-1643277600@nhaudubon.org
SUMMARY:Birds as a Bridge for Connecting Curious Minds
DESCRIPTION:Join us for the second workshop in our NHEE Winter Learning Series! \nNew Hampshire Audubon’s Massabesic Center Education Coordinator\, Slater Roosa\, shares how birds help forge connections with the natural world around us. Enjoy an hour-long birding hike with us to discuss how birds can facilitate learning in a myriad of STEAM topics for people of all backgrounds and abilities. We’ll share our successes with both stand-alone programs and longitudinal programs to demonstrate how you can get started developing your own curriculum. Being an expert birder is never required to teach excitement and love for birds!   \nDress for the weather. In the event of rain\, the entire program will take place as an indoor discussion. Space is limited to 12 participants.   \nWhen: Thursday\, January 27\, 2022 9:00 am – 10:00 am \nWhere: NH Audubon Massabesic Center\, 26 Audubon Way\, Auburn\, NH 03032   \nWho: Educators (all grade levels\, formal or informal) \nCost: $10.00 for NHEE Members; $20 Non-members \nDon’t let the registration fee stop you from attending\, details can be found on the registration page. \nRegister Here!
URL:https://nhaudubon.org/event/birds-as-a-bridge-for-connecting-curious-minds/
LOCATION:Massabesic Center\, 26 Audubon Way\, Auburn\, NH\, United States
CATEGORIES:Hands-on workshop,Nature Walk
ATTACH;FMTTYPE=image/jpeg:https://nhaudubon.org/wp-content/uploads/NHEElogo-web.jpg
ORGANIZER;CN="Slater Roosa":MAILTO:sroosa@nhaudubon.org
END:VEVENT
BEGIN:VEVENT
DTSTART;TZID=America/New_York:20220127T100000
DTEND;TZID=America/New_York:20220127T110000
DTSTAMP:20260423T201130
CREATED:20220124T205005Z
LAST-MODIFIED:20220124T205058Z
UID:10000953-1643277600-1643281200@nhaudubon.org
SUMMARY:Ask a Naturalist
DESCRIPTION:Be sure to stop in to the Massabesic Center’s Nature Room\, before or after you hit the trails\, where a NH Audubon naturalist will be there to happily answer any burning questions you might have. You can meet some animal ambassadors\, learn about our local wildlife\, or simply have a chat with our naturalist. Whether you’re a child or adult there is always more to learn about the natural world\, so don’t be shy and come on by! \nMasks required. \nPhoto by Len Medlock
URL:https://nhaudubon.org/event/ask-a-naturalist-2/
LOCATION:Massabesic Center\, 26 Audubon Way\, Auburn\, NH\, United States
CATEGORIES:Live Animal Talk
ATTACH;FMTTYPE=image/webp:https://nhaudubon.org/wp-content/uploads/Northern-Cardinal-by-Len-Medlock.webp
ORGANIZER;CN="Slater Roosa":MAILTO:sroosa@nhaudubon.org
END:VEVENT
END:VCALENDAR