BEGIN:VCALENDAR
VERSION:2.0
PRODID:-//NH Audubon - ECPv6.15.11//NONSGML v1.0//EN
CALSCALE:GREGORIAN
METHOD:PUBLISH
X-WR-CALNAME:NH Audubon
X-ORIGINAL-URL:https://nhaudubon.org
X-WR-CALDESC:Events for NH Audubon
REFRESH-INTERVAL;VALUE=DURATION:PT1H
X-Robots-Tag:noindex
X-PUBLISHED-TTL:PT1H
BEGIN:VTIMEZONE
TZID:America/New_York
BEGIN:DAYLIGHT
TZOFFSETFROM:-0500
TZOFFSETTO:-0400
TZNAME:EDT
DTSTART:20210314T070000
END:DAYLIGHT
BEGIN:STANDARD
TZOFFSETFROM:-0400
TZOFFSETTO:-0500
TZNAME:EST
DTSTART:20211107T060000
END:STANDARD
BEGIN:DAYLIGHT
TZOFFSETFROM:-0500
TZOFFSETTO:-0400
TZNAME:EDT
DTSTART:20220313T070000
END:DAYLIGHT
BEGIN:STANDARD
TZOFFSETFROM:-0400
TZOFFSETTO:-0500
TZNAME:EST
DTSTART:20221106T060000
END:STANDARD
BEGIN:DAYLIGHT
TZOFFSETFROM:-0500
TZOFFSETTO:-0400
TZNAME:EDT
DTSTART:20230312T070000
END:DAYLIGHT
BEGIN:STANDARD
TZOFFSETFROM:-0400
TZOFFSETTO:-0500
TZNAME:EST
DTSTART:20231105T060000
END:STANDARD
END:VTIMEZONE
BEGIN:VEVENT
DTSTART;TZID=America/New_York:20220125T100000
DTEND;TZID=America/New_York:20220125T104500
DTSTAMP:20260423T201131
CREATED:20211213T161323Z
LAST-MODIFIED:20211213T161725Z
UID:10000797-1643104800-1643107500@nhaudubon.org
SUMMARY:Brockway Nature Outing for Preschool Ages
DESCRIPTION:Join New Hampshire Audubon at Brockway Nature Preserve in Hopkinton for nature exploration with your 3-5 year old. The programs will be held the 2nd and 4th Tuesday of every month. Each Tuesday will be an exciting theme relating to the seasons and wildlife (see below). It will begin at 10am and run for about 45 minutes. \nThis is an outdoor location with no bathroom facilities. Please dress children for the weather and be ready to walk on the trail\, sit on logs and the ground\, and dig in the dirt! \nPrograms will be cancelled if poor weather is predicted during the program time\, participants will be notified by email.  \nDirections: To find the meeting circle\, park at the Brockway Nature Preserve parking area along Farrington Corners Road in Hopkinton\, then follow the entrance trail across the bridge to the circle. For detailed directions\, visit hop-kintonconservaland.org/Brockway-preserve. \nCost: Free to Hopkinton Residents*; Non-resident NH Audubon members: $5/family; Non-resident non-members: $10/family \nRegistration is required. For questions\, please email Shelby Morelli. \nMaximum: 10 children \n*Thanks to an endowment from Dorothy Brockway Osborn this program is free for Hopkinton Residents. \nThemes:  \nNovember 23: Oh Deer! \nDecember 14: Evergreens and Cones \nDecember 28: Sleepy Critters \nJanuary 11: Wildlife Homes \nJanuary 25: Who made that Track? \nFebruary 8: Flighted Friends \nFebruary 22: Animal Babies \nMarch 8: Hide and Seek \nMarch 22: Welcome Spring! \nApril 12: Who lives in a Shell? \nApril 26: Busy Beavers \nMay 10: Who lives in the Pond? \nMay 24: Insect Investigation
URL:https://nhaudubon.org/event/brockway-nature-outing-for-preschool-ages-jan25-2022/
LOCATION:Brockway Nature Preserve\, Farrington Corner Road\, Hopkinton\, NH\, United States
CATEGORIES:Nature Walk,Preschool Aged Activity
ATTACH;FMTTYPE=image/jpeg:https://nhaudubon.org/wp-content/uploads/Being-a-bird-at-brockway.jpg
ORGANIZER;CN="Shelby Morelli":MAILTO:smorelli@nhaudubon.org
GEO:43.171121;-71.622851
X-APPLE-STRUCTURED-LOCATION;VALUE=URI;X-ADDRESS=Brockway Nature Preserve Farrington Corner Road Hopkinton NH United States;X-APPLE-RADIUS=500;X-TITLE=Farrington Corner Road:geo:-71.622851,43.171121
END:VEVENT
BEGIN:VEVENT
DTSTART;TZID=America/New_York:20220125T190000
DTEND;TZID=America/New_York:20220125T203000
DTSTAMP:20260423T201131
CREATED:20211213T194128Z
LAST-MODIFIED:20211213T194907Z
UID:10000905-1643137200-1643142600@nhaudubon.org
SUMMARY:Poetry and the Land
DESCRIPTION:January 25\, 7pm\nCheryl Savageau\nPoet \nNew Hampshire/N’dakinna has been Abenaki land since time immemorial. Savageau brings the attention of scientist and artist as well as her Abenaki perspective to her poetry. She will discuss how Native understanding and science come together in her poetry\, and how poetry can be a practice that brings us into a closer relationship with the Land. Join Cheryl for the poetry reading and discussion. \nRegister Here \nThis webinar is part of the year-long Exploring Connections to and Stewardship of the Natural World talks. This series is supported by a grant through the NH Humanities Council and aims to provide a public and personal space for the examination of environmental ethics\, fostering a deeper understanding of\, appreciation for\, and care of\, our natural world. Programs are free to the public\, and streamed via Zoom\, YouTube\, and Facebook Live.  \nFor more information and to see the entire slate of talks\, visit our series webpage. \nSpeaker Bio: \nCheryl Savageau is an Abenaki poet\, memoirist\, storyteller\, and textile artist. She is the author of the memoir\, Out of the Crazywoods and three books of poetry\, Mother/Land\, Dirt Road Home\, which was a finalist for the Paterson Poetry Prize and nominated for a Pulitzer Prize; and Home Country. Her children’s book\, Muskrat Will Be Swimming\, was a Smithsonian Notable Book and won the Skipping Stones Award for Children’s Environmental Literature. She has won Fellowships in Poetry from the National Endowment for the Arts\, the Massachusetts Artists Fellowship Program\, and is a three-time fellow at MacDowell. Savageau has mentored Native writers through Wordcraft Circle of Native Poets and Storytellers\, and Gedakina\, and is former editor of Dawnland Voices 2.0.  She teaches Indigenous literatures and creative writing at the Bread Loaf School of English at Middlebury College. \n  \n 
URL:https://nhaudubon.org/event/poetry-and-the-land/
LOCATION:NH
CATEGORIES:Webinar,Zoom Talk
ATTACH;FMTTYPE=image/jpeg:https://nhaudubon.org/wp-content/uploads/Exploring-Connections-Series-Title-Image-web-e1616086205157.jpg
ORGANIZER;CN="Diane De Luca":MAILTO:ddeluca@nhaudubon.org
END:VEVENT
END:VCALENDAR