BEGIN:VCALENDAR
VERSION:2.0
PRODID:-//NH Audubon - ECPv6.15.11//NONSGML v1.0//EN
CALSCALE:GREGORIAN
METHOD:PUBLISH
X-WR-CALNAME:NH Audubon
X-ORIGINAL-URL:https://nhaudubon.org
X-WR-CALDESC:Events for NH Audubon
REFRESH-INTERVAL;VALUE=DURATION:PT1H
X-Robots-Tag:noindex
X-PUBLISHED-TTL:PT1H
BEGIN:VTIMEZONE
TZID:America/New_York
BEGIN:DAYLIGHT
TZOFFSETFROM:-0500
TZOFFSETTO:-0400
TZNAME:EDT
DTSTART:20210314T070000
END:DAYLIGHT
BEGIN:STANDARD
TZOFFSETFROM:-0400
TZOFFSETTO:-0500
TZNAME:EST
DTSTART:20211107T060000
END:STANDARD
BEGIN:DAYLIGHT
TZOFFSETFROM:-0500
TZOFFSETTO:-0400
TZNAME:EDT
DTSTART:20220313T070000
END:DAYLIGHT
BEGIN:STANDARD
TZOFFSETFROM:-0400
TZOFFSETTO:-0500
TZNAME:EST
DTSTART:20221106T060000
END:STANDARD
BEGIN:DAYLIGHT
TZOFFSETFROM:-0500
TZOFFSETTO:-0400
TZNAME:EDT
DTSTART:20230312T070000
END:DAYLIGHT
BEGIN:STANDARD
TZOFFSETFROM:-0400
TZOFFSETTO:-0500
TZNAME:EST
DTSTART:20231105T060000
END:STANDARD
END:VTIMEZONE
BEGIN:VEVENT
DTSTART;TZID=America/New_York:20220113T100000
DTEND;TZID=America/New_York:20220113T110000
DTSTAMP:20260423T201130
CREATED:20211220T174314Z
LAST-MODIFIED:20211220T174804Z
UID:10000935-1642068000-1642071600@nhaudubon.org
SUMMARY:Ask the Naturalist
DESCRIPTION:Stop in to Massabesic Center’s Nature Room\, before or after you hit the trails\, where a NH Audubon naturalist will be there to happily answer any burning questions you might have. You can meet some animal ambassadors\, learn about our local wildlife\, or simply have a chat with our naturalist. Whether you’re a child or adult there is always more to learn about the natural world\, so don’t be shy and come on by! \nCost: Free \nWhen: Wednesdays and Thursdays from 10-11am. \nPhoto: Northern Cardinal\, by Len Medlock.
URL:https://nhaudubon.org/event/ask-the-naturalist-2/2022-01-13/
LOCATION:Massabesic Center\, 26 Audubon Way\, Auburn\, NH\, United States
CATEGORIES:Live Animal Talk
ATTACH;FMTTYPE=image/jpeg:https://nhaudubon.org/wp-content/uploads/Northern-Cardinal-by-Len-Medlock.jpg
ORGANIZER;CN="Slater Roosa":MAILTO:sroosa@nhaudubon.org
END:VEVENT
END:VCALENDAR