BEGIN:VCALENDAR
VERSION:2.0
PRODID:-//NH Audubon - ECPv6.15.11//NONSGML v1.0//EN
CALSCALE:GREGORIAN
METHOD:PUBLISH
X-ORIGINAL-URL:https://nhaudubon.org
X-WR-CALDESC:Events for NH Audubon
REFRESH-INTERVAL;VALUE=DURATION:PT1H
X-Robots-Tag:noindex
X-PUBLISHED-TTL:PT1H
BEGIN:VTIMEZONE
TZID:America/New_York
BEGIN:DAYLIGHT
TZOFFSETFROM:-0500
TZOFFSETTO:-0400
TZNAME:EDT
DTSTART:20200308T070000
END:DAYLIGHT
BEGIN:STANDARD
TZOFFSETFROM:-0400
TZOFFSETTO:-0500
TZNAME:EST
DTSTART:20201101T060000
END:STANDARD
BEGIN:DAYLIGHT
TZOFFSETFROM:-0500
TZOFFSETTO:-0400
TZNAME:EDT
DTSTART:20210314T070000
END:DAYLIGHT
BEGIN:STANDARD
TZOFFSETFROM:-0400
TZOFFSETTO:-0500
TZNAME:EST
DTSTART:20211107T060000
END:STANDARD
BEGIN:DAYLIGHT
TZOFFSETFROM:-0500
TZOFFSETTO:-0400
TZNAME:EDT
DTSTART:20220313T070000
END:DAYLIGHT
BEGIN:STANDARD
TZOFFSETFROM:-0400
TZOFFSETTO:-0500
TZNAME:EST
DTSTART:20221106T060000
END:STANDARD
END:VTIMEZONE
BEGIN:VEVENT
DTSTART;TZID=America/New_York:20211103T190000
DTEND;TZID=America/New_York:20211103T203000
DTSTAMP:20260425T191603
CREATED:20210318T192540Z
LAST-MODIFIED:20210409T153314Z
UID:10000709-1635966000-1635971400@nhaudubon.org
SUMMARY:MOTUS: A Revolution in Migration Research
DESCRIPTION:Join Carol Foss\, NH Audubon’s Senior Advisor for Science and Policy\, for an introduction to the Motus Wildlife Tracking System — a new research network that is revolutionizing the study of winged migration by tracking the movements of small birds\, bats\, and even dragonflies and monarch butterflies who have been fitted with tiny radio transmitters (nanotags).  Carol will discuss how Motus works\, what we’re learning from it\, and efforts that are underway to expand the network in the Northeast. \nRegister for this free webinar through Zoom. \n \nThis webinar is part of the year-long Exploring Connections to and Stewardship of the Natural World talks. This series is supported by a grant through the NH Humanities Council and aims to provide a public and personal space for the examination of environmental ethics\, fostering a deeper understanding of\, appreciation for\, and care of\, our natural world. Programs are free to the public\, and streamed via Zoom\, YouTube\, and Facebook Live.  \nFor more information and to see the entire slate of talks\, visit our series webpage. \n 
URL:https://nhaudubon.org/event/motus-a-revolution-in-migration-research/
LOCATION:NH
CATEGORIES:Webinar,Zoom Talk
ATTACH;FMTTYPE=image/jpeg:https://nhaudubon.org/wp-content/uploads/Exploring-Connections-Series-Title-Image-web-e1616086205157.jpg
ORGANIZER;CN="Diane De Luca":MAILTO:ddeluca@nhaudubon.org
END:VEVENT
END:VCALENDAR