BEGIN:VCALENDAR
VERSION:2.0
PRODID:-//NH Audubon - ECPv6.15.11//NONSGML v1.0//EN
CALSCALE:GREGORIAN
METHOD:PUBLISH
X-WR-CALNAME:NH Audubon
X-ORIGINAL-URL:https://nhaudubon.org
X-WR-CALDESC:Events for NH Audubon
REFRESH-INTERVAL;VALUE=DURATION:PT1H
X-Robots-Tag:noindex
X-PUBLISHED-TTL:PT1H
BEGIN:VTIMEZONE
TZID:America/New_York
BEGIN:DAYLIGHT
TZOFFSETFROM:-0500
TZOFFSETTO:-0400
TZNAME:EDT
DTSTART:20200308T070000
END:DAYLIGHT
BEGIN:STANDARD
TZOFFSETFROM:-0400
TZOFFSETTO:-0500
TZNAME:EST
DTSTART:20201101T060000
END:STANDARD
BEGIN:DAYLIGHT
TZOFFSETFROM:-0500
TZOFFSETTO:-0400
TZNAME:EDT
DTSTART:20210314T070000
END:DAYLIGHT
BEGIN:STANDARD
TZOFFSETFROM:-0400
TZOFFSETTO:-0500
TZNAME:EST
DTSTART:20211107T060000
END:STANDARD
BEGIN:DAYLIGHT
TZOFFSETFROM:-0500
TZOFFSETTO:-0400
TZNAME:EDT
DTSTART:20220313T070000
END:DAYLIGHT
BEGIN:STANDARD
TZOFFSETFROM:-0400
TZOFFSETTO:-0500
TZNAME:EST
DTSTART:20221106T060000
END:STANDARD
END:VTIMEZONE
BEGIN:VEVENT
DTSTART;TZID=America/New_York:20211013T193000
DTEND;TZID=America/New_York:20211013T203000
DTSTAMP:20260425T194859
CREATED:20210903T152959Z
LAST-MODIFIED:20210903T153219Z
UID:10000841-1634153400-1634157000@nhaudubon.org
SUMMARY:Avian Protection at NorthWestern Energy in Montana
DESCRIPTION:Power companies\, wildlife agencies\, and conservation organizations have collaborated for decades to reduce bird electrocutions and collisions with power lines. NorthWestern Energy in Montana implements an Avian Protection Plan across its entire electrical system. New power lines are constructed following bird-friendly standards and existing lines are retrofitted with bird protection devices where electrocutions or collisions have occurred. This presentation by Marco Restani\, Biologist at NorthWestern Energy\, will review the legislation protecting birds\, the biology and engineering behind bird-power line interactions\, and management to reduce conflicts. Examples from waterfowl to raptors to songbirds will illustrate the diversity of challenges experienced in Montana. \nBio: Marco Restani began birding with the Seacoast Chapter of NH Audubon in the late 1970s and the mentorship he received launched him on a lifetime journey with birds. Originally an ‘Army Brat’\, he attended high school in Durham before heading west to the University of Montana\, Montana State\, and Utah State. Following post-doctoral research at the University of Washington\, Marco was Professor of Wildlife Ecology for 15 years. He is a Biologist at NorthWestern Energy in Montana responsible for developing and implementing the company’s Avian Protection Program. \nThe Seacoast Chapter meets monthly on the second Wednesday except the months of July and August unless there is a special program. 7 pm social and the meetings begin at 7:30 pm unless otherwise noted (entrance doors locked at 7:45 pm). The public is welcome free of charge. Meetings are held at the Seacoast Science Center at Odiorne State Park\, Route 1A\, Rye\, NH. Wheelchair accessible. For more information on chapter programs\, please contact: Dan Hubbard\, (603) 332-4093 or danielhubbard@peoplepc.com. Cancellations will be posted on The Seacoast Chapter web site: http://www.seacoastchapter.org.
URL:https://nhaudubon.org/event/avian-protection-at-northwestern-energy-in-montana/
LOCATION:Seacoast Science Center\, Odiorne State Park\, Route 1A\, Rye\, NH\, United States
CATEGORIES:Chapter Program
ATTACH;FMTTYPE=image/jpeg:https://nhaudubon.org/wp-content/uploads/Marco-Restani-Seacoast-Oct-2021-1.jpg
ORGANIZER;CN="Seacoast Chapter":MAILTO:danielhubbard@peoplepc.com
END:VEVENT
END:VCALENDAR