BEGIN:VCALENDAR
VERSION:2.0
PRODID:-//NH Audubon - ECPv6.15.11//NONSGML v1.0//EN
CALSCALE:GREGORIAN
METHOD:PUBLISH
X-WR-CALNAME:NH Audubon
X-ORIGINAL-URL:https://nhaudubon.org
X-WR-CALDESC:Events for NH Audubon
REFRESH-INTERVAL;VALUE=DURATION:PT1H
X-Robots-Tag:noindex
X-PUBLISHED-TTL:PT1H
BEGIN:VTIMEZONE
TZID:America/New_York
BEGIN:DAYLIGHT
TZOFFSETFROM:-0500
TZOFFSETTO:-0400
TZNAME:EDT
DTSTART:20200308T070000
END:DAYLIGHT
BEGIN:STANDARD
TZOFFSETFROM:-0400
TZOFFSETTO:-0500
TZNAME:EST
DTSTART:20201101T060000
END:STANDARD
BEGIN:DAYLIGHT
TZOFFSETFROM:-0500
TZOFFSETTO:-0400
TZNAME:EDT
DTSTART:20210314T070000
END:DAYLIGHT
BEGIN:STANDARD
TZOFFSETFROM:-0400
TZOFFSETTO:-0500
TZNAME:EST
DTSTART:20211107T060000
END:STANDARD
BEGIN:DAYLIGHT
TZOFFSETFROM:-0500
TZOFFSETTO:-0400
TZNAME:EDT
DTSTART:20220313T070000
END:DAYLIGHT
BEGIN:STANDARD
TZOFFSETFROM:-0400
TZOFFSETTO:-0500
TZNAME:EST
DTSTART:20221106T060000
END:STANDARD
END:VTIMEZONE
BEGIN:VEVENT
DTSTART;TZID=America/New_York:20211009T150000
DTEND;TZID=America/New_York:20211009T160000
DTSTAMP:20260425T194858
CREATED:20210902T202923Z
LAST-MODIFIED:20211007T214126Z
UID:10000839-1633791600-1633795200@nhaudubon.org
SUMMARY:Intro to Pelagic Wildlife
DESCRIPTION:Saturday\, October 9\, 3 – 4 pm\nCost: $5 (free to those attending Pelagic Trip on Oct. 11)\nLeader: Jon Woolf \nWatch an educational slideshow about some of the wildlife you might see just off NH’s coast. We’ll teach you how to identify some of our common pelagic birds as well as a few of our frequently sighted whale species. \nThis is a zoom event. \nPre-registration is required. Registration for this zoom session will close one hour before the program. If you are attending the boat trip\, please RSVP below for this free zoom talk. If you are not going on the boat but would like to attend this zoom talk\, please purchase a $5 “ticket”; the zoom link will be sent to you by email prior to the event. \nTo register for the Pelagic Birding Boat Trip\, see the event for Oct. 11. \nIf you have any trouble registering for this zoom talk or getting the link\, please email Jon. \nPhoto: Great Shearwater\, by Amanda Boyd\, USFWS
URL:https://nhaudubon.org/event/intro-to-pelagic-wildlife-2/
LOCATION:NH
CATEGORIES:Webinar,Zoom Talk
ATTACH;FMTTYPE=image/jpeg:https://nhaudubon.org/wp-content/uploads/Greater_Shearwater-Amanda-Boyd-USFWS-PD-e1712080077209.jpg
ORGANIZER;CN="Massabesic Center":MAILTO:mac@nhaudubon.org
END:VEVENT
END:VCALENDAR