BEGIN:VCALENDAR
VERSION:2.0
PRODID:-//NH Audubon - ECPv6.15.11//NONSGML v1.0//EN
CALSCALE:GREGORIAN
METHOD:PUBLISH
X-WR-CALNAME:NH Audubon
X-ORIGINAL-URL:https://nhaudubon.org
X-WR-CALDESC:Events for NH Audubon
REFRESH-INTERVAL;VALUE=DURATION:PT1H
X-Robots-Tag:noindex
X-PUBLISHED-TTL:PT1H
BEGIN:VTIMEZONE
TZID:America/New_York
BEGIN:DAYLIGHT
TZOFFSETFROM:-0500
TZOFFSETTO:-0400
TZNAME:EDT
DTSTART:20200308T070000
END:DAYLIGHT
BEGIN:STANDARD
TZOFFSETFROM:-0400
TZOFFSETTO:-0500
TZNAME:EST
DTSTART:20201101T060000
END:STANDARD
BEGIN:DAYLIGHT
TZOFFSETFROM:-0500
TZOFFSETTO:-0400
TZNAME:EDT
DTSTART:20210314T070000
END:DAYLIGHT
BEGIN:STANDARD
TZOFFSETFROM:-0400
TZOFFSETTO:-0500
TZNAME:EST
DTSTART:20211107T060000
END:STANDARD
BEGIN:DAYLIGHT
TZOFFSETFROM:-0500
TZOFFSETTO:-0400
TZNAME:EDT
DTSTART:20220313T070000
END:DAYLIGHT
BEGIN:STANDARD
TZOFFSETFROM:-0400
TZOFFSETTO:-0500
TZNAME:EST
DTSTART:20221106T060000
END:STANDARD
END:VTIMEZONE
BEGIN:VEVENT
DTSTART;TZID=America/New_York:20211005T190000
DTEND;TZID=America/New_York:20211005T203000
DTSTAMP:20260425T204740
CREATED:20210323T184541Z
LAST-MODIFIED:20210409T153314Z
UID:10000725-1633460400-1633465800@nhaudubon.org
SUMMARY:The State of New Hampshire’s Birds
DESCRIPTION:In the last 50 years\, scientists estimate that North America has lost roughly 3 billion birds\, meaning that there are only three quarters as many birds around as there used to be. New Hampshire Audubon has been tracking bird populations for almost as long\, and in our “State of the Birds” report we present a summary of how birds are doing here in the Granite State. Almost 300 species occur regularly here\, and this report outlines general population trends\, major threats facing birds and their habitats\, and some of the conservation strategies that might help them recover. The bad news is that birds are declining here as well. The good news is that there are things we can do about it. \nRegister for this free webinar through Zoom. \n \nThis webinar is part of the year-long Exploring Connections to and Stewardship of the Natural World talks. This series is supported by a grant through the NH Humanities Council and aims to provide a public and personal space for the examination of environmental ethics\, fostering a deeper understanding of\, appreciation for\, and care of\, our natural world. Programs are free to the public\, and streamed via Zoom\, YouTube\, and Facebook Live.  \nFor more information and to see the entire slate of talks\, visit our series webpage. \nSpeaker Bio: \nPam Hunt has been interested in birds since the tender age of 12\, when an uncle took her to Brigantine National Wildlife Refuge in NJ. She went on to earn a B.S. in biology from Cornell University\, M.A. in zoology from the University of Montana\, and a Ph.D. from Dartmouth College in 1995. Pam came to NH Audubon in 2000 after five years as adjunct faculty at Colby-Sawyer College in New London. In her current position as Avian Conservation Biologist\, she works closely with NH Fish and Game to coordinate and prioritize bird research and monitoring in the state\, and also authored NH’s “State of the Birds” report. Specific areas of interest include habitat use by early successional birds (particularly whip-poor-wills)\, conservation of aerial insectivores (e.g.\, swifts and swallows)\, and the effects of events outside the breeding season on long-distance migrants. Pam also coordinated the “NH Dragonfly Survey\,” a five-year project that mapped distributions of these insects throughout the state\, and remains active in the dragonfly field. \n 
URL:https://nhaudubon.org/event/the-state-of-new-hampshires-birds/
LOCATION:NH
CATEGORIES:Webinar,Zoom Talk
ATTACH;FMTTYPE=image/jpeg:https://nhaudubon.org/wp-content/uploads/Exploring-Connections-Series-Title-Image-web-e1616086205157.jpg
ORGANIZER;CN="Diane De Luca":MAILTO:ddeluca@nhaudubon.org
END:VEVENT
END:VCALENDAR