BEGIN:VCALENDAR
VERSION:2.0
PRODID:-//NH Audubon - ECPv6.15.11//NONSGML v1.0//EN
CALSCALE:GREGORIAN
METHOD:PUBLISH
X-ORIGINAL-URL:https://nhaudubon.org
X-WR-CALDESC:Events for NH Audubon
REFRESH-INTERVAL;VALUE=DURATION:PT1H
X-Robots-Tag:noindex
X-PUBLISHED-TTL:PT1H
BEGIN:VTIMEZONE
TZID:America/New_York
BEGIN:DAYLIGHT
TZOFFSETFROM:-0500
TZOFFSETTO:-0400
TZNAME:EDT
DTSTART:20200308T070000
END:DAYLIGHT
BEGIN:STANDARD
TZOFFSETFROM:-0400
TZOFFSETTO:-0500
TZNAME:EST
DTSTART:20201101T060000
END:STANDARD
BEGIN:DAYLIGHT
TZOFFSETFROM:-0500
TZOFFSETTO:-0400
TZNAME:EDT
DTSTART:20210314T070000
END:DAYLIGHT
BEGIN:STANDARD
TZOFFSETFROM:-0400
TZOFFSETTO:-0500
TZNAME:EST
DTSTART:20211107T060000
END:STANDARD
BEGIN:DAYLIGHT
TZOFFSETFROM:-0500
TZOFFSETTO:-0400
TZNAME:EDT
DTSTART:20220313T070000
END:DAYLIGHT
BEGIN:STANDARD
TZOFFSETFROM:-0400
TZOFFSETTO:-0500
TZNAME:EST
DTSTART:20221106T060000
END:STANDARD
END:VTIMEZONE
BEGIN:VEVENT
DTSTART;TZID=America/New_York:20210810T190000
DTEND;TZID=America/New_York:20210810T201500
DTSTAMP:20260425T145138
CREATED:20210702T164644Z
LAST-MODIFIED:20210702T175418Z
UID:10000832-1628622000-1628626500@nhaudubon.org
SUMMARY:Peregrine Falcon Recovery in New Hampshire
DESCRIPTION:Red Barn Series\, Newfound Audubon\nNo registration necessary – just come and join us! \nSpeaker: Chris Martin\, Senior Biologist\, NH Audubon \nNH Audubon’s raptor biologist Chris Martin will review several decades of work to restore state-listed Peregrine Falcons in New Hampshire\, and describe management steps and partnerships that have helped bring back these amazing aerial predators. \nPlease park across the street at Ash Cottage. Download a map here. \nChris Martin releases a previously injured Peregrine Falcon back to the wild in 2020. Photo by Grace Preston.\nIn close collaboration with NH Fish & Game\, Chris has worked more than 30 years for NH Audubon\, focusing on recovery of several of the state’s endangered and threatened birds of prey like Bald eagles\, Northern Harriers\, and Ospreys.  He recruits\, trains\, and supervises an enthusiastic corps of volunteer field observers who monitor these species all across the state.  \nSpecial thanks to our series sponsor:
URL:https://nhaudubon.org/event/peregrine-falcon-recovery-in-new-hampshire/
LOCATION:Red Barn\, 41 North Shore Road\, Hebron\, NH\, United States
CATEGORIES:Red Barn Speaker Series
ATTACH;FMTTYPE=image/jpeg:https://nhaudubon.org/wp-content/uploads/RedBarnSeries_NewfoundAudubon_image2021-e1625243097769.jpg
ORGANIZER;CN="Newfound Audubon Center":MAILTO:newfoundaud@nhaudubon.org
END:VEVENT
END:VCALENDAR