BEGIN:VCALENDAR
VERSION:2.0
PRODID:-//NH Audubon - ECPv6.15.11//NONSGML v1.0//EN
CALSCALE:GREGORIAN
METHOD:PUBLISH
X-ORIGINAL-URL:https://nhaudubon.org
X-WR-CALDESC:Events for NH Audubon
REFRESH-INTERVAL;VALUE=DURATION:PT1H
X-Robots-Tag:noindex
X-PUBLISHED-TTL:PT1H
BEGIN:VTIMEZONE
TZID:America/New_York
BEGIN:DAYLIGHT
TZOFFSETFROM:-0500
TZOFFSETTO:-0400
TZNAME:EDT
DTSTART:20200308T070000
END:DAYLIGHT
BEGIN:STANDARD
TZOFFSETFROM:-0400
TZOFFSETTO:-0500
TZNAME:EST
DTSTART:20201101T060000
END:STANDARD
BEGIN:DAYLIGHT
TZOFFSETFROM:-0500
TZOFFSETTO:-0400
TZNAME:EDT
DTSTART:20210314T070000
END:DAYLIGHT
BEGIN:STANDARD
TZOFFSETFROM:-0400
TZOFFSETTO:-0500
TZNAME:EST
DTSTART:20211107T060000
END:STANDARD
BEGIN:DAYLIGHT
TZOFFSETFROM:-0500
TZOFFSETTO:-0400
TZNAME:EDT
DTSTART:20220313T070000
END:DAYLIGHT
BEGIN:STANDARD
TZOFFSETFROM:-0400
TZOFFSETTO:-0500
TZNAME:EST
DTSTART:20221106T060000
END:STANDARD
END:VTIMEZONE
BEGIN:VEVENT
DTSTART;TZID=America/New_York:20210803T190000
DTEND;TZID=America/New_York:20210803T201500
DTSTAMP:20260425T150238
CREATED:20210702T164323Z
LAST-MODIFIED:20210726T153440Z
UID:10000831-1628017200-1628021700@nhaudubon.org
SUMMARY:Amphibians and Odonates: Ecosystem Indicators
DESCRIPTION:Red Barn Series\, Newfound Audubon\nNo registration necessary – just come and join us! \nSpeaker: Katie Duryea\, Assistant Professor of Biology\, Southern New Hampshire University \nLearn about Katie’s research at Lund University in Sweden on the reproductive behavior and colorations of odonates (damselflies and dragonflies)\, as well as some of the research that she is doing locally on screening amphibians for chytrid fungus. \nPlease park across the street at Ash Cottage. Download a map here. \nKatie Duryea teaches Biology at Southern New Hampshire University. She also is involved in a research project to survey amphibians in the Manchester area for chytrid fungus – a fungus that can threaten amphibian populations. Before teaching at SNHU\, she did postdoctoral work at Lund University in Southern Sweden where she studied the reproductive behavior and genetics of damselfly insects. \n  \nSpecial thanks to our series sponsor:
URL:https://nhaudubon.org/event/amphibians-and-odonates-ecosystem-indicators/
LOCATION:Red Barn\, 41 North Shore Road\, Hebron\, NH\, United States
CATEGORIES:Red Barn Speaker Series
ATTACH;FMTTYPE=image/jpeg:https://nhaudubon.org/wp-content/uploads/RedBarnSeries_NewfoundAudubon_image2021-e1625243097769.jpg
ORGANIZER;CN="Newfound Audubon Center":MAILTO:newfoundaud@nhaudubon.org
END:VEVENT
END:VCALENDAR